BEGIN:VCALENDAR
VERSION:2.0
PRODID:-//Ville de L&#039;Union - ECPv6.15.13//NONSGML v1.0//EN
CALSCALE:GREGORIAN
METHOD:PUBLISH
X-WR-CALNAME:Ville de L&#039;Union
X-ORIGINAL-URL:https://www.ville-lunion.fr
X-WR-CALDESC:Évènements pour Ville de L&#039;Union
REFRESH-INTERVAL;VALUE=DURATION:PT1H
X-Robots-Tag:noindex
X-PUBLISHED-TTL:PT1H
BEGIN:VTIMEZONE
TZID:Europe/Paris
BEGIN:DAYLIGHT
TZOFFSETFROM:+0100
TZOFFSETTO:+0200
TZNAME:CEST
DTSTART:20200329T010000
END:DAYLIGHT
BEGIN:STANDARD
TZOFFSETFROM:+0200
TZOFFSETTO:+0100
TZNAME:CET
DTSTART:20201025T010000
END:STANDARD
BEGIN:DAYLIGHT
TZOFFSETFROM:+0100
TZOFFSETTO:+0200
TZNAME:CEST
DTSTART:20210328T010000
END:DAYLIGHT
BEGIN:STANDARD
TZOFFSETFROM:+0200
TZOFFSETTO:+0100
TZNAME:CET
DTSTART:20211031T010000
END:STANDARD
BEGIN:DAYLIGHT
TZOFFSETFROM:+0100
TZOFFSETTO:+0200
TZNAME:CEST
DTSTART:20220327T010000
END:DAYLIGHT
BEGIN:STANDARD
TZOFFSETFROM:+0200
TZOFFSETTO:+0100
TZNAME:CET
DTSTART:20221030T010000
END:STANDARD
END:VTIMEZONE
BEGIN:VEVENT
DTSTART;VALUE=DATE:20210621
DTEND;VALUE=DATE:20210907
DTSTAMP:20260421T113718
CREATED:20210518T093515Z
LAST-MODIFIED:20210907T130523Z
UID:46852-1624233600-1630972799@www.ville-lunion.fr
SUMMARY:Exposition photo - La ville et ses habitants
DESCRIPTION:Le parc du château de Malpagat accueillera au mois de juin et pour tout l’été\,une exposition photos en extérieur avec un thème bien particulier : La ville et ses habitants. \nEntrée coté impasse du Lac Bleu
URL:https://www.ville-lunion.fr/evenement/exposition-photo-la-ville-et-ses-habitants/
LOCATION:Parc de Malpagat\, L'UNION\, 31240
CATEGORIES:Exposition
ATTACH;FMTTYPE=image/png:https://www.ville-lunion.fr/wp-content/uploads/2021/05/Affiche-expo-photo.png
ORGANIZER;CN="Mairie service Communication%2C Culture%2C Animation.":MAILTO:cca@mairie-lunion.fr
END:VEVENT
BEGIN:VEVENT
DTSTART;TZID=Europe/Paris:20210904T100000
DTEND;TZID=Europe/Paris:20210904T170000
DTSTAMP:20260421T113718
CREATED:20210810T091435Z
LAST-MODIFIED:20210820T152521Z
UID:47841-1630749600-1630774800@www.ville-lunion.fr
SUMMARY:Forum des associations
DESCRIPTION:Forum des associations se déroulera le samedi 4 septembre 2021 \nde 10h à 12h à la Grande Halle \nde 10h à 17h à la Maison des Sports pour les associations sportives \nEntrée libre et gratuite \nPass sanitaire obligatoire
URL:https://www.ville-lunion.fr/evenement/forum-des-associations-6/
LOCATION:maison des sports\, rue du Puy de Sancy\, L'Union\, 31240
CATEGORIES:Associations
ATTACH;FMTTYPE=image/png:https://www.ville-lunion.fr/wp-content/uploads/2021/08/Affiche-forum-BD-4.png
END:VEVENT
BEGIN:VEVENT
DTSTART;TZID=Europe/Paris:20210905T140000
DTEND;TZID=Europe/Paris:20210905T170000
DTSTAMP:20260421T113718
CREATED:20210707T141633Z
LAST-MODIFIED:20230301T100758Z
UID:47341-1630850400-1630861200@www.ville-lunion.fr
SUMMARY:Siestes musicales
DESCRIPTION:Cet été\, venez profiter de la fraîcheur du parc Malpagat tout en musique ! \nLes dimanche 8 et 22 août ainsi que le dimanche 5 septembre\, une ambiance musicale accompagnera vos après-midi de 14h à 17h. \nUn livre\, des mots croisés ou tout simplement un chapeau et des lunettes de soleil\, venez vous reposer sous les arbres du parc au rythme de la musique. \nMunis de votre transat ou de votre paréo\, vous pourrez profiter d’une ambiance détendue pour célébrer l’été !
URL:https://www.ville-lunion.fr/evenement/siestes-musicales-3/
LOCATION:Parc de Malpagat\, L'UNION\, 31240
CATEGORIES:Spectacles
ATTACH;FMTTYPE=image/png:https://www.ville-lunion.fr/wp-content/uploads/2021/07/Affiche-siestes-musicales.png
END:VEVENT
BEGIN:VEVENT
DTSTART;TZID=Europe/Paris:20210911T143000
DTEND;TZID=Europe/Paris:20210911T170000
DTSTAMP:20260421T113718
CREATED:20210810T100230Z
LAST-MODIFIED:20210810T100619Z
UID:47845-1631370600-1631379600@www.ville-lunion.fr
SUMMARY:1518 L'épidémie
DESCRIPTION:Présenté dans le cadre de l’évènement EXIT à l’initiative de L’Usine\, Centre national des arts de la rue et de l’espace public par la Compagnie L’Etabli – Danse\n \nNous vous invitons dès la rentrée à venir explorer le parc Malpagat avec ce premier spectacle de la saison\, inspiré d’un fait réel. \nStrasbourg\, été 1518. Frau Troffea sort de chez elle et commence à danser. Des dizaines\, des centaines de personnes lui emboîtent le pas\, jusqu’à créer une épidémie. Une foule de personnes qui bougent\, sautent\, dansent\, ensemble\, jour et nuit. \nLe mystère qui entoure cette histoire intrigue. Qui peut dire avec certitude pourquoi cette femme s’est mise à danser ce jour-là ? Pourquoi d’autres l’ont suivie un mois durant ? \nEt aujourd’hui\, vous laisserez-vous emporter par cet élan du corps ? \nSpectacle sur réservation en suivant ce lien : https://www.billetweb.fr/1518-lepidemie-dansez-plus-fort-car-on-pourrait-bien-vous-entendre-letabli \n  \n 
URL:https://www.ville-lunion.fr/evenement/1518-lepidemie/
LOCATION:Parc de Malpagat\, L'UNION\, 31240
CATEGORIES:Spectacles
ATTACH;FMTTYPE=image/jpeg:https://www.ville-lunion.fr/wp-content/uploads/2021/08/exit.jpg
END:VEVENT
BEGIN:VEVENT
DTSTART;TZID=Europe/Paris:20210918T100000
DTEND;TZID=Europe/Paris:20210918T120000
DTSTAMP:20260421T113718
CREATED:20210810T101152Z
LAST-MODIFIED:20210810T101152Z
UID:47848-1631959200-1631966400@www.ville-lunion.fr
SUMMARY:World Clean Up ed. 2021
DESCRIPTION:Cette année à nouveau la ville de L’Union participe au World Clean up day qui depuis 2017 réunit des millions de participants partout dans le monde et en France pour nettoyer la nature. Pour cette 4ème année consécutive\, L’Union sera ville hôte de l’évènement et vous donne rendez-vous le samedi 18 septembre de 10h à 12h pour nettoyer cette zone et sensibiliser encore un peu plus toutes les générations à la cause environnementale. \nVenez passez 2h à ramasser et trier les déchets le long de L’Hers en compagnie de bénévoles. \nL’organisation aura quelques paires de gants fournies par la mairie mais amenez les vôtres et des vieux sacs de courses réutilisables. Si vous souhaitez aller dans l’herbe\, pensez à prendre vos bottes et pantalons longs. \nLe départ se fera sur le parking du McDonald à 10h.
URL:https://www.ville-lunion.fr/evenement/world-clean-up-ed-2021/
CATEGORIES:Mairie
ATTACH;FMTTYPE=image/jpeg:https://www.ville-lunion.fr/wp-content/uploads/2021/08/DSC_1131-scaled.jpg
END:VEVENT
BEGIN:VEVENT
DTSTART;TZID=Europe/Paris:20210919T080000
DTEND;TZID=Europe/Paris:20210919T180000
DTSTAMP:20260421T113718
CREATED:20210709T135626Z
LAST-MODIFIED:20210908T102051Z
UID:47409-1632038400-1632074400@www.ville-lunion.fr
SUMMARY:Vide Grenier de L'Union Festivités
DESCRIPTION:Le prochain vide grenier de L’Union Festivités aura lieu le dimanche 19 septembre de 8h à 18h place des Acacias. \nLes inscriptions se dérouleront le samedi 11 septembre à 14h à la salle de l’Olivier (Rue du pic du midi). \nPour télécharger l’attestation à remplir lors de l’inscription cliquez ici.
URL:https://www.ville-lunion.fr/evenement/vide-grenier-de-lunion-festivites-2/
LOCATION:CC des ACACIAS\, Avenue des Acacias\, L'UNION\, 31240\, France
CATEGORIES:Associations
ATTACH;FMTTYPE=image/jpeg:https://www.ville-lunion.fr/wp-content/uploads/2021/07/IMG_1723-scaled.jpg
END:VEVENT
BEGIN:VEVENT
DTSTART;TZID=Europe/Paris:20210919T100000
DTEND;TZID=Europe/Paris:20210919T120000
DTSTAMP:20260421T113718
CREATED:20210810T101346Z
LAST-MODIFIED:20210914T133559Z
UID:47852-1632045600-1632052800@www.ville-lunion.fr
SUMMARY:A la rencontre des arbres et arbustes de bord des eaux
DESCRIPTION:La Ville de L’Union travaille depuis plusieurs années en partenariat avec l’association Arbres et Paysages d’Autan\, dont l’objectif est de promouvoir le rôle de l’arbre de pays et de la haie champêtre. \nAfin de mieux connaître le patrimoine arboré naturel de la commune et d’appréhender le rôle des arbres et arbustes locaux dans l’environnement\, nous vous invitons à partir à leur rencontre lors d’une balade familiale au bord du lac et le long de la Sausse. \nArbres et Paysages prendra soin de vous apprendre à observer les détails qui vous permettront de reconnaître les arbres\, les « petites histoires » qui y sont liées\, les usages traditionnels ou actuels\, leur importance dans le renforcement de la Trame verte et bleue… \nPrenez date ! Rendez-vous le dimanche 19 septembre à 10h00 au niveau à l’entrée lac\, avenue de Bayonne pour un petit bol de Nature ludique et pédagogique ! \nSur inscription au 05 62 89 22 42 ou a susanna.darragi@mairie-lunion.fr
URL:https://www.ville-lunion.fr/evenement/a-la-rencontre-des-arbres-et-arbustes-de-bord-des-eaux/
LOCATION:Halle St Caprais\, Route de Bayonne\, L'Union\, 31240
CATEGORIES:Associations
ATTACH;FMTTYPE=image/jpeg:https://www.ville-lunion.fr/wp-content/uploads/2016/12/libellule_sur_sureau-scaled-1.jpg
END:VEVENT
BEGIN:VEVENT
DTSTART;TZID=Europe/Paris:20210921T090000
DTEND;TZID=Europe/Paris:20210921T123000
DTSTAMP:20260421T113718
CREATED:20210810T101535Z
LAST-MODIFIED:20210910T081721Z
UID:47854-1632214800-1632227400@www.ville-lunion.fr
SUMMARY:Forum de l'emploi
DESCRIPTION:4ème forum de l’emploi intercommunal  \nPour la quatrième année consécutive\, le forum de l’emploi intercommunal aura lieu le mardi 21 septembre à la Grande Halle de L’Union. Il s’agit d’un forum de recrutement intercommunal qui se déroulera également sur d’autres communes voisines (Launaguet/ Fonbeauzard/ Aucamville/ St Jean). Le forum de recrutement se déroule sur la commune de L’Union mais en amont des ateliers de préparation sont organisés dans toutes les communes partenaires (Launaguet/ Fonbeauzard/ Aucamville/ St Jean/L’Union) \nUne soixantaine d’entreprises du secteur proposeront des offres d’emploi pour recruter de nouveaux collaborateurs. Des partenaires de l’Emploi avec lesquels la mairie a des conventions (Pôle Emploi/ Mission Locale/ UCRM Robert Monnier/ PLIE/ associations de parrainage EGEE et Trajectoire/ BGE…) sont également associés au forum. \nCe forum de l’emploi s’adresse à toutes les personnes en recherche d’emploi inscrites ou pas à Pôle Emploi ou bien des salariés voulant changer d’entreprise… \nCe temps fort en faveur de l’emploi à L’Union permet de mettre en relation l’offre et la demande\, les entreprises et les demandeurs d’emploi afin de faciliter le recrutement.
URL:https://www.ville-lunion.fr/evenement/forum-de-lemploi-2/
LOCATION:Grande Halle de l’Union\, Rue du Somport\, L'Union\, 31240\, France
CATEGORIES:Mairie
ATTACH;FMTTYPE=application/pdf:https://www.ville-lunion.fr/wp-content/uploads/2021/08/AFFICHE-DEF-FORUM.emploi.pdf
END:VEVENT
BEGIN:VEVENT
DTSTART;TZID=Europe/Paris:20210922T183000
DTEND;TZID=Europe/Paris:20210922T230000
DTSTAMP:20260421T113718
CREATED:20210810T103040Z
LAST-MODIFIED:20210907T072743Z
UID:47861-1632335400-1632351600@www.ville-lunion.fr
SUMMARY:Réunion Publique - Aménagement de la seconde tranche de la peupleraie
DESCRIPTION:Réunion publique du 22 septembre sur l’aménagement de la seconde tranche de la peupleraie \nLa zone laissée libre par l’exploitation prévue de la seconde tranche de la peupleraie permettra de poursuivre les aménagements débutés il y a 3 ans.  \nToujours dans l’idée de créer un aménagement favorisant la biodiversité locale\, renforçant la Trame verte et bleue le long de la Sausse tout en créant un espace agréable de balade et de découverte de la Nature pour les unionnais\, la plantation de cette seconde tranche de la peupleraie sera constituée d’arbres et arbustes de pays. \nAfin de répondre au mieux aux attentes des habitants et usagers\, une réunion publique sera organisée le 22 septembre à 18h30 à la salle des fêtes afin de présenter différents scenarii et définir de façon concertée le scenario final autour de ce projet fédérant de nombreux partenaires : ONF\, Arbres et Paysages d’Autan\, SBHG\, Nature en Occitanie…
URL:https://www.ville-lunion.fr/evenement/reunion-publique-amenagement-de-la-seconde-tranche-de-la-peupleraie/
LOCATION:Salle des fêtes de L’Union\, 6 Avenue des Pyrénées\, L'Union\, 31240\, France
CATEGORIES:Mairie
ATTACH;FMTTYPE=image/png:https://www.ville-lunion.fr/wp-content/uploads/2021/08/peupleraie.png
END:VEVENT
BEGIN:VEVENT
DTSTART;VALUE=DATE:20210926
DTEND;VALUE=DATE:20210927
DTSTAMP:20260421T113718
CREATED:20210913T080205Z
LAST-MODIFIED:20210913T080205Z
UID:48180-1632614400-1632700799@www.ville-lunion.fr
SUMMARY:Navigation Maquettes - ANNULE
DESCRIPTION:Évènement annulé par l’association
URL:https://www.ville-lunion.fr/evenement/navigation-maquettes-annule/
CATEGORIES:Associations
ATTACH;FMTTYPE=image/png:https://www.ville-lunion.fr/wp-content/uploads/2021/09/maquettes.png
END:VEVENT
BEGIN:VEVENT
DTSTART;TZID=Europe/Paris:20210929T183000
DTEND;TZID=Europe/Paris:20210929T230000
DTSTAMP:20260421T113718
CREATED:20210810T101744Z
LAST-MODIFIED:20210923T144918Z
UID:47856-1632940200-1632956400@www.ville-lunion.fr
SUMMARY:Conseil Municipal
DESCRIPTION:Cela faisait plus d’un an que les conseils municipaux étaient limités à une retransmission Facebook à cause du contexte sanitaire. Dorénavant\, et depuis le conseil de juin\, les séances du conseil municipal sont ouvertes au public. La prochaine aura lieu le mercredi 29 septembre à 18h30 à la salle des fêtes et sera ouverte au public (jauge 30 pers.). \nVous pouvez toujours le suivre en direct sur la page Facebook de la ville de L’Union.
URL:https://www.ville-lunion.fr/evenement/conseil-municipal-25/
LOCATION:Salle des fêtes de L’Union\, 6 Avenue des Pyrénées\, L'Union\, 31240\, France
CATEGORIES:Mairie
ATTACH;FMTTYPE=image/jpeg:https://www.ville-lunion.fr/wp-content/uploads/2020/11/DSC_0272-scaled.jpg
END:VEVENT
END:VCALENDAR