BEGIN:VCALENDAR
VERSION:2.0
PRODID:-//Ville de L&#039;Union - ECPv6.15.13//NONSGML v1.0//EN
CALSCALE:GREGORIAN
METHOD:PUBLISH
X-ORIGINAL-URL:https://www.ville-lunion.fr
X-WR-CALDESC:Évènements pour Ville de L&#039;Union
REFRESH-INTERVAL;VALUE=DURATION:PT1H
X-Robots-Tag:noindex
X-PUBLISHED-TTL:PT1H
BEGIN:VTIMEZONE
TZID:Europe/Paris
BEGIN:DAYLIGHT
TZOFFSETFROM:+0100
TZOFFSETTO:+0200
TZNAME:CEST
DTSTART:20200329T010000
END:DAYLIGHT
BEGIN:STANDARD
TZOFFSETFROM:+0200
TZOFFSETTO:+0100
TZNAME:CET
DTSTART:20201025T010000
END:STANDARD
BEGIN:DAYLIGHT
TZOFFSETFROM:+0100
TZOFFSETTO:+0200
TZNAME:CEST
DTSTART:20210328T010000
END:DAYLIGHT
BEGIN:STANDARD
TZOFFSETFROM:+0200
TZOFFSETTO:+0100
TZNAME:CET
DTSTART:20211031T010000
END:STANDARD
BEGIN:DAYLIGHT
TZOFFSETFROM:+0100
TZOFFSETTO:+0200
TZNAME:CEST
DTSTART:20220327T010000
END:DAYLIGHT
BEGIN:STANDARD
TZOFFSETFROM:+0200
TZOFFSETTO:+0100
TZNAME:CET
DTSTART:20221030T010000
END:STANDARD
END:VTIMEZONE
BEGIN:VEVENT
DTSTART;TZID=Europe/Paris:20210508T160000
DTEND;TZID=Europe/Paris:20210508T160000
DTSTAMP:20260421T165028
CREATED:20200817T101931Z
LAST-MODIFIED:20210414T090652Z
UID:41832-1620489600-1620489600@www.ville-lunion.fr
SUMMARY:LA GRANDE AUDITION - ANNULÉ
DESCRIPTION:À la Grande Halle de L’Union\, le samedi 08 mai\, l’École Musique du Pôle musical de L’Union proposera\, comme chaque année\, sa Grande Audition. Un événement qui certes met en valeur les progrès accomplis par ses ensembles mais qui\, aussi\, vous transmet leur passion: la musique. Cette année\, vous pourrez apprécier L’orchestre école\, l’orchestre symphonique et le big-band. Laissez-vous tenter par ce délicieux mélange. \n 
URL:https://www.ville-lunion.fr/evenement/la-grande-audition/
LOCATION:Grande Halle de l’Union\, Rue du Somport\, L'Union\, 31240\, France
CATEGORIES:Associations
ATTACH;FMTTYPE=image/jpeg:https://www.ville-lunion.fr/wp-content/uploads/2020/08/MG_5833-scaled.jpg
END:VEVENT
BEGIN:VEVENT
DTSTART;TZID=Europe/Paris:20210508T163000
DTEND;TZID=Europe/Paris:20210508T180000
DTSTAMP:20260421T165028
CREATED:20210312T101255Z
LAST-MODIFIED:20210312T101255Z
UID:45695-1620491400-1620496800@www.ville-lunion.fr
SUMMARY:Armistice de la seconde guerre mondiale
DESCRIPTION:
URL:https://www.ville-lunion.fr/evenement/armistice-de-la-seconde-guerre-mondiale/
LOCATION:Parvis du collège\, 9 bis avenue des Pyrénées\, l'union\, 31240
CATEGORIES:Manifestations
ATTACH;FMTTYPE=image/jpeg:https://www.ville-lunion.fr/wp-content/uploads/2021/03/DSC_0176-scaled.jpg
END:VEVENT
BEGIN:VEVENT
DTSTART;TZID=Europe/Paris:20210511T090000
DTEND;TZID=Europe/Paris:20210511T120000
DTSTAMP:20260421T165028
CREATED:20201208T085912Z
LAST-MODIFIED:20201208T090212Z
UID:42804-1620723600-1620734400@www.ville-lunion.fr
SUMMARY:Permanence Info-Energie
DESCRIPTION:4 Conseillers donnent des conseils – gratuits et indépendants – sur toutes les questions relatives aux économies d’énergie dans le logement. \n\nTravaux de rénovation thermique : priorités\, recommandations\, avis sur devis\nAides financières\nMieux comprendre sa facture\nCritères de choix d’un fournisseur d’électricité et de gaz naturel. Les modalités de changement.\nPetits équipements et les comportements économes\nChèque énergie\n\nLes rendez-vous pris seront assurés à distance\, par téléphone ou en visioconférence.
URL:https://www.ville-lunion.fr/evenement/permanence-info-energie-2/
LOCATION:Mairie – salle des mariages\, 6bis avenue des Pyrénées\, L'UNION\, 31240
CATEGORIES:Mairie
END:VEVENT
BEGIN:VEVENT
DTSTART;VALUE=DATE:20210514
DTEND;VALUE=DATE:20210516
DTSTAMP:20260421T165028
CREATED:20200814T093748Z
LAST-MODIFIED:20210414T081725Z
UID:41770-1620950400-1621123199@www.ville-lunion.fr
SUMMARY:CONCERT DES HARMONIES - ANNULÉ
DESCRIPTION:L’Orchestre d’Harmonie le Vernet est une jeune formation musicale associative qui\, depuis 2016\, regroupe des musiciens de deux harmonies jusqu’alors voisines : celles de Venerque et du Vernet. Aujourd’hui\, 50 musiciens amateurs partageant tous l’envie et le plaisir de jouer ensemble dans une ambiance chaleureuse\, sous la baguette bienveillante et non moins exigeante de leur chef\, Cyril Devaux. \nTOUT PUBLIC
URL:https://www.ville-lunion.fr/evenement/soiree-de-lharmonie/
LOCATION:Grande Halle de l’Union\, Rue du Somport\, L'Union\, 31240\, France
CATEGORIES:Associations
ATTACH;FMTTYPE=image/png:https://www.ville-lunion.fr/wp-content/uploads/2020/08/Soirée-Harmonie.png
END:VEVENT
BEGIN:VEVENT
DTSTART;TZID=Europe/Paris:20210515T200000
DTEND;TZID=Europe/Paris:20210515T230000
DTSTAMP:20260421T165028
CREATED:20210414T082240Z
LAST-MODIFIED:20210414T082240Z
UID:46555-1621108800-1621119600@www.ville-lunion.fr
SUMMARY:Access Crew - Concert Live
DESCRIPTION:Access Crew : Samedi 15 mai 20h en direct sur le Facebook de la ville \nLa formule gagnante des concerts en direct continue avec un groupe qui définit son style comme « funky-groovy-baby ». Retrouvez les cinq musiciens hauts en couleur du groupe Access Crew qui s’inspirent du rock progressif et de la disco-house en passant par la musique électronique pour faire groover les foules. Soyez connectés le 15 mai à la page Facebook de la ville de L’Union @villedelunion\, ça va bouger.
URL:https://www.ville-lunion.fr/evenement/access-crew-concert-live/
CATEGORIES:Spectacles
ATTACH;FMTTYPE=image/jpeg:https://www.ville-lunion.fr/wp-content/uploads/2021/04/ACCESS-CREW-LOGO.jpg
END:VEVENT
BEGIN:VEVENT
DTSTART;TZID=Europe/Paris:20210521T190000
DTEND;TZID=Europe/Paris:20210521T230000
DTSTAMP:20260421T165028
CREATED:20210414T083413Z
LAST-MODIFIED:20230303T102512Z
UID:46558-1621623600-1621638000@www.ville-lunion.fr
SUMMARY:Soirée FoodTrucks - Annulé
DESCRIPTION:Soirée Foodtruck : Le rassemblement de Food Trucks gastronomiques ! \nVenez à la première soirée food trucks à L’Union le vendredi 21 mai 2021 place San Biagio. \nUne découverte gourmande des produits de notre région. Un travail de produits qualitatifs\, locaux\, gourmands\, au gré du marché\, mais aussi des produits labellisés (SIQO). \nUniquement des trucks\, bonne ambiance\, scène musicale\, convivialité … pour découvrir ou redécouvrir des recettes avec des produits régionaux ; sur place ou à emporter ! Et toujours avec des dégustations/découvertes des vins du sud-ouest ! (IVSO) \nDe 5 Food Trucks seront présents pour éveiller vos papilles.
URL:https://www.ville-lunion.fr/evenement/soiree-foodtrucks/
LOCATION:Place San Biagio\, place San Biagio\, L'UNION\, 31240\, France
CATEGORIES:Manifestations
ATTACH;FMTTYPE=image/jpeg:https://www.ville-lunion.fr/wp-content/uploads/2021/04/foodtruck.jpg
END:VEVENT
BEGIN:VEVENT
DTSTART;TZID=Europe/Paris:20210525T090000
DTEND;TZID=Europe/Paris:20210525T123000
DTSTAMP:20260421T165028
CREATED:20210414T083757Z
LAST-MODIFIED:20210518T092500Z
UID:46561-1621933200-1621945800@www.ville-lunion.fr
SUMMARY:Forum de l'emploi - Reporté
DESCRIPTION:En raison des mesures sanitaires\, le forum de l’emploi est reporté au 21 septembre 2021. \nLes ateliers quant à eux sont maintenus. \nFORUM INTERCOMMUNAL DE RECRUTEMENT  \n25 MAI 2021 de 9 h-12h30 à la Grande Halle de L’union \nPour vous préparer à ce forum\, des ateliers gratuits sont organisés dans les 5 communes partenaires : \nAucamville : mardi 18/05 \n9H-12H et 14 h 17 h : Comment accélérer sa recherche d’emploi avec les réseaux sociaux professionnels – animé par EGEE \n9H-12H : Conférence sur l’alternance \nFonbeauzard : mardi 18/05 \n14h-17h : Ateliers sur l’alternance \nLaunaguet : jeudi 20/05 \n9h-12 h : Préparation collective aux entretiens – Animé par Trajectoire \n14h-17h : Préparation individuelle aux entretiens – Animé par Trajectoire \nL’Union : vendredi 21/05 \n9h-12h : Atelier CV vidéo animé par EGEE sur inscription à emploi@mairie-lunion.fr ou par téléphone au 05 62 79 86 15 \nSt Jean : jeudi 20/05 \n9h30-12h : Les métiers de la petite enfance animé par Pôle Emploi à l’espace Séniors des Granges \n 
URL:https://www.ville-lunion.fr/evenement/forum-de-lemploi-3/
LOCATION:Grande Halle de l’Union\, Rue du Somport\, L'Union\, 31240\, France
CATEGORIES:Mairie
END:VEVENT
BEGIN:VEVENT
DTSTART;VALUE=DATE:20210528
DTEND;VALUE=DATE:20210531
DTSTAMP:20260421T165028
CREATED:20200814T133457Z
LAST-MODIFIED:20200818T083343Z
UID:41804-1622160000-1622419199@www.ville-lunion.fr
SUMMARY:LES THÉÂTRALES DE L’UNION
DESCRIPTION:Ce festival est organisé par une toute nouvelle association constituée de membres des associations unionaises « le théâtre de l’olivier »\, «La troupe de l’oiseau moqueur »\, et le Comité Départemental 31 de la Fédération Nationale des Compagnies de Théâtre Amateur et d’Animation (FNCTA). Vous êtes invités à découvrir des spectacles de qualité\, reflétant toute la vitalité et la diversité du théâtre en amateur avec de la comédie\, du drame\, de la lecture\, des sketchs\, des spectacles pour enfants et pleins d’autres genres … Vive le théâtre ! \nTOUT PUBLIC\nPlacement libre \nUn bar est à votre disposition entre les spectacles. \nTarifs : 8 € – * 6 € – **4 € (*étudiants\, adhérents FNCTA\, demandeurs d’emploi ; **enfant + 12 ans)\nGratuit : enfants de – 12 ans\nTarif matinée enfants : 4€ + un accompagnateur gratuit –  Adultes : 4€ \nInformations et réservations :\nwww.festik.net • lestheatralesdelunion@gmail.com\n06 40 73 63 09\, et avant chaque spectacle à l’entrée de la Salle des Fêtes.
URL:https://www.ville-lunion.fr/evenement/les-theatrales-de-lunion-3/
LOCATION:Salle des fêtes de L’Union\, 6 Avenue des Pyrénées\, L'Union\, 31240\, France
CATEGORIES:Associations
ATTACH;FMTTYPE=image/png:https://www.ville-lunion.fr/wp-content/uploads/2020/08/Les-théâtrales.png
END:VEVENT
BEGIN:VEVENT
DTSTART;TZID=Europe/Paris:20210529T163000
DTEND;TZID=Europe/Paris:20210529T173000
DTSTAMP:20260421T165028
CREATED:20210312T101348Z
LAST-MODIFIED:20210518T091839Z
UID:45697-1622305800-1622309400@www.ville-lunion.fr
SUMMARY:Journée nationale de la résistance
DESCRIPTION:En raison des mesures sanitaires en vigueur\, la cérémonie se déroulera à huis clos.
URL:https://www.ville-lunion.fr/evenement/journee-nationale-de-la-resistance/
LOCATION:Parvis du collège\, 9 bis avenue des Pyrénées\, l'union\, 31240
CATEGORIES:Manifestations
ATTACH;FMTTYPE=image/jpeg:https://www.ville-lunion.fr/wp-content/uploads/2021/03/DSC_0176-scaled.jpg
END:VEVENT
END:VCALENDAR