BEGIN:VCALENDAR
VERSION:2.0
PRODID:-//Ville de L&#039;Union - ECPv6.15.13//NONSGML v1.0//EN
CALSCALE:GREGORIAN
METHOD:PUBLISH
X-ORIGINAL-URL:https://www.ville-lunion.fr
X-WR-CALDESC:Évènements pour Ville de L&#039;Union
REFRESH-INTERVAL;VALUE=DURATION:PT1H
X-Robots-Tag:noindex
X-PUBLISHED-TTL:PT1H
BEGIN:VTIMEZONE
TZID:Europe/Paris
BEGIN:DAYLIGHT
TZOFFSETFROM:+0100
TZOFFSETTO:+0200
TZNAME:CEST
DTSTART:20200329T010000
END:DAYLIGHT
BEGIN:STANDARD
TZOFFSETFROM:+0200
TZOFFSETTO:+0100
TZNAME:CET
DTSTART:20201025T010000
END:STANDARD
BEGIN:DAYLIGHT
TZOFFSETFROM:+0100
TZOFFSETTO:+0200
TZNAME:CEST
DTSTART:20210328T010000
END:DAYLIGHT
BEGIN:STANDARD
TZOFFSETFROM:+0200
TZOFFSETTO:+0100
TZNAME:CET
DTSTART:20211031T010000
END:STANDARD
BEGIN:DAYLIGHT
TZOFFSETFROM:+0100
TZOFFSETTO:+0200
TZNAME:CEST
DTSTART:20220327T010000
END:DAYLIGHT
BEGIN:STANDARD
TZOFFSETFROM:+0200
TZOFFSETTO:+0100
TZNAME:CET
DTSTART:20221030T010000
END:STANDARD
END:VTIMEZONE
BEGIN:VTIMEZONE
TZID:Africa/Abidjan
BEGIN:STANDARD
TZOFFSETFROM:+0000
TZOFFSETTO:+0000
TZNAME:GMT
DTSTART:20200101T000000
END:STANDARD
END:VTIMEZONE
BEGIN:VEVENT
DTSTART;TZID=Europe/Paris:20210404T160000
DTEND;TZID=Europe/Paris:20210404T170000
DTSTAMP:20260421T181157
CREATED:20201211T111253Z
LAST-MODIFIED:20210325T092833Z
UID:42880-1617552000-1617555600@www.ville-lunion.fr
SUMMARY:Ciné-Concert H2O - ANNULÉ
DESCRIPTION:Réalisé en 1923 par Wallace Worsley\, le film muet « Notre-Dame de Paris » est considéré comme une des plus belles adaptations du roman de Victor Hugo à l’écran. On construisit pour l’occasion des décors monumentaux\, reproduisant la façade de la cathédrale\, le parvis et des ruelles du Paris médiéval et des centaines de figurants furent mobilisés sur le tournage. Mais le plus spectaculaire reste la performance inoubliable de Lon Chaney\, « l’homme aux milles visages »\, dans le rôle de Quasimodo. Cette interprétation magistrale assurera un immense succès au film.\nPrésenté en ciné-concert comme aux plus belles heures du cinéma muer\, ce chef d’oeuvre sera accompagné par l’orchestre d’harmonie toulousain H2O sous la direction de Quentin Ferradou\, avec une musique originale composée par Raphaël Howson et orchestrée par Anthony Lézian.
URL:https://www.ville-lunion.fr/evenement/cine-concert-h2o/
LOCATION:Grande Halle de l’Union\, Rue du Somport\, L'Union\, 31240\, France
CATEGORIES:Spectacles
END:VEVENT
BEGIN:VEVENT
DTSTART;TZID=Europe/Paris:20210405T100000
DTEND;TZID=Europe/Paris:20210405T120000
DTSTAMP:20260421T181157
CREATED:20210323T134508Z
LAST-MODIFIED:20210402T123628Z
UID:46045-1617616800-1617624000@www.ville-lunion.fr
SUMMARY:Chasse aux œufs - Parc Malpagat*
DESCRIPTION:L’Union Festivités vous invite le lundi 5 avril 2021 de 10h à 12h à participer à LA CHASSE AUX ŒUFS au Parc de Malpagat pour les petits Unionais de 3 à 10 ans accompagnés de leur parents \nGroupes limités à 6 personnes\, enfants compris. \nAttention :  \n\nEn cas d’intempérie l’animation sera annulée\nPort du masque obligatoire\n\n  \n*Sous réserve des mesures sanitaires en vigueur
URL:https://www.ville-lunion.fr/evenement/chasse-aux-oeufs-parc-malpagat/
LOCATION:Parc de Malpagat\, L'UNION\, 31240
CATEGORIES:Associations
ATTACH;FMTTYPE=image/png:https://www.ville-lunion.fr/wp-content/uploads/2021/03/Capture-décran-2021-03-25-à-10.13.28.png
END:VEVENT
BEGIN:VEVENT
DTSTART;TZID=Europe/Paris:20210410T203000
DTEND;TZID=Europe/Paris:20210410T203000
DTSTAMP:20260421T181157
CREATED:20200814T130029Z
LAST-MODIFIED:20210205T160550Z
UID:41798-1618086600-1618086600@www.ville-lunion.fr
SUMMARY:SOIRÉE FLAMENCO - ANNULÉE
DESCRIPTION:Pour son 20ème anniversaire\, le festival flamenco de Toulouse en partenariat avec la ville de l’Union\, présente la bailaora Olga Llorente\, prix ‘Desplante’ au prestigieux concours de la Unión en 2019. ‘Así lo siento’ s’articule autour des sentiments de la vie\, qui s’entrelacent comme un livre ouvert sur un corps en mouvement. Par sa danse\, l’artiste vise la liberté absolue\, exprimant toute la palette des émotions\, la joie et la peine\, le doute et la peur\, la douleur et la colère… ‘Así lo siento’ \, un spectacle de facture classique qui comblera les aficionados et séduira les néophytes. \nTOUT PUBLIC\nPlacement libre \nDurée : 2H \nInformations et réservations :\nfestik.net/ et 05 62 89 22 86 (mairie)\nwww.festival-flamenco-toulouse.fr \n 
URL:https://www.ville-lunion.fr/evenement/soiree-flamenco/
LOCATION:Grande Halle de l’Union\, Rue du Somport\, L'Union\, 31240\, France
CATEGORIES:Spectacles
ATTACH;FMTTYPE=image/png:https://www.ville-lunion.fr/wp-content/uploads/2020/08/Flamenco.png
END:VEVENT
BEGIN:VEVENT
DTSTART;TZID=Africa/Abidjan:20210414T183000
DTEND;TZID=Africa/Abidjan:20210414T183000
DTSTAMP:20260421T181157
CREATED:20201112T155357Z
LAST-MODIFIED:20210409T082817Z
UID:42615-1618425000-1618425000@www.ville-lunion.fr
SUMMARY:CONSEIL MUNICIPAL
DESCRIPTION:Le conseil municipal sera diffusé en direct à partir de 18h30 sur la page Facebook de L’Union. \nLa séance de pré-conseil présentera « Rallumons l’étoile »\, le projet de RER Toulousain.\nPosez-vos questions sur le projet dès à présent à l’adresse courrier@mairie-lunion.fr\, et le soir même en direct sur le live Facebook.
URL:https://www.ville-lunion.fr/evenement/conseil-municipal-26/
LOCATION:Salle des fêtes de L’Union\, 6 Avenue des Pyrénées\, L'Union\, 31240\, France
CATEGORIES:Mairie
ATTACH;FMTTYPE=image/jpeg:https://www.ville-lunion.fr/wp-content/uploads/2020/11/DSC_0272-scaled.jpg
END:VEVENT
BEGIN:VEVENT
DTSTART;VALUE=DATE:20210426
DTEND;VALUE=DATE:20210501
DTSTAMP:20260421T181157
CREATED:20210326T103350Z
LAST-MODIFIED:20210406T143158Z
UID:46198-1619395200-1619827199@www.ville-lunion.fr
SUMMARY:Macadam'Art - ANNULÉ
DESCRIPTION:évènement organisé par la MJC. \nRendez-vous du 26 au 30 à la halle saint Caprais et le 28 et le 30 après-midi place San Biagio \n  \n 
URL:https://www.ville-lunion.fr/evenement/macadamart/
LOCATION:Halle St Caprais\, Route de Bayonne\, L'Union\, 31240
CATEGORIES:Associations
END:VEVENT
BEGIN:VEVENT
DTSTART;TZID=Europe/Paris:20210426T140000
DTEND;TZID=Europe/Paris:20210428T190000
DTSTAMP:20260421T181157
CREATED:20210315T113227Z
LAST-MODIFIED:20220701T124153Z
UID:45719-1619445600-1619636400@www.ville-lunion.fr
SUMMARY:Don du sang
DESCRIPTION:
URL:https://www.ville-lunion.fr/evenement/don-du-sang-3/
LOCATION:Grande Halle de l’Union\, Rue du Somport\, L'Union\, 31240\, France
CATEGORIES:Associations
ATTACH;FMTTYPE=image/jpeg:https://www.ville-lunion.fr/wp-content/uploads/2016/12/don-du-sang-2-e1679328827837.jpg
END:VEVENT
END:VCALENDAR