BEGIN:VCALENDAR
VERSION:2.0
PRODID:-//Ville de L&#039;Union - ECPv6.15.13//NONSGML v1.0//EN
CALSCALE:GREGORIAN
METHOD:PUBLISH
X-WR-CALNAME:Ville de L&#039;Union
X-ORIGINAL-URL:https://www.ville-lunion.fr
X-WR-CALDESC:Évènements pour Ville de L&#039;Union
REFRESH-INTERVAL;VALUE=DURATION:PT1H
X-Robots-Tag:noindex
X-PUBLISHED-TTL:PT1H
BEGIN:VTIMEZONE
TZID:Europe/Paris
BEGIN:DAYLIGHT
TZOFFSETFROM:+0100
TZOFFSETTO:+0200
TZNAME:CEST
DTSTART:20200329T010000
END:DAYLIGHT
BEGIN:STANDARD
TZOFFSETFROM:+0200
TZOFFSETTO:+0100
TZNAME:CET
DTSTART:20201025T010000
END:STANDARD
BEGIN:DAYLIGHT
TZOFFSETFROM:+0100
TZOFFSETTO:+0200
TZNAME:CEST
DTSTART:20210328T010000
END:DAYLIGHT
BEGIN:STANDARD
TZOFFSETFROM:+0200
TZOFFSETTO:+0100
TZNAME:CET
DTSTART:20211031T010000
END:STANDARD
BEGIN:DAYLIGHT
TZOFFSETFROM:+0100
TZOFFSETTO:+0200
TZNAME:CEST
DTSTART:20220327T010000
END:DAYLIGHT
BEGIN:STANDARD
TZOFFSETFROM:+0200
TZOFFSETTO:+0100
TZNAME:CET
DTSTART:20221030T010000
END:STANDARD
END:VTIMEZONE
BEGIN:VEVENT
DTSTART;TZID=Europe/Paris:20210306T203000
DTEND;TZID=Europe/Paris:20210306T203000
DTSTAMP:20260421T194212
CREATED:20200814T085240Z
LAST-MODIFIED:20210216T084622Z
UID:41757-1615062600-1615062600@www.ville-lunion.fr
SUMMARY:Showcase des  SAXTOYS
DESCRIPTION:Les Saxtoys vous donnent rendez-vous samedi 6 mars à 20h30 sur la page facebook de la Ville de L’Union pour un Showcase.
URL:https://www.ville-lunion.fr/evenement/les-10-ans-des-saxtoys/
CATEGORIES:Spectacles
ATTACH;FMTTYPE=image/png:https://www.ville-lunion.fr/wp-content/uploads/2020/08/10-ans-saxtoys.png
END:VEVENT
BEGIN:VEVENT
DTSTART;VALUE=DATE:20210307
DTEND;VALUE=DATE:20210308
DTSTAMP:20260421T194212
CREATED:20200817T140751Z
LAST-MODIFIED:20210216T081629Z
UID:41858-1615075200-1615161599@www.ville-lunion.fr
SUMMARY:VIDE GRENIER - ANNULÉ
DESCRIPTION:Venez vider vos placards\, vos garages pour préparer le printemps ! L’Union Festivités organise un grand vide grenier à la Grande Halle. \nOrganisé par l’Union Festivités.
URL:https://www.ville-lunion.fr/evenement/vide-grenier-2/
LOCATION:Grande Halle de l’Union\, Rue du Somport\, L'Union\, 31240\, France
CATEGORIES:Associations
ATTACH;FMTTYPE=image/jpeg:https://www.ville-lunion.fr/wp-content/uploads/2020/08/VG-2.jpg
END:VEVENT
BEGIN:VEVENT
DTSTART;TZID=Europe/Paris:20210309T090000
DTEND;TZID=Europe/Paris:20210309T120000
DTSTAMP:20260421T194212
CREATED:20201208T085325Z
LAST-MODIFIED:20210203T154343Z
UID:42797-1615280400-1615291200@www.ville-lunion.fr
SUMMARY:Permanence Info-Energie
DESCRIPTION:4 Conseillers donnent des conseils – gratuits et indépendants – sur toutes les questions relatives aux économies d’énergie dans le logement. \n\nTravaux de rénovation thermique : priorités\, recommandations\, avis sur devis\nAides financières\nMieux comprendre sa facture\nCritères de choix d’un fournisseur d’électricité et de gaz naturel. Les modalités de changement.\nPetits équipements et les comportements économes\nChèque énergie\n\nLes rendez-vous pris seront assurés à distance\, par téléphone ou en visioconférence.
URL:https://www.ville-lunion.fr/evenement/42797/
LOCATION:Mairie – salle des mariages\, 6bis avenue des Pyrénées\, L'UNION\, 31240
CATEGORIES:Mairie
ATTACH;FMTTYPE=image/png:https://www.ville-lunion.fr/wp-content/uploads/2020/12/info-energie.png
END:VEVENT
BEGIN:VEVENT
DTSTART;VALUE=DATE:20210313
DTEND;VALUE=DATE:20210322
DTSTAMP:20260421T194212
CREATED:20200814T100515Z
LAST-MODIFIED:20210204T111435Z
UID:41777-1615593600-1616371199@www.ville-lunion.fr
SUMMARY:ANNULÉ - LE SALON DES ARTS
DESCRIPTION:L’Association des Arts Plastiques de L’Union organise chaque année son Salon des Arts. Ce salon met à l’honneur des peintres et sculpteurs confirmés et amateurs de notre association\, mais aussi de la région et au-delà\, qui vous présenteront leurs œuvres à la Grande Halle de L’Union.\n \nInformations : https://artsplastiqueslunion.wixsite.com/aapu
URL:https://www.ville-lunion.fr/evenement/le-salon-des-arts-2/
LOCATION:Grande Halle de l’Union\, Rue du Somport\, L'Union\, 31240\, France
CATEGORIES:Associations
ATTACH;FMTTYPE=image/png:https://www.ville-lunion.fr/wp-content/uploads/2020/08/Salon-des-arts.png
END:VEVENT
BEGIN:VEVENT
DTSTART;TZID=Europe/Paris:20210319T163000
DTEND;TZID=Europe/Paris:20210319T180000
DTSTAMP:20260421T194212
CREATED:20210312T101117Z
LAST-MODIFIED:20210312T101117Z
UID:45690-1616171400-1616176800@www.ville-lunion.fr
SUMMARY:Journée nationale du souvenir et de recueillement à la mémoire des victimes civiles et militaires de la guerre d’Algérie et des combats en Tunisie et au Maroc
DESCRIPTION:Commémoration en l’honneur de la Journée nationale du souvenir et de recueillement à la mémoire des victimes civiles et militaires de la guerre d’Algérie et des combats en Tunisie et au Maroc. \nà 16h30 au Monument aux morts de L’Union
URL:https://www.ville-lunion.fr/evenement/journee-nationale-du-souvenir-et-de-recueillement-a-la-memoire-des-victimes-civiles-et-militaires-de-la-guerre-dalgerie-et-des-combats-en-tunisie-et-au-maroc-2/
LOCATION:Parvis du collège\, 9 bis avenue des Pyrénées\, l'union\, 31240
CATEGORIES:Manifestations
ATTACH;FMTTYPE=image/jpeg:https://www.ville-lunion.fr/wp-content/uploads/2021/03/DSC_0176-scaled.jpg
END:VEVENT
BEGIN:VEVENT
DTSTART;TZID=Europe/Paris:20210321T160000
DTEND;TZID=Europe/Paris:20210321T160000
DTSTAMP:20260421T194212
CREATED:20200814T101317Z
LAST-MODIFIED:20210309T111632Z
UID:41780-1616342400-1616342400@www.ville-lunion.fr
SUMMARY:LE PRINTEMPS DU RIRE : LA TOURNÉE DES JEUNES TALENTS
DESCRIPTION:Le printemps du rire s’adapte et vous propose la tournée #1 PART EN LIVE\nDu 15 mars à 20h30 au 21 mars minuit\, sur la page Facebook @leprintempsdurire et sur la chaine YouTube du printemps du rire. \nIls vous ont fait rire au Gala du Printemps et vous en voulez plus ? Ça tombe bien\, les Jeunes Talents reviennent sur scène pour une version longue ! Retrouvez sur scène : Denis Richir / François Mallet / Sofia Belabbes\nÉvènement gratuit.
URL:https://www.ville-lunion.fr/evenement/le-printemps-du-rire-la-tournee-des-jeunes-talents/
LOCATION:Salle des fêtes de L’Union\, 6 Avenue des Pyrénées\, L'Union\, 31240\, France
CATEGORIES:Spectacles
ATTACH;FMTTYPE=image/png:https://www.ville-lunion.fr/wp-content/uploads/2016/12/Capture-décran-2021-03-09-à-09.38.57.png
END:VEVENT
END:VCALENDAR