BEGIN:VCALENDAR
VERSION:2.0
PRODID:-//Ville de L&#039;Union - ECPv6.15.13//NONSGML v1.0//EN
CALSCALE:GREGORIAN
METHOD:PUBLISH
X-ORIGINAL-URL:https://www.ville-lunion.fr
X-WR-CALDESC:Évènements pour Ville de L&#039;Union
REFRESH-INTERVAL;VALUE=DURATION:PT1H
X-Robots-Tag:noindex
X-PUBLISHED-TTL:PT1H
BEGIN:VTIMEZONE
TZID:Europe/Paris
BEGIN:DAYLIGHT
TZOFFSETFROM:+0100
TZOFFSETTO:+0200
TZNAME:CEST
DTSTART:20200329T010000
END:DAYLIGHT
BEGIN:STANDARD
TZOFFSETFROM:+0200
TZOFFSETTO:+0100
TZNAME:CET
DTSTART:20201025T010000
END:STANDARD
BEGIN:DAYLIGHT
TZOFFSETFROM:+0100
TZOFFSETTO:+0200
TZNAME:CEST
DTSTART:20210328T010000
END:DAYLIGHT
BEGIN:STANDARD
TZOFFSETFROM:+0200
TZOFFSETTO:+0100
TZNAME:CET
DTSTART:20211031T010000
END:STANDARD
BEGIN:DAYLIGHT
TZOFFSETFROM:+0100
TZOFFSETTO:+0200
TZNAME:CEST
DTSTART:20220327T010000
END:DAYLIGHT
BEGIN:STANDARD
TZOFFSETFROM:+0200
TZOFFSETTO:+0100
TZNAME:CET
DTSTART:20221030T010000
END:STANDARD
END:VTIMEZONE
BEGIN:VEVENT
DTSTART;TZID=Europe/Paris:20210104T140000
DTEND;TZID=Europe/Paris:20210106T190000
DTSTAMP:20260421T223657
CREATED:20201126T092851Z
LAST-MODIFIED:20220701T124202Z
UID:42715-1609768800-1609959600@www.ville-lunion.fr
SUMMARY:Collecte don du sang
DESCRIPTION:Accueil de 14h à 19h.
URL:https://www.ville-lunion.fr/evenement/collecte-don-du-sang-5/
LOCATION:Grande Halle de l’Union\, Rue du Somport\, L'Union\, 31240\, France
CATEGORIES:Manifestations
ATTACH;FMTTYPE=image/jpeg:https://www.ville-lunion.fr/wp-content/uploads/2016/12/don-du-sang-2-e1679328827837.jpg
END:VEVENT
BEGIN:VEVENT
DTSTART;TZID=Europe/Paris:20210112T090000
DTEND;TZID=Europe/Paris:20210112T120000
DTSTAMP:20260421T223657
CREATED:20201112T160931Z
LAST-MODIFIED:20201112T160931Z
UID:42629-1610442000-1610452800@www.ville-lunion.fr
SUMMARY:Permanence Info Energie
DESCRIPTION:4 Conseillers donnent des conseils – gratuits et indépendants – sur toutes les questions relatives aux économies d’énergie dans le logement. \n\nTravaux de rénovation thermique : priorités\, recommandations\, avis sur devis\nAides financières\nMieux comprendre sa facture\nCritères de choix d’un fournisseur d’électricité et de gaz naturel. Les modalités de changement.\nPetits équipements et les comportements économes\nChèque énergie
URL:https://www.ville-lunion.fr/evenement/permanence-info-energie/
LOCATION:Mairie – salle des mariages\, 6bis avenue des Pyrénées\, L'UNION\, 31240
CATEGORIES:Mairie
END:VEVENT
BEGIN:VEVENT
DTSTART;TZID=Europe/Paris:20210121T100000
DTEND;TZID=Europe/Paris:20210121T120000
DTSTAMP:20260421T223657
CREATED:20201208T092709Z
LAST-MODIFIED:20201208T092709Z
UID:42813-1611223200-1611230400@www.ville-lunion.fr
SUMMARY:Conférence AAPU\, histoire de l’Art - Berlin ville de contraste\, entre histoire et modernité
DESCRIPTION:Conférence AAPU\, histoire de l’Art\, à 10h auditorium de la salle des fêtes « Berlin ville de contraste\, entre histoire et modernité ». Entrée 8€ pour les non-inscrits à l’histoire de l’Art. (Sous réserve\, selon la réglementation sanitaire du moment)
URL:https://www.ville-lunion.fr/evenement/conference-aapu-histoire-de-lart-berlin-ville-de-contraste-entre-histoire-et-modernite/
LOCATION:Salle des fêtes de L’Union\, 6 Avenue des Pyrénées\, L'Union\, 31240\, France
CATEGORIES:Associations
ORGANIZER;CN="A.A.P.U":MAILTO:arts.plastiques.lunion@gmail.com
END:VEVENT
BEGIN:VEVENT
DTSTART;VALUE=DATE:20210124
DTEND;VALUE=DATE:20210125
DTSTAMP:20260421T223657
CREATED:20200817T135447Z
LAST-MODIFIED:20210113T093719Z
UID:41856-1611446400-1611532799@www.ville-lunion.fr
SUMMARY:BOURSE BD LIRE - ANNULÉE
DESCRIPTION:Compte tenu des mesures sanitaires en vigueur\, nous sommes dans l’obligation d’annuler la Bourse BD Lire.
URL:https://www.ville-lunion.fr/evenement/bourse-bd-lire-4/
LOCATION:Grande Halle de l’Union\, Rue du Somport\, L'Union\, 31240\, France
CATEGORIES:Associations
ATTACH;FMTTYPE=image/jpeg:https://www.ville-lunion.fr/wp-content/uploads/2019/11/BDLIRE2020-e1597672143667.jpg
END:VEVENT
BEGIN:VEVENT
DTSTART;TZID=Europe/Paris:20210127T183000
DTEND;TZID=Europe/Paris:20210127T200000
DTSTAMP:20260421T223657
CREATED:20201112T155043Z
LAST-MODIFIED:20201112T155043Z
UID:42608-1611772200-1611777600@www.ville-lunion.fr
SUMMARY:CONSEIL MUNICIPAL
DESCRIPTION:Le conseil municipal est diffusé en direct sur Facebook.
URL:https://www.ville-lunion.fr/evenement/conseil-municipal-24/
LOCATION:Salle des fêtes de L’Union\, 6 Avenue des Pyrénées\, L'Union\, 31240\, France
CATEGORIES:Mairie
ATTACH;FMTTYPE=image/jpeg:https://www.ville-lunion.fr/wp-content/uploads/2020/11/DSC_0272-scaled.jpg
END:VEVENT
END:VCALENDAR