BEGIN:VCALENDAR
VERSION:2.0
PRODID:-//Ville de L&#039;Union - ECPv6.15.13//NONSGML v1.0//EN
CALSCALE:GREGORIAN
METHOD:PUBLISH
X-ORIGINAL-URL:https://www.ville-lunion.fr
X-WR-CALDESC:Évènements pour Ville de L&#039;Union
REFRESH-INTERVAL;VALUE=DURATION:PT1H
X-Robots-Tag:noindex
X-PUBLISHED-TTL:PT1H
BEGIN:VTIMEZONE
TZID:Europe/Paris
BEGIN:DAYLIGHT
TZOFFSETFROM:+0100
TZOFFSETTO:+0200
TZNAME:CEST
DTSTART:20190331T010000
END:DAYLIGHT
BEGIN:STANDARD
TZOFFSETFROM:+0200
TZOFFSETTO:+0100
TZNAME:CET
DTSTART:20191027T010000
END:STANDARD
BEGIN:DAYLIGHT
TZOFFSETFROM:+0100
TZOFFSETTO:+0200
TZNAME:CEST
DTSTART:20200329T010000
END:DAYLIGHT
BEGIN:STANDARD
TZOFFSETFROM:+0200
TZOFFSETTO:+0100
TZNAME:CET
DTSTART:20201025T010000
END:STANDARD
BEGIN:DAYLIGHT
TZOFFSETFROM:+0100
TZOFFSETTO:+0200
TZNAME:CEST
DTSTART:20210328T010000
END:DAYLIGHT
BEGIN:STANDARD
TZOFFSETFROM:+0200
TZOFFSETTO:+0100
TZNAME:CET
DTSTART:20211031T010000
END:STANDARD
END:VTIMEZONE
BEGIN:VEVENT
DTSTART;TZID=Europe/Paris:20201002T180000
DTEND;TZID=Europe/Paris:20201002T180000
DTSTAMP:20260422T023727
CREATED:20200818T072838Z
LAST-MODIFIED:20200928T145110Z
UID:41877-1601661600-1601661600@www.ville-lunion.fr
SUMMARY:Soirée Foodtruck - REPORTÉE
DESCRIPTION:En raison des nouvelles mesures sanitaires\, la manifestation est reportée à une date ultérieure. \nMerci pour votre compréhension
URL:https://www.ville-lunion.fr/evenement/soiree-foodtruck/
LOCATION:Place San Biagio\, place San Biagio\, L'UNION\, 31240\, France
CATEGORIES:Manifestations
ATTACH;FMTTYPE=application/pdf:https://www.ville-lunion.fr/wp-content/uploads/2020/08/Affiche-FT-lUnion-Partenaires-1-2.pdf
END:VEVENT
BEGIN:VEVENT
DTSTART;VALUE=DATE:20201003
DTEND;VALUE=DATE:20201004
DTSTAMP:20260422T023727
CREATED:20200818T074813Z
LAST-MODIFIED:20200818T074813Z
UID:41887-1601683200-1601769599@www.ville-lunion.fr
SUMMARY:Présentation de la Saison Culturelle
DESCRIPTION:En préambule au spectacle « NOUGARO FAIT SON CINEMA »\, nous vous présentons les rendez-vous programmés dans l’agenda culturel municipal.
URL:https://www.ville-lunion.fr/evenement/presentation-de-la-saison-culturelle-3/
LOCATION:Grande Halle de l’Union\, Rue du Somport\, L'Union\, 31240\, France
CATEGORIES:Spectacles
ATTACH;FMTTYPE=application/pdf:https://www.ville-lunion.fr/wp-content/uploads/2020/08/PROGRAMME-CULTUREL-2020-2021.pdf
END:VEVENT
BEGIN:VEVENT
DTSTART;TZID=Europe/Paris:20201003T203000
DTEND;TZID=Europe/Paris:20201003T203000
DTSTAMP:20260422T023727
CREATED:20200804T171238Z
LAST-MODIFIED:20200907T122716Z
UID:41694-1601757000-1601757000@www.ville-lunion.fr
SUMMARY:CINÉ CONCERT NOUGARO FAIT SON CINÉMA
DESCRIPTION:Les «Nous»\, tribute à Claude Nougaro\, se sont déjà produits sur la scène de la Grande Halle. Ils reviennent cette année nous présenter leur nouveau spectacle\, Nougaro fait son cinéma.\nÀ Toulouse\, ils ont frôlé le grand Claude et croisé le piano de Maurice Vander. Parmi les nombreux hommages\, « Nous » fait exister Nougaro à chaque note\, chaque arrangement.\nChaque touche vocale chante fidèlement sa poésie gourmande et ses bulles de jazz\, sans limite et dans le pur respect de son oeuvre. Savourer Nougaro… Remettre le couvert… Sur l’écran noir de nos nuits blanches pour un concert. \nTOUT PUBLIC\nPlacement libre \nDurée : 2H \nTarifs : *17 € – **20 € – ***15 € (*Unionais ; ** Public extérieur ; ***Groupes\, étudiants\, demandeurs d’emploi). \nGratuit pour les moins de 12 ans. \n+ d’infos  : 05 62 89 22 86 \nBilletterie \nSOIRÉE DE PRÉSENTATION DE LA SAISON CULTURELLE\nEn préambule à ce premier spectacle de la saison 2020-2021\, nous vous présenterons les rendez-vous programmés dans l’agenda culturel municipal
URL:https://www.ville-lunion.fr/evenement/cine-concert-nougaro-fait-son-cinema/
LOCATION:Grande Halle de l’Union\, Rue du Somport\, L'Union\, 31240\, France
CATEGORIES:Spectacles
ATTACH;FMTTYPE=image/jpeg:https://www.ville-lunion.fr/wp-content/uploads/2020/08/nougaro2020.jpg
END:VEVENT
BEGIN:VEVENT
DTSTART;TZID=Europe/Paris:20201008T100000
DTEND;TZID=Europe/Paris:20201008T100000
DTSTAMP:20260422T023727
CREATED:20200818T075201Z
LAST-MODIFIED:20200916T083349Z
UID:41890-1602151200-1602151200@www.ville-lunion.fr
SUMMARY:Conférence AAPU Histoire de l’Art
DESCRIPTION:Entrée 8€ pour les non adhérents à l’histoire de l’Art. \nSplendeurs de l’art Khmer du Cambodge
URL:https://www.ville-lunion.fr/evenement/conference-aapu-histoire-de-lart-5/
LOCATION:Salle des fêtes de L’Union\, 6 Avenue des Pyrénées\, L'Union\, 31240\, France
CATEGORIES:Associations
ATTACH;FMTTYPE=image/jpeg:https://www.ville-lunion.fr/wp-content/uploads/2018/11/aapu.jpg
END:VEVENT
BEGIN:VEVENT
DTSTART;VALUE=DATE:20201010
DTEND;VALUE=DATE:20201012
DTSTAMP:20260422T023727
CREATED:20200818T075804Z
LAST-MODIFIED:20201009T102109Z
UID:41892-1602288000-1602460799@www.ville-lunion.fr
SUMMARY:Salon des fossiles et minéraux
DESCRIPTION:10h – 18h \nEntrée libre.
URL:https://www.ville-lunion.fr/evenement/salon-des-fossiles-et-mineraux-3/
LOCATION:Grande Halle de l’Union\, Rue du Somport\, L'Union\, 31240\, France
CATEGORIES:Associations
ATTACH;FMTTYPE=image/jpeg:https://www.ville-lunion.fr/wp-content/uploads/2020/08/fm-3.jpg
END:VEVENT
BEGIN:VEVENT
DTSTART;TZID=Europe/Paris:20201010T143000
DTEND;TZID=Europe/Paris:20201010T143000
DTSTAMP:20260422T023727
CREATED:20200818T131802Z
LAST-MODIFIED:20200928T144925Z
UID:41895-1602340200-1602340200@www.ville-lunion.fr
SUMMARY:OCTOBRE ROSE - ANNULÉ
DESCRIPTION:En raison des nouvelles mesures sanitaires\, la manifestation est annulée \nMerci pour votre compréhension
URL:https://www.ville-lunion.fr/evenement/octobre-rose/
LOCATION:lac de St Caprais\, 79 Avenue de Bayonne\, L'UNION\, 31240\, France
CATEGORIES:Manifestations
ATTACH;FMTTYPE=image/jpeg:https://www.ville-lunion.fr/wp-content/uploads/2020/08/SANDRNE-VERONIQUE-BEATRICE.jpg
END:VEVENT
BEGIN:VEVENT
DTSTART;VALUE=DATE:20201017
DTEND;VALUE=DATE:20201018
DTSTAMP:20260422T023727
CREATED:20200818T141905Z
LAST-MODIFIED:20200818T141905Z
UID:41904-1602892800-1602979199@www.ville-lunion.fr
SUMMARY:Promenade botanique avec Paysages d’Autan
DESCRIPTION:À la rencontre des arbres et arbustes de bord des eaux. \nLa mairie de l’Union travaille depuis plusieurs années en partenariat avec l’association Arbres et Paysages d’Autan\, dont l’objectif est de promouvoir le rôle de l’arbre de pays et de la haie champêtre. Afin de mieux connaître le patrimoine arboré naturel de la commune et d’appréhender le rôle des arbres et arbustes locaux dans l’environnement\, la Mairie de l’Union vous invite à partir à leur rencontre lors d’une balade familiale au bord du lac et le long de la Sausse. Arbres et Paysages prendra soin de vous apprendre à observer les détails qui vous permettrons de reconnaître les arbres\, les « petites histoires » qui y sont liées\, les usages traditionnels ou actuels\, leur importance dans le renforcement de la Trame verte et bleue… \nPrenez date ! Rendez-vous le samedi 17 octobre à 10h00 au niveau à l’entrée lac\, avenue de St Caprais pour un petit bol de Nature ludique et pédagogique ! \nArbres et Paysages d’Autan – www.arbresetpaysagesdautan.fr
URL:https://www.ville-lunion.fr/evenement/promenade-botanique-avec-paysages-dautan/
LOCATION:lac de St Caprais\, 79 Avenue de Bayonne\, L'UNION\, 31240\, France
CATEGORIES:Manifestations
ATTACH;FMTTYPE=image/jpeg:https://www.ville-lunion.fr/wp-content/uploads/2020/08/libellule_sur_sureau-scaled.jpg
END:VEVENT
BEGIN:VEVENT
DTSTART;TZID=Europe/Paris:20201018T080000
DTEND;TZID=Europe/Paris:20201018T180000
DTSTAMP:20260422T023727
CREATED:20200818T142519Z
LAST-MODIFIED:20200929T101722Z
UID:41907-1603008000-1603044000@www.ville-lunion.fr
SUMMARY:Bourse aux jouets de la Ludothèque - ANNULE
DESCRIPTION:
URL:https://www.ville-lunion.fr/evenement/bourse-aux-jouets-de-la-ludotheque-3/
LOCATION:Grande Halle de l’Union\, Rue du Somport\, L'Union\, 31240\, France
CATEGORIES:Manifestations
ATTACH;FMTTYPE=image/jpeg:https://www.ville-lunion.fr/wp-content/uploads/2019/08/bourse2019-e1597761531374.jpg
END:VEVENT
BEGIN:VEVENT
DTSTART;TZID=Europe/Paris:20201018T100000
DTEND;TZID=Europe/Paris:20201018T170000
DTSTAMP:20260422T023727
CREATED:20200817T130355Z
LAST-MODIFIED:20201006T134050Z
UID:41836-1603015200-1603040400@www.ville-lunion.fr
SUMMARY:Journée navigation - ANNULÉ
DESCRIPTION:En raison des nouvelles mesures sanitaires\, la manifestation est annulée \nMerci pour votre compréhension
URL:https://www.ville-lunion.fr/evenement/journee-navigation-2/
LOCATION:lac de St Caprais\, 79 Avenue de Bayonne\, L'UNION\, 31240\, France
CATEGORIES:Associations
ATTACH;FMTTYPE=image/jpeg:https://www.ville-lunion.fr/wp-content/uploads/2020/08/AMU-18-10-2020.jpg
END:VEVENT
BEGIN:VEVENT
DTSTART;TZID=Europe/Paris:20201026T140000
DTEND;TZID=Europe/Paris:20201028T190000
DTSTAMP:20260422T023727
CREATED:20200818T144707Z
LAST-MODIFIED:20200818T145104Z
UID:41914-1603720800-1603911600@www.ville-lunion.fr
SUMMARY:Collecte don du sang
DESCRIPTION:Accueil de 14h à 19h.
URL:https://www.ville-lunion.fr/evenement/collecte-don-du-sang-4/
LOCATION:Salle des fêtes de L’Union\, 6 Avenue des Pyrénées\, L'Union\, 31240\, France
CATEGORIES:Manifestations
ATTACH;FMTTYPE=image/jpeg:https://www.ville-lunion.fr/wp-content/uploads/2016/12/don-du-sang-1.jpg
END:VEVENT
END:VCALENDAR