BEGIN:VCALENDAR
VERSION:2.0
PRODID:-//Ville de L&#039;Union - ECPv6.15.13//NONSGML v1.0//EN
CALSCALE:GREGORIAN
METHOD:PUBLISH
X-WR-CALNAME:Ville de L&#039;Union
X-ORIGINAL-URL:https://www.ville-lunion.fr
X-WR-CALDESC:Évènements pour Ville de L&#039;Union
REFRESH-INTERVAL;VALUE=DURATION:PT1H
X-Robots-Tag:noindex
X-PUBLISHED-TTL:PT1H
BEGIN:VTIMEZONE
TZID:Europe/Paris
BEGIN:DAYLIGHT
TZOFFSETFROM:+0100
TZOFFSETTO:+0200
TZNAME:CEST
DTSTART:20190331T010000
END:DAYLIGHT
BEGIN:STANDARD
TZOFFSETFROM:+0200
TZOFFSETTO:+0100
TZNAME:CET
DTSTART:20191027T010000
END:STANDARD
BEGIN:DAYLIGHT
TZOFFSETFROM:+0100
TZOFFSETTO:+0200
TZNAME:CEST
DTSTART:20200329T010000
END:DAYLIGHT
BEGIN:STANDARD
TZOFFSETFROM:+0200
TZOFFSETTO:+0100
TZNAME:CET
DTSTART:20201025T010000
END:STANDARD
BEGIN:DAYLIGHT
TZOFFSETFROM:+0100
TZOFFSETTO:+0200
TZNAME:CEST
DTSTART:20210328T010000
END:DAYLIGHT
BEGIN:STANDARD
TZOFFSETFROM:+0200
TZOFFSETTO:+0100
TZNAME:CET
DTSTART:20211031T010000
END:STANDARD
END:VTIMEZONE
BEGIN:VEVENT
DTSTART;TZID=Europe/Paris:20200403T203000
DTEND;TZID=Europe/Paris:20200403T203000
DTSTAMP:20260422T103527
CREATED:20190917T090234Z
LAST-MODIFIED:20200331T082546Z
UID:39162-1585945800-1585945800@www.ville-lunion.fr
SUMMARY:ANNULE -  CLASSE !  GIROUD ET STOTZ
DESCRIPTION:Si vous avez déjà acheté vos billets\, ils vous seront intégralement remboursé.\n\nPour toute demande\, veuillez contacter l’adresse mail suivante: contact@leprintempsdurire.com\,\n\nPour information\, un système du billet solidaire a été mis en place avec la billetterie Festik qui donnera la possibilité au spectateur de ne pas demander de remboursement de ces places\,afin de soutenir la culture pendant la pandémie.\nCECI est bien sûr purement et simplement sur la base du volontariat
URL:https://www.ville-lunion.fr/evenement/classe-giroud-et-stotz/
LOCATION:Grande Halle de l’Union\, Rue du Somport\, L'Union\, 31240\, France
CATEGORIES:Spectacles
ATTACH;FMTTYPE=image/jpeg:https://www.ville-lunion.fr/wp-content/uploads/2019/09/giroud.jpg
END:VEVENT
BEGIN:VEVENT
DTSTART;VALUE=DATE:20200406
DTEND;VALUE=DATE:20200409
DTSTAMP:20260422T103527
CREATED:20200313T155406Z
LAST-MODIFIED:20200402T102257Z
UID:40182-1586131200-1586390399@www.ville-lunion.fr
SUMMARY:Collecte don du sang
DESCRIPTION:Accueil de 14h à 19h \nAttention l’accueil se fera à la Grande Halle\, rue du Somport. \nA ce jour la collecte est maintenue ; en effet les besoins en sang ou produits dérivés sont toujours aussi importants. Il est confirmé qu’il ne peut y avoir de contagion par le sang.  \nPar contre\, outre le fait qu’elle aura lieu à la Grande Halle\, des dispositions particulières seront prises par l’EFS (Etablissement Français du Sang) et l’Amicale pour assurer au maximum une protection sanitaire. Merci de vous mobiliser. 
URL:https://www.ville-lunion.fr/evenement/collecte-don-du-sang-2/
LOCATION:Grande Halle de l’Union\, Rue du Somport\, L'Union\, 31240\, France
CATEGORIES:Associations
END:VEVENT
BEGIN:VEVENT
DTSTART;TZID=Europe/Paris:20200410T210000
DTEND;TZID=Europe/Paris:20200410T210000
DTSTAMP:20260422T103527
CREATED:20200310T092409Z
LAST-MODIFIED:20200331T082824Z
UID:40143-1586552400-1586552400@www.ville-lunion.fr
SUMMARY:ANNULE - Conférence "Histoire de la Lune"
DESCRIPTION:Conférence de Serge Chevel proposée par Neptunion 31 \nLa Lune est un corps planétaire qui a préservé beaucoup de vestiges de son histoire géologique très ancienne\, ce qui en fait un objet essentiel pour comprendre les débuts de l’histoire des planètes solides (Terre\, Vénus\, Mars et Mercure). \nNos connaissances sur la Lune ont beaucoup progressées grâce aux missions d’exploration in situ du programme Apollo entre 1969 et 1972 et grâce aux sondes orbitales: Clémentine (1994)\, Lunar Prospector (1998-1999)\, SELENE (2007-2009)\, Chandrayaan-1 (2008-2009) et LRO (2009\, en cours). Cependant beaucoup de questions fondamentales restent posées à propos de sa formation et de son évolution\, notamment sur la mise en place de la croûte et le volcanisme. \nLa Lune est un objet plus complexe qu’il n’y parait. Aujourd’hui\, un retour sur la Lune est nécessaire pour faire de nouvelles avancées scientifiques. Cette exploration future de la Lune par des robots et des humains présente des défis technologiques qu’il nous faut relever si l’on veut aussi explorer un jour la planète Mars. \nAu cours de la conférence\, il sera fait le point sur les résultats scientifiques concernant l’étude de la Lune\, les questions importantes qui se posent encore et les méthodes d’exploration qui seront employées dans le futur pour y répondre. \n 
URL:https://www.ville-lunion.fr/evenement/conference-histoire-de-la-lune/
LOCATION:Salle des fêtes de L’Union\, 6 Avenue des Pyrénées\, L'Union\, 31240\, France
CATEGORIES:Associations
ATTACH;FMTTYPE=image/jpeg:https://www.ville-lunion.fr/wp-content/uploads/2020/03/neptunion-04-20b.jpg
END:VEVENT
BEGIN:VEVENT
DTSTART;VALUE=DATE:20200411
DTEND;VALUE=DATE:20200412
DTSTAMP:20260422T103527
CREATED:20200303T141425Z
LAST-MODIFIED:20200331T082955Z
UID:40093-1586563200-1586649599@www.ville-lunion.fr
SUMMARY:ANNULE - Exposition Bonsaï Club
DESCRIPTION:Le Bonsaï Club Unionais organise  une exposition de bonsaïs réalisés et travaillés depuis plusieurs années par les adhérents du club\, au foyer de la Grande halle à L’Union. \nDeux ateliers «enfants» seront organisés de 11 h à 12 h et de 15 h à 16h\, dont le thème est : «Je plante mon petit arbre\, je l’emporte et je le soigne». Il serait préférable qu’il y ait une inscription faite par les parents pour ces ateliers avant le 8 avril\, à l’adresse mail suivante : presidente@bonsai-lunion.fr. \nDes démonstrations de rempotage\, taille et ligature animeront cette journée de 10 heures à 19 heures. \nEntrée libre.
URL:https://www.ville-lunion.fr/evenement/exposition-bonsai-club/
LOCATION:Grande Halle de l’Union\, Rue du Somport\, L'Union\, 31240\, France
CATEGORIES:Associations
END:VEVENT
BEGIN:VEVENT
DTSTART;VALUE=DATE:20200413
DTEND;VALUE=DATE:20200414
DTSTAMP:20260422T103527
CREATED:20191224T102107Z
LAST-MODIFIED:20200331T083110Z
UID:39695-1586736000-1586822399@www.ville-lunion.fr
SUMMARY:ANNULE - chasse aux oeufs en chocolat
DESCRIPTION:organisé par L’Union Festivités
URL:https://www.ville-lunion.fr/evenement/chasse-aux-oeufs-en-chocolat/
LOCATION:Parc de Malpagat\, L'UNION\, 31240
ATTACH;FMTTYPE=image/jpeg:https://www.ville-lunion.fr/wp-content/uploads/2016/12/oeufs.jpg
END:VEVENT
BEGIN:VEVENT
DTSTART;TZID=Europe/Paris:20200423T203000
DTEND;TZID=Europe/Paris:20200423T203000
DTSTAMP:20260422T103527
CREATED:20190917T090626Z
LAST-MODIFIED:20200331T083155Z
UID:39165-1587673800-1587673800@www.ville-lunion.fr
SUMMARY:ANNULE - H2O - LE BOSSU DE NOTRE DAME - cinéconcert
DESCRIPTION:L’harmonie H2O vous propose un ciné-concert qui se traduit par la diusion d’un film muet ; l’orchestre joue en direct la musique du film. La nouvelle saison de l’harmonie s’articule autour du long-métrage « Le\nBossu de Notre Dame ». La musique jouée par l’orchestre n’est pas la musique originale du film\, mais une musique inédite composée en 2018 par Raphaël Howson (compositeur\, pianiste\, professeur\nde piano\, ciné-concertiste) et arrangée par Anthony Lézian (agrégé de musique\, arrangeur\, et clarinettiste au sein de l’orchestre H2O entre autre).\nL’orchestre sera placé pour la prochaine saison sous la baguette de Quentin Ferradou. \nTOUT PUBLIC\nplacement libre\ndurée : 1h50\nTarifs : 10€ tarif plein en prévente • 12€ vente sur place • 5€ tarifs réduits (enfants et étudiants) \ninformations et réservations :\nhttps://h2o.festik.net/ et 05 62 89 22 86 (mairie)\nwww.orchestre-h2o.fr
URL:https://www.ville-lunion.fr/evenement/h2o-le-bossu-de-notre-dame-cineconcert/
LOCATION:Grande Halle de l’Union\, Rue du Somport\, L'Union\, 31240\, France
CATEGORIES:Spectacles
ATTACH;FMTTYPE=image/jpeg:https://www.ville-lunion.fr/wp-content/uploads/2019/09/h2o-2020.jpg
END:VEVENT
BEGIN:VEVENT
DTSTART;TZID=Europe/Paris:20200425T160000
DTEND;TZID=Europe/Paris:20200425T160000
DTSTAMP:20260422T103527
CREATED:20190917T090857Z
LAST-MODIFIED:20200331T083256Z
UID:39172-1587830400-1587830400@www.ville-lunion.fr
SUMMARY:ANNULE - LA GRANDE AUDITION de l'école de Musique
DESCRIPTION:Big band\, orchestre\, classe de percussions et orchestre symphonique se produisent le temps d’une soirée\, pour vous permettre de découvrir le résultat de leur travail passé à répéter au château Malpagat. \nTOUT PUBLIC\nentrée gratuite
URL:https://www.ville-lunion.fr/evenement/la-grande-audition-de-lecole-de-musique/
LOCATION:Grande Halle de l’Union\, Rue du Somport\, L'Union\, 31240\, France
CATEGORIES:Spectacles
ATTACH;FMTTYPE=image/jpeg:https://www.ville-lunion.fr/wp-content/uploads/2019/09/musiconvivial-1.jpg
END:VEVENT
END:VCALENDAR