BEGIN:VCALENDAR
VERSION:2.0
PRODID:-//Ville de L&#039;Union - ECPv6.15.13//NONSGML v1.0//EN
CALSCALE:GREGORIAN
METHOD:PUBLISH
X-WR-CALNAME:Ville de L&#039;Union
X-ORIGINAL-URL:https://www.ville-lunion.fr
X-WR-CALDESC:Évènements pour Ville de L&#039;Union
REFRESH-INTERVAL;VALUE=DURATION:PT1H
X-Robots-Tag:noindex
X-PUBLISHED-TTL:PT1H
BEGIN:VTIMEZONE
TZID:Europe/Paris
BEGIN:DAYLIGHT
TZOFFSETFROM:+0100
TZOFFSETTO:+0200
TZNAME:CEST
DTSTART:20180325T010000
END:DAYLIGHT
BEGIN:STANDARD
TZOFFSETFROM:+0200
TZOFFSETTO:+0100
TZNAME:CET
DTSTART:20181028T010000
END:STANDARD
BEGIN:DAYLIGHT
TZOFFSETFROM:+0100
TZOFFSETTO:+0200
TZNAME:CEST
DTSTART:20190331T010000
END:DAYLIGHT
BEGIN:STANDARD
TZOFFSETFROM:+0200
TZOFFSETTO:+0100
TZNAME:CET
DTSTART:20191027T010000
END:STANDARD
BEGIN:DAYLIGHT
TZOFFSETFROM:+0100
TZOFFSETTO:+0200
TZNAME:CEST
DTSTART:20200329T010000
END:DAYLIGHT
BEGIN:STANDARD
TZOFFSETFROM:+0200
TZOFFSETTO:+0100
TZNAME:CET
DTSTART:20201025T010000
END:STANDARD
END:VTIMEZONE
BEGIN:VEVENT
DTSTART;VALUE=DATE:20191011
DTEND;VALUE=DATE:20191104
DTSTAMP:20260422T173235
CREATED:20191001T134001Z
LAST-MODIFIED:20191004T085054Z
UID:39254-1570752000-1572825599@www.ville-lunion.fr
SUMMARY:expo photos « Ce que je suis »
DESCRIPTION:Cette exposition est l’aboutissement d’un projet soutenu et financé par Toulouse Métropole et réalisé par le collectif de vidéastes et\nphotographes « Le petit cowboy».\nDes Unionais volontaires ont été mis en scène et photographiés\, montrant deux facettes de leur personnalité : l’une dans leur quotidien \,\nl’autre dans une mise en scène exprimant leur rêve\, leur désir\, du plus simple au plus fou !\nL’aboutissement de ce travail a déjà été exposé à la Cartoucherie à Toulouse en juin 2019 réunissant également les villes de Brax \, Launaguet et Cugnaux.\nVernissage le 18 octobre à 18h30 au Château.\nVous aurez l’occasion d’échanger avec les membres du collectif « Le petit cow boy» et bien évidemment avec nos « acteurs » Unionais ! \nhttps://www.ville-lunion.fr/wp-content/uploads/2019/10/Ce-que-je-suis-LUnion-converted-with-Clipchamp.mp4
URL:https://www.ville-lunion.fr/evenement/expo-photos-ce-que-je-suis/
LOCATION:Parc de Malpagat\, L'UNION\, 31240
CATEGORIES:Mairie
ATTACH;FMTTYPE=image/jpeg:https://www.ville-lunion.fr/wp-content/uploads/2019/09/ce-que-je-suis.jpg
END:VEVENT
BEGIN:VEVENT
DTSTART;TZID=Europe/Paris:20191106T183000
DTEND;TZID=Europe/Paris:20191106T183000
DTSTAMP:20260422T173235
CREATED:20190903T150619Z
LAST-MODIFIED:20190906T152357Z
UID:39086-1573065000-1573065000@www.ville-lunion.fr
SUMMARY:Conseil municipal
DESCRIPTION:
URL:https://www.ville-lunion.fr/evenement/conseil-municipal-19/
LOCATION:Salle des fêtes de L’Union\, 6 Avenue des Pyrénées\, L'Union\, 31240\, France
CATEGORIES:Mairie
ATTACH;FMTTYPE=image/jpeg:https://www.ville-lunion.fr/wp-content/uploads/2016/12/mairie-entree-1.jpg
END:VEVENT
BEGIN:VEVENT
DTSTART;TZID=Europe/Paris:20191107T183000
DTEND;TZID=Europe/Paris:20191107T203000
DTSTAMP:20260422T173235
CREATED:20191031T164738Z
LAST-MODIFIED:20191031T165231Z
UID:39387-1573151400-1573158600@www.ville-lunion.fr
SUMMARY:ATELIER TAILLE DOUCE ET CONTRAINTES DE L'ARBRE EN VILLE
DESCRIPTION:Arbres et Paysage D’Autan (APA)\, association partenaire de la Mairie qui apporte son expertise dans la gestion et l’entretien du patrimoine vert de la ville\, organise un atelier gratuit à destination des citoyens\, ce jeudi 7 novembre en salle C1 de la Maison des Sports. Rendez-vous à partir de 18h30\, pour profiter d’une petite exposition avant qu’Alexandra Désirée\, membre de l’association\, ne dispense ses précieux conseils pour prendre soin des arbres. A 20h\, elle répondra aux questions que les spectateurs poseront\, avant de partager un vin d’honneur.
URL:https://www.ville-lunion.fr/evenement/atelier-taille-douce-et-contraintes-de-larbre-en-ville/
LOCATION:maison des sports\, rue du Puy de Sancy\, L'Union\, 31240
ATTACH;FMTTYPE=image/jpeg:https://www.ville-lunion.fr/wp-content/uploads/2019/10/IMG_7291-sitew.jpg
END:VEVENT
BEGIN:VEVENT
DTSTART;VALUE=DATE:20191110
DTEND;VALUE=DATE:20191111
DTSTAMP:20260422T173235
CREATED:20191001T144749Z
LAST-MODIFIED:20191001T144858Z
UID:39270-1573344000-1573430399@www.ville-lunion.fr
SUMMARY:bourse « Toutes collections »
DESCRIPTION:
URL:https://www.ville-lunion.fr/evenement/bourse-toutes-collections-3/
LOCATION:Grande Halle de l’Union\, Rue du Somport\, L'Union\, 31240\, France
CATEGORIES:Associations
ATTACH;FMTTYPE=image/jpeg:https://www.ville-lunion.fr/wp-content/uploads/2017/09/bourse.jpg
END:VEVENT
BEGIN:VEVENT
DTSTART;TZID=Europe/Paris:20191111T080000
DTEND;TZID=Europe/Paris:20191130T170000
DTSTAMP:20260422T173235
CREATED:20191105T170058Z
LAST-MODIFIED:20191105T170058Z
UID:39409-1573459200-1575133200@www.ville-lunion.fr
SUMMARY:Exposition photo "Vénitiens Vénitiennes"
DESCRIPTION:présentée par Sylvain CARRON et Union Images
URL:https://www.ville-lunion.fr/evenement/exposition-photo-venitiens-venitiennes/
LOCATION:Le Lumière\, 6 Rue du Pic du Midi\, L'Union\, 31240\, France
CATEGORIES:Associations
ATTACH;FMTTYPE=image/jpeg:https://www.ville-lunion.fr/wp-content/uploads/2019/11/10-11-19.jpg
END:VEVENT
BEGIN:VEVENT
DTSTART;TZID=Europe/Paris:20191111T163000
DTEND;TZID=Europe/Paris:20191111T163000
DTSTAMP:20260422T173235
CREATED:20191001T145146Z
LAST-MODIFIED:20191104T094742Z
UID:39272-1573489800-1573489800@www.ville-lunion.fr
SUMMARY:commémoration de l’armistice du 11 novembre 1918
DESCRIPTION:A l’occasion du 101e anniversaire de l’armistice de la 1ere Guerre Mondiale\, nous vos donnons rendez-vous au monument pour la cérémonie devant le monument aux morts. \nNous vous invitons à découvrir les pionniers de l’aviation qui ont participé à ce conflit. A partir d’une exposition élaboré par l’Office National des Anciens Combattants et le groupe Safran mais également au travers de souvenirs\, photos et lettres confiées par des familles\, vous pourrez partir sur les traces de ces hommes qui ont marqué l’histoire de l’aviation. A la salle des fêtes. \n \nNous continuerons à nous souvenir des 20 poilus dont le nom est gravé sur notre monument.
URL:https://www.ville-lunion.fr/evenement/commemoration-de-larmistice-du-11-novembre-1918/
LOCATION:Parvis du collège\, 9 bis avenue des Pyrénées\, l'union\, 31240
CATEGORIES:Mairie
ATTACH;FMTTYPE=image/jpeg:https://www.ville-lunion.fr/wp-content/uploads/2017/02/commemoration-e1650990052556.jpg
END:VEVENT
BEGIN:VEVENT
DTSTART;TZID=Europe/Paris:20191115T200000
DTEND;TZID=Europe/Paris:20191115T200000
DTSTAMP:20260422T173235
CREATED:20191001T135433Z
LAST-MODIFIED:20191001T135433Z
UID:39261-1573848000-1573848000@www.ville-lunion.fr
SUMMARY:Soirée chants basques
DESCRIPTION:Organisée par l’ASU Handball \nEntrée 10 € \nRéservation : asuhandball@gmail.com – 06 84 00 42 85
URL:https://www.ville-lunion.fr/evenement/soiree-chants-basques/
LOCATION:Salle des fêtes de L’Union\, 6 Avenue des Pyrénées\, L'Union\, 31240\, France
CATEGORIES:Associations
ATTACH;FMTTYPE=image/jpeg:https://www.ville-lunion.fr/wp-content/uploads/2019/10/Indira-ASUHB.jpg
END:VEVENT
BEGIN:VEVENT
DTSTART;VALUE=DATE:20191116
DTEND;VALUE=DATE:20191118
DTSTAMP:20260422T173235
CREATED:20190917T081408Z
LAST-MODIFIED:20191021T130631Z
UID:39126-1573862400-1574035199@www.ville-lunion.fr
SUMMARY:FESTIVAL DE LECTURES À HAUTE VOIX
DESCRIPTION:Avec une motivation qui grandit chaque année\, voila le retour de la quatrième édition du festival de lecture. La Commission Citoyenne Culture de la\nMunicipalité\, ainsi que plusieurs associations culturelles unionaises et la librairie Les Passantes partenaires de l’organisation\, ont pour objectif de\nmettre en exergue certains auteurs peu connus de la région\, alliant ainsi histoire\, partage et convivialité.\nDes lectures publiques mais également musicales\, ainsi que des rencontres avec les auteurs sont au programme. \nLes lieux : salon du château de Malpagat\, bibliothèque de L’Union\, librairie Les Passantes. \nProgramme 
URL:https://www.ville-lunion.fr/evenement/festival-de-lectures-a-haute-voix-2/
CATEGORIES:Mairie
ATTACH;FMTTYPE=image/jpeg:https://www.ville-lunion.fr/wp-content/uploads/2019/09/festival-lecture-2019.jpg
END:VEVENT
BEGIN:VEVENT
DTSTART;TZID=Europe/Paris:20191116T203000
DTEND;TZID=Europe/Paris:20191116T203000
DTSTAMP:20260422T173235
CREATED:20190917T081823Z
LAST-MODIFIED:20190917T085220Z
UID:39129-1573936200-1573936200@www.ville-lunion.fr
SUMMARY:B & M COMPAGNIE HORIZONS
DESCRIPTION:Manon Bastardie a choisi de mettre en scène deux danseuses aux parcours différents. Elle raconte et montre au grand public ce que des artistes de provenances\net de styles distincts\, sans liens entre eux\, peuvent accomplir ensemble. Il s’agit de montrer que la coopération reste un lien social puissant pouvant dépasser les convictions professionnelles de chacun.\nLe monde de la danse est aujourd’hui désuni et la société plus généralement\, il est donc nécessaire de prouver qu’il existe toujours une union dans le monde artistique et culturel.\nPar cette pièce de 50 minutes\, notre chorégraphe et danseuse répond à l’interrogation qui lui a toujours été posée : « veux tu faire du classique ou du contemporain ?\n– Les deux » affirme-t-elle tranquillement… \nTOUT PUBLIC\nplacement libre\ndurée : 50’\nTarifs\n:plein tarif 13€\, intermédiaire 10€ (+65 ans\, groupe 10 personnes)\, réduit 8€ (étudiants\, -25 ans\, demandeurs d’emploi\, intermittents\, -12 ans \nBilletterie
URL:https://www.ville-lunion.fr/evenement/b-m-compagnie-horizons/
LOCATION:Grande Halle de l’Union\, Rue du Somport\, L'Union\, 31240\, France
CATEGORIES:Spectacles
ATTACH;FMTTYPE=image/jpeg:https://www.ville-lunion.fr/wp-content/uploads/2019/09/bm.jpg
END:VEVENT
BEGIN:VEVENT
DTSTART;TZID=Europe/Paris:20191117T140000
DTEND;TZID=Europe/Paris:20191117T140000
DTSTAMP:20260422T173235
CREATED:20191108T110907Z
LAST-MODIFIED:20191108T111009Z
UID:39430-1573999200-1573999200@www.ville-lunion.fr
SUMMARY:match de la coupe de France football
DESCRIPTION:
URL:https://www.ville-lunion.fr/evenement/match-de-la-coupe-de-france-football/
LOCATION:Stade Georges BEYNEY\, 11 rue du Puy de Sancy\, L'Union\, 31240\, France
CATEGORIES:Sport
END:VEVENT
BEGIN:VEVENT
DTSTART;TZID=Europe/Paris:20191120T150000
DTEND;TZID=Europe/Paris:20191120T150000
DTSTAMP:20260422T173235
CREATED:20190917T082246Z
LAST-MODIFIED:20190917T085159Z
UID:39132-1574262000-1574262000@www.ville-lunion.fr
SUMMARY:CONCERT NEW SHUFFLE
DESCRIPTION:Dans le cadre de la semaine « Ville et Handicap » du 12 au 25 Novembre 2019\, le groupe New Shuffle\, avec plus de 4 ans d’existence\, composé de patients d’un hôpital toulousain et d’accompagnateurs à la\nfois chanteurs et musiciens\, nous présentera un spectacle musical Pop-Rock avec un répertoire varié. L’équipe pluridisciplinaire a décidé de transformer un atelier thérapeutique en atelier\nmusical\, ce qui leur permet dorénavant d’assurer des concerts ou encore des festivals.\nDes échanges peuvent avoir lieu à la suite du concert entre le public\, les musiciens et les chanteurs. \nTOUT PUBLIC\nplacement libre\nGRATUIT
URL:https://www.ville-lunion.fr/evenement/concert-new-shuffle/
LOCATION:Salle des fêtes de L’Union\, 6 Avenue des Pyrénées\, L'Union\, 31240\, France
CATEGORIES:Spectacles
ATTACH;FMTTYPE=image/jpeg:https://www.ville-lunion.fr/wp-content/uploads/2019/09/newshuffle.jpg
END:VEVENT
BEGIN:VEVENT
DTSTART;TZID=Europe/Paris:20191121T100000
DTEND;TZID=Europe/Paris:20191121T100000
DTSTAMP:20260422T173235
CREATED:20191001T145348Z
LAST-MODIFIED:20191001T145348Z
UID:39274-1574330400-1574330400@www.ville-lunion.fr
SUMMARY:Conférence AAPU Histoire de l’Art
DESCRIPTION:auditorium de la Salle des Fêtes : « Alexander Calder\, forgeron de libellules ». Ouvert à tous. Entrée 8€ pour les non-adhérents à l’Histoire de l’Art.
URL:https://www.ville-lunion.fr/evenement/conference-aapu-histoire-de-lart-4/
LOCATION:Salle des fêtes de L’Union\, 6 Avenue des Pyrénées\, L'Union\, 31240\, France
CATEGORIES:Associations
ATTACH;FMTTYPE=image/jpeg:https://www.ville-lunion.fr/wp-content/uploads/2018/11/aapu.jpg
END:VEVENT
BEGIN:VEVENT
DTSTART;TZID=Europe/Paris:20191124T100000
DTEND;TZID=Europe/Paris:20191124T100000
DTSTAMP:20260422T173235
CREATED:20191023T063321Z
LAST-MODIFIED:20191121T101507Z
UID:39375-1574589600-1574589600@www.ville-lunion.fr
SUMMARY:L’Union en piste(s) – Inauguration de la passerelle du lac
DESCRIPTION:Située dans la zone verte de St Caprais\, la “passerelle du lac”\, telle que l’ont baptisée les enfants du conseil municipal des jeunes\, a été livrée en novembre 2019\, après des retards liés à des aléas techniques. Elle sera officiellement inaugurée le dimanche 24 novembre à 10h30\, en présence de Jean-Luc Moudenc\, Maire de Toulouse et Président de Toulouse Métropole\, Pierre Izard\, Président du Syndicat Départemental d’Énergie de la Haute-Garonne et Marc Péré\, Maire de L’Union\, Vice-président de Toulouse Métropole. \nMais avant cela\, les cyclistes qui le souhaitent pourront prendre le départ d’une balade à vélo à la découverte de la passerelle en question. Départ à 10h devant la Grande Halle. Le cortège rejoindra la délégation officielle pour assister à l’inauguration. \nUn nouvel équipement qui réduit considérablement les temps de déplacement vers la ligne A du métro. \nIntégrée dans son environnement naturel\, elle permettra de relier à vélo le centre-ville de L’Union à la station de métro terminus de « Balma-Gramont » en 15 minutes environ mais aussi aux cyclistes de notre commune de prendre un raccourci inédit vers le Sud Est de la métropole. \nUne étape décisive pour “L’Union ville cyclable” \nElle s’inscrit dans le cadre du plan cyclable de notre commune « L’Union ville cyclable » qui tisse progressivement sa toile et un réseau complet d’itinéraires cyclables continus et fléchés afin de faciliter les déplacements sécurisés à vélo. Les «  modes de déplacements doux  » en seront donc facilités. \nLa « balade des deux passerelles » : un circuit festif pour marquer l’événement \nLe dimanche 24 novembre\, le cortège du Père Noël s’élancera à 10h00 du marché de Noel à la Grande Halle pour une balade à vélo qui le conduira à la toute nouvelle « passerelle du lac ». Il empruntera pour cela l’itinéraire fléché en boucle  conçu à cette occasion. \nLes cyclistes seront accueillis en musique à leur retour au Marché de Noel. \nRecommandations importantes : \n\nPrévoir des gilets réfléchissants\, des casques (obligatoires pour les enfants de moins de 12 ans) et une tenue adaptée en fonction du temps.\nLe peloton s’adaptera au rythme des enfants. Une courte pause sera effectuée à la « passerelle du lac »\n\n 
URL:https://www.ville-lunion.fr/evenement/lunion-en-pistes-decouverte-des-passerelles-du-lac/
LOCATION:devant la Grande Halle\, rue du Somport\, L'Union (31240)\, France
CATEGORIES:Mairie,Sport
ATTACH;FMTTYPE=image/jpeg:https://www.ville-lunion.fr/wp-content/uploads/2019/10/affiche-LUnion-en-piste-2019-V-TM.jpg
END:VEVENT
BEGIN:VEVENT
DTSTART;TZID=Europe/Paris:20191124T170000
DTEND;TZID=Europe/Paris:20191124T170000
DTSTAMP:20260422T173235
CREATED:20190917T165058Z
LAST-MODIFIED:20190918T061604Z
UID:39189-1574614800-1574614800@www.ville-lunion.fr
SUMMARY:Théâtre - le dieu du carnage
DESCRIPTION:par la troupe de l’oiseau moqueur \nVéronique et Michel Houillé\, parents du petit Bruno\, reçoivent Annette et Alain Reille\, parents de Ferdinand qui a frappé au visage leur fils dans un square.Les deux couples ont décidé de cette entrevue pour régler « l’affaire » avec civisme. Au tout début\, bienveillants et conciliants\, ils tentent de tenir un discours commun de tolérance qui va s’envenimer peu à peu. \nEntrée libre – participation au chapeau
URL:https://www.ville-lunion.fr/evenement/theatre-le-dieu-du-carnage/
LOCATION:Salle des fêtes de L’Union\, 6 Avenue des Pyrénées\, L'Union\, 31240\, France
CATEGORIES:Associations
ATTACH;FMTTYPE=image/jpeg:https://www.ville-lunion.fr/wp-content/uploads/2019/09/image-oiseau-moqueur.jpg
END:VEVENT
BEGIN:VEVENT
DTSTART;TZID=Europe/Paris:20191126T183000
DTEND;TZID=Europe/Paris:20191126T183000
DTSTAMP:20260422T173235
CREATED:20191001T150458Z
LAST-MODIFIED:20191001T150542Z
UID:39278-1574793000-1574793000@www.ville-lunion.fr
SUMMARY:Cérémonie des nouveaux arrivants
DESCRIPTION:Vous venez de vous installer à L’Union?\nMarc Péré et les élus du Conseil Municipal vous accueillent à la Mairie. \nCette rencontre permet aux nouveaux habitants de mieux faire connaissance avec leur ville et découvrir les services qu’elle propose. \nSi vous souhaitez y participer\, vous pouvez vous inscrire dès à présent en mairie ou à courrier@mairie-lunion.fr
URL:https://www.ville-lunion.fr/evenement/ceremonie-des-nouveaux-arrivants/
LOCATION:Mairie – salle des mariages\, 6bis avenue des Pyrénées\, L'UNION\, 31240
CATEGORIES:Mairie
ATTACH;FMTTYPE=image/jpeg:https://www.ville-lunion.fr/wp-content/uploads/2016/12/mairie-entree.jpg
END:VEVENT
BEGIN:VEVENT
DTSTART;VALUE=DATE:20191128
DTEND;VALUE=DATE:20191220
DTSTAMP:20260422T173235
CREATED:20191001T145523Z
LAST-MODIFIED:20191001T145637Z
UID:39276-1574899200-1576799999@www.ville-lunion.fr
SUMMARY:exposition AAPU - « Ombre et lumière »
DESCRIPTION:
URL:https://www.ville-lunion.fr/evenement/exposition-aapu-ombre-et-lumiere/
LOCATION:Bibliothèque de L’Union\, 6 Avenue de Toulouse\, 31240
CATEGORIES:Associations
ATTACH;FMTTYPE=image/jpeg:https://www.ville-lunion.fr/wp-content/uploads/2018/11/aapu.jpg
END:VEVENT
BEGIN:VEVENT
DTSTART;TZID=Europe/Paris:20191128T200000
DTEND;TZID=Europe/Paris:20191128T200000
DTSTAMP:20260422T173235
CREATED:20191011T092710Z
LAST-MODIFIED:20191011T092710Z
UID:39300-1574971200-1574971200@www.ville-lunion.fr
SUMMARY:Soirée Théâtre-débat
DESCRIPTION:Familles connectées : quelle vie au quotidien avec nos écrans ? \n# temps préservés # moments partagés # vies accélérées \nAvec la Compagnie Canal’Art Animée par Raphaëlle Drouhin Montoya\, psychologue à l’Ecole des parents et des éducateurs \nOuvert à tous – Entrée gratuite\nSoirée réservée aux adultes\, qui commencera à 20h précises avec la 1ère scénette et se clôturera par un moment convivial.
URL:https://www.ville-lunion.fr/evenement/soiree-theatre-debat/
LOCATION:Salle des fêtes de L’Union\, 6 Avenue des Pyrénées\, L'Union\, 31240\, France
CATEGORIES:Mairie
ATTACH;FMTTYPE=image/jpeg:https://www.ville-lunion.fr/wp-content/uploads/2019/10/theatre-débat.jpg
END:VEVENT
BEGIN:VEVENT
DTSTART;TZID=Europe/Paris:20191130T160000
DTEND;TZID=Europe/Paris:20191130T160000
DTSTAMP:20260422T173235
CREATED:20190917T082550Z
LAST-MODIFIED:20191021T145421Z
UID:39135-1575129600-1575129600@www.ville-lunion.fr
SUMMARY:CONCERT DE LA SAINTE-CÉCILE
DESCRIPTION:Le Pôle Musical de l’Union et ses talentueux membres vous convient à leur traditionnel concert de la Sainte Cécile.\nAu cours de cette soirée\, ce seront différents ensembles qui se croiseront sur scène : l’harmonie\, la banda\, l’école de percussion\, l’orchestre symphonique ou encore l’orchestre école et d’autres\nensembles.\nCette soirée\, placée sous le bienveillant parrainage de la sainte patronne des musiciens\, mélangera les styles. C’est du mariage très réussi\, entre tous les musiciens et chanteurs amateurs qui font leurs\ngammes au château Malpagat\, que naîtra cette édition 2019 à la Grande Halle. \nTOUT PUBLIC\nplacement libre\nGRATUIT \ninformations :\nwww.ecoledemusiquedelunion.fr – 05 61 74 02 01 –\npole@musiqueunion.fr
URL:https://www.ville-lunion.fr/evenement/concert-de-la-sainte-cecile/
LOCATION:Grande Halle de l’Union\, Rue du Somport\, L'Union\, 31240\, France
CATEGORIES:Associations
ATTACH;FMTTYPE=image/jpeg:https://www.ville-lunion.fr/wp-content/uploads/2019/09/ste-cecile-2019.jpg
END:VEVENT
BEGIN:VEVENT
DTSTART;TZID=Europe/Paris:20191130T180000
DTEND;TZID=Europe/Paris:20191130T180000
DTSTAMP:20260422T173235
CREATED:20191122T081202Z
LAST-MODIFIED:20191122T081202Z
UID:39500-1575136800-1575136800@www.ville-lunion.fr
SUMMARY:Match Handball au profit du TELETHON
DESCRIPTION:
URL:https://www.ville-lunion.fr/evenement/match-handball-au-profit-du-telethon/
LOCATION:Stade Georges BEYNEY\, 11 rue du Puy de Sancy\, L'Union\, 31240\, France
CATEGORIES:Sport
ATTACH;FMTTYPE=image/jpeg:https://www.ville-lunion.fr/wp-content/uploads/2019/11/Affiche-Hand-2019-11-30-A-telethon.jpg
END:VEVENT
END:VCALENDAR