BEGIN:VCALENDAR
VERSION:2.0
PRODID:-//Ville de L&#039;Union - ECPv6.15.13//NONSGML v1.0//EN
CALSCALE:GREGORIAN
METHOD:PUBLISH
X-WR-CALNAME:Ville de L&#039;Union
X-ORIGINAL-URL:https://www.ville-lunion.fr
X-WR-CALDESC:Évènements pour Ville de L&#039;Union
REFRESH-INTERVAL;VALUE=DURATION:PT1H
X-Robots-Tag:noindex
X-PUBLISHED-TTL:PT1H
BEGIN:VTIMEZONE
TZID:Europe/Paris
BEGIN:DAYLIGHT
TZOFFSETFROM:+0100
TZOFFSETTO:+0200
TZNAME:CEST
DTSTART:20180325T010000
END:DAYLIGHT
BEGIN:STANDARD
TZOFFSETFROM:+0200
TZOFFSETTO:+0100
TZNAME:CET
DTSTART:20181028T010000
END:STANDARD
BEGIN:DAYLIGHT
TZOFFSETFROM:+0100
TZOFFSETTO:+0200
TZNAME:CEST
DTSTART:20190331T010000
END:DAYLIGHT
BEGIN:STANDARD
TZOFFSETFROM:+0200
TZOFFSETTO:+0100
TZNAME:CET
DTSTART:20191027T010000
END:STANDARD
BEGIN:DAYLIGHT
TZOFFSETFROM:+0100
TZOFFSETTO:+0200
TZNAME:CEST
DTSTART:20200329T010000
END:DAYLIGHT
BEGIN:STANDARD
TZOFFSETFROM:+0200
TZOFFSETTO:+0100
TZNAME:CET
DTSTART:20201025T010000
END:STANDARD
END:VTIMEZONE
BEGIN:VEVENT
DTSTART;VALUE=DATE:20190926
DTEND;VALUE=DATE:20191018
DTSTAMP:20260422T185044
CREATED:20190820T155053Z
LAST-MODIFIED:20190820T155053Z
UID:38997-1569456000-1571356799@www.ville-lunion.fr
SUMMARY:AAPU : exposition
DESCRIPTION:Thème: « les fleurs ». \nVernissage le 26 septembre à 18h30 (entrée libre)
URL:https://www.ville-lunion.fr/evenement/aapu-exposition/
LOCATION:Bibliothèque de L’Union\, 6 Avenue de Toulouse\, 31240
CATEGORIES:Associations
ATTACH;FMTTYPE=image/jpeg:https://www.ville-lunion.fr/wp-content/uploads/2019/08/fleurs.jpg
END:VEVENT
BEGIN:VEVENT
DTSTART;TZID=Europe/Paris:20191003T100000
DTEND;TZID=Europe/Paris:20191003T100000
DTSTAMP:20260422T185044
CREATED:20191001T123105Z
LAST-MODIFIED:20191001T154943Z
UID:39248-1570096800-1570096800@www.ville-lunion.fr
SUMMARY:Réunion d'information SIEL BLEU - Activités sportives de prévention
DESCRIPTION:Après le succès des précédentes sessions\, le CCAS et la mairie de L’Union renouvellent le partenariat avec l’association Siel Bleu pour reconduire des activités physiques\nadaptées aux seniors. Ce dispositif gratuit s’adresse aux Unionais de plus de 60 ans n’en ayant encore jamais bénéficié.\nL’objectif est d’améliorer les capacités physiques et de maintenir une qualité de vie.\nA l’issue de cette rencontre\, vous aurez la possibilité de vous inscrire à 20 séances collectives d’activités physiques adaptées à la Maison des Sports à compter du 9 octobre.\nDes éducateurs sportifs diplômés encadrent ces activités.
URL:https://www.ville-lunion.fr/evenement/reunion-dinformation-siel-bleu-activites-sportives-de-prevention-lunionais/
LOCATION:Salle des fêtes de L’Union\, 6 Avenue des Pyrénées\, L'Union\, 31240\, France
CATEGORIES:Mairie
ATTACH;FMTTYPE=image/jpeg:https://www.ville-lunion.fr/wp-content/uploads/2019/09/siel-bleu.jpg
END:VEVENT
BEGIN:VEVENT
DTSTART;TZID=Europe/Paris:20191005T100000
DTEND;TZID=Europe/Paris:20191005T170000
DTSTAMP:20260422T185044
CREATED:20190917T115111Z
LAST-MODIFIED:20190917T115111Z
UID:39184-1570269600-1570294800@www.ville-lunion.fr
SUMMARY:GRANDE BRADERIE du Secours Populaire
DESCRIPTION:
URL:https://www.ville-lunion.fr/evenement/grande-braderie-du-secours-populaire/
LOCATION:Salle des fêtes de L’Union\, 6 Avenue des Pyrénées\, L'Union\, 31240\, France
CATEGORIES:Associations
ATTACH;FMTTYPE=image/jpeg:https://www.ville-lunion.fr/wp-content/uploads/2017/03/Secours-Populaire.jpg
ORGANIZER;CN="Secours Populaire Fran%C3%A7ais Antenne de l'Union":MAILTO:spf.lunion@gmail.com Horaires
END:VEVENT
BEGIN:VEVENT
DTSTART;TZID=Europe/Paris:20191006T160000
DTEND;TZID=Europe/Paris:20191006T160000
DTSTAMP:20260422T185044
CREATED:20190605T090328Z
LAST-MODIFIED:20190819T100331Z
UID:38640-1570377600-1570377600@www.ville-lunion.fr
SUMMARY:Concert des Stentors
DESCRIPTION:Le groupe aux 3 voix d’Opéra\, puissantes et envoûtantes !\nAprès plus de 900.000 albums vendus\, récompensés par 6 disques de platine et disques d’or\, Les STENTORS vous livrent ici\, leur tout nouveau spectacle à l’occasion de la sortie de leur 6e album «UN TOUR EN FRANCE».\nHarmonie\, symbiose des voix poussées à leurs extrêmes\, émotion au service des plus grandes chansons du patrimoine français.\nVous retrouverez dans ce spectacle\,\n– leurs plus grands succès sur les régions : Les corons\, Méditerranée…\n– les chansons indémodables et patriotiques : Mon amant de St Jean\, Le chant des partisans\, 7 milliards de gens sur terre\, Ensemble …\n– des chansons d’amour : le premier pas …\n– leurs titres inédits\nUn spectacle tout public de 1h45\nDes Voix d’exception à découvrir d’urgence ! \nTarifs spécial « Unionais » : billet carré d’or (parterre) : 30€  / billet 1ère série (gradins)  25€ – Placement libre \nRéservations : 05 62 89 22 86
URL:https://www.ville-lunion.fr/evenement/concert-des-stentors/
LOCATION:Grande Halle de l’Union\, Rue du Somport\, L'Union\, 31240\, France
CATEGORIES:Spectacles
ATTACH;FMTTYPE=image/jpeg:https://www.ville-lunion.fr/wp-content/uploads/2019/06/les-stentors-un-tour-en-france-web.jpg
END:VEVENT
BEGIN:VEVENT
DTSTART;TZID=Europe/Paris:20191010T100000
DTEND;TZID=Europe/Paris:20191010T120000
DTSTAMP:20260422T185044
CREATED:20190820T155317Z
LAST-MODIFIED:20191001T144323Z
UID:39000-1570701600-1570708800@www.ville-lunion.fr
SUMMARY:conférence AAPU Histoire de l’Art
DESCRIPTION:auditorium de la salle des fêtes- entrée\, 8€ pour les non adhérents à l’histoire de l’Art \nToulouse les années folles
URL:https://www.ville-lunion.fr/evenement/conference-aapu-histoire-de-lart-3/
LOCATION:Salle des fêtes de L’Union\, 6 Avenue des Pyrénées\, L'Union\, 31240\, France
CATEGORIES:Associations
ATTACH;FMTTYPE=image/jpeg:https://www.ville-lunion.fr/wp-content/uploads/2018/11/aapu.jpg
END:VEVENT
BEGIN:VEVENT
DTSTART;VALUE=DATE:20191011
DTEND;VALUE=DATE:20191014
DTSTAMP:20260422T185044
CREATED:20190820T155602Z
LAST-MODIFIED:20190820T155602Z
UID:39002-1570752000-1571011199@www.ville-lunion.fr
SUMMARY:salon des fossiles et minéraux
DESCRIPTION:Entrée libre
URL:https://www.ville-lunion.fr/evenement/salon-des-fossiles-et-mineraux-2/
LOCATION:Grande Halle de l’Union\, Rue du Somport\, L'Union\, 31240\, France
CATEGORIES:Associations
ATTACH;FMTTYPE=image/jpeg:https://www.ville-lunion.fr/wp-content/uploads/2019/08/fossiles2019-e1597760893989.jpg
END:VEVENT
BEGIN:VEVENT
DTSTART;VALUE=DATE:20191011
DTEND;VALUE=DATE:20191104
DTSTAMP:20260422T185044
CREATED:20191001T134001Z
LAST-MODIFIED:20191004T085054Z
UID:39254-1570752000-1572825599@www.ville-lunion.fr
SUMMARY:expo photos « Ce que je suis »
DESCRIPTION:Cette exposition est l’aboutissement d’un projet soutenu et financé par Toulouse Métropole et réalisé par le collectif de vidéastes et\nphotographes « Le petit cowboy».\nDes Unionais volontaires ont été mis en scène et photographiés\, montrant deux facettes de leur personnalité : l’une dans leur quotidien \,\nl’autre dans une mise en scène exprimant leur rêve\, leur désir\, du plus simple au plus fou !\nL’aboutissement de ce travail a déjà été exposé à la Cartoucherie à Toulouse en juin 2019 réunissant également les villes de Brax \, Launaguet et Cugnaux.\nVernissage le 18 octobre à 18h30 au Château.\nVous aurez l’occasion d’échanger avec les membres du collectif « Le petit cow boy» et bien évidemment avec nos « acteurs » Unionais ! \nhttps://www.ville-lunion.fr/wp-content/uploads/2019/10/Ce-que-je-suis-LUnion-converted-with-Clipchamp.mp4
URL:https://www.ville-lunion.fr/evenement/expo-photos-ce-que-je-suis/
LOCATION:Parc de Malpagat\, L'UNION\, 31240
CATEGORIES:Mairie
ATTACH;FMTTYPE=image/jpeg:https://www.ville-lunion.fr/wp-content/uploads/2019/09/ce-que-je-suis.jpg
END:VEVENT
BEGIN:VEVENT
DTSTART;TZID=Europe/Paris:20191012T200000
DTEND;TZID=Europe/Paris:20191012T200000
DTSTAMP:20260422T185044
CREATED:20191008T075139Z
LAST-MODIFIED:20191008T075139Z
UID:39296-1570910400-1570910400@www.ville-lunion.fr
SUMMARY:Football FFF Coupe de France - 5e tour L'Union St Jean FC  VS FC Foix
DESCRIPTION:
URL:https://www.ville-lunion.fr/evenement/football-fff-coupe-de-france-5e-tour-lunion-st-jean-fc-vs-fc-foix/
LOCATION:Stade Georges BEYNEY\, 11 rue du Puy de Sancy\, L'Union\, 31240\, France
CATEGORIES:Sport
ATTACH;FMTTYPE=image/jpeg:https://www.ville-lunion.fr/wp-content/uploads/2019/10/Affiche-du-week-end.jpg
END:VEVENT
BEGIN:VEVENT
DTSTART;TZID=Europe/Paris:20191013T100000
DTEND;TZID=Europe/Paris:20191013T120000
DTSTAMP:20260422T185044
CREATED:20191001T130413Z
LAST-MODIFIED:20191001T130413Z
UID:39250-1570960800-1570968000@www.ville-lunion.fr
SUMMARY:Matinée de ramassage de déchets sur l’Union
DESCRIPTION:Cleanup Day \nNous vous convions à une matinée de ramassage de déchets sur l’Union.\nPour des raisons d’agenda\, nous n’avons pas pu participer au World Cleanup Day de septembre.\nL’opération se déroulera le dimanche 13 octobre de 10h00 à 12h00. Le départ se fera du parking en face du restaurant Mac Donald\, avenue de Saint Caprais. Les participants remonteront le long de l’Hers\, puis de la Sausse pour terminer au lac. Les enfants peuvent participer.\nLes sacs et les gants sont fournis. Il est bien sûr peu recommandé de mettre des habits du dimanche pour participer à cette opération conviviale et citoyenne !\nLa commission citoyenne environnement se joindra à cet événement civique.
URL:https://www.ville-lunion.fr/evenement/matinee-de-ramassage-de-dechets-sur-lunion/
LOCATION:avenue du St Caprais\, L'UNION
CATEGORIES:Mairie
ATTACH;FMTTYPE=image/jpeg:https://www.ville-lunion.fr/wp-content/uploads/2019/10/CLEAN-UP.jpg
END:VEVENT
BEGIN:VEVENT
DTSTART;VALUE=DATE:20191014
DTEND;VALUE=DATE:20191015
DTSTAMP:20260422T185044
CREATED:20190917T115319Z
LAST-MODIFIED:20190917T153615Z
UID:39186-1571011200-1571097599@www.ville-lunion.fr
SUMMARY:projection du film « Pauvre de nous » proposé par le Secours Populaire
DESCRIPTION:« Pour vivre ou pour survivre ? « Pauvres de nous » est un film qui raconte le cycle de ces vies auxquelles beaucoup n’échappent pas. De l’adolescence à la retraite\, il dévoile le visage sans compromis de la pauvreté. Cinq profils\, cinq regards… cinq générations qui ont osé parler sans tabou de leur douloureux quotidien. Des enfants\, des hommes et des femmes qui nous ressemblent. »\nPar votre présence \, vous soutiendrez notre action . \n+ d’info : 07 86 21 30 51\nspf.lunion@gmail.com \n 
URL:https://www.ville-lunion.fr/evenement/projection-du-film-pauvre-de-nous-propose-par-le-secours-populaire/
LOCATION:Le Lumière\, 6 Rue du Pic du Midi\, L'Union\, 31240\, France
CATEGORIES:Associations
ATTACH;FMTTYPE=image/jpeg:https://www.ville-lunion.fr/wp-content/uploads/2017/03/Secours-Populaire.jpg
END:VEVENT
BEGIN:VEVENT
DTSTART;TZID=Europe/Paris:20191017T140000
DTEND;TZID=Europe/Paris:20191017T140000
DTSTAMP:20260422T185044
CREATED:20191001T122306Z
LAST-MODIFIED:20191001T122306Z
UID:39245-1571320800-1571320800@www.ville-lunion.fr
SUMMARY:Après-midi Senior 2ÈME ÉDITION
DESCRIPTION:Tout savoir pour tout faire ! \nLa retraite vous laisse davantage de temps libre ! Vous souhaitez rester actifs\, pratiquer du sport\, organiser vos loisirs sur la commune\, adapter votre logement ou tout simplement connaître les dispositifs adaptés à votre situation ?\nLe CCAS vous propose de rencontrer les acteurs associatifs et institutionnels intervenant dans le domaine des sports\, des loisirs mais aussi des services (aide à domicile mutuelle\, logement) sur la commune.\nDémonstrations et interventions animeront l’après-midi du jeudi 17 octobre à la maison des sports\nEntrée libre. Plus d’informations au CCAS 05 62 79 86 16
URL:https://www.ville-lunion.fr/evenement/apres-midi-senior-2eme-edition/
LOCATION:Salle C1 Maison des sports\, rue du Puy de Sancy \, L'UNION\, 31240
CATEGORIES:Mairie
ATTACH;FMTTYPE=image/jpeg:https://www.ville-lunion.fr/wp-content/uploads/2019/10/BIEN-VIEILLIR.jpg
END:VEVENT
BEGIN:VEVENT
DTSTART;TZID=Europe/Paris:20191019T203000
DTEND;TZID=Europe/Paris:20191019T203000
DTSTAMP:20260422T185044
CREATED:20190925T092857Z
LAST-MODIFIED:20190925T092857Z
UID:39226-1571517000-1571517000@www.ville-lunion.fr
SUMMARY:Théâtre « Devinez qui ? »
DESCRIPTION:de Sébastien Azzopardi d’après un roman Agatha Christie par Harmonies Théâtre de Villaudric \nEntrée 5€ au profit du Téléthon – \nUne buvette et pâtisserie seront en vente pour le Téléthon.
URL:https://www.ville-lunion.fr/evenement/theatre-devinez-qui/
LOCATION:Salle des fêtes de L’Union\, 6 Avenue des Pyrénées\, L'Union\, 31240\, France
CATEGORIES:Associations
ATTACH;FMTTYPE=image/jpeg:https://www.ville-lunion.fr/wp-content/uploads/2019/09/devinez-qui.jpg
END:VEVENT
BEGIN:VEVENT
DTSTART;VALUE=DATE:20191021
DTEND;VALUE=DATE:20191024
DTSTAMP:20260422T185044
CREATED:20190820T155816Z
LAST-MODIFIED:20190820T155816Z
UID:39006-1571616000-1571875199@www.ville-lunion.fr
SUMMARY:collecte don du sang
DESCRIPTION:de 14 à 19h
URL:https://www.ville-lunion.fr/evenement/collecte-don-du-sang/
LOCATION:Salle des fêtes de L’Union\, 6 Avenue des Pyrénées\, L'Union\, 31240\, France
CATEGORIES:Associations
ATTACH;FMTTYPE=image/jpeg:https://www.ville-lunion.fr/wp-content/uploads/2016/12/don-du-sang.jpg
END:VEVENT
BEGIN:VEVENT
DTSTART;VALUE=DATE:20191027
DTEND;VALUE=DATE:20191028
DTSTAMP:20260422T185044
CREATED:20190820T160503Z
LAST-MODIFIED:20191001T144605Z
UID:39008-1572134400-1572220799@www.ville-lunion.fr
SUMMARY:bourse aux jouets de la Ludothèque
DESCRIPTION:Renseignements : 05 62 89 10 39 \nLe 27 octobre 2019 à L’Union\, aura lieu la 7ème édition de la Bourse aux Jouets.\nVendeurs et acheteurs\, enfants et parents\, se retrouveront à la Grande Halle de 8h à 18h.\nUne centaine d’exposants vous accueilleront.\nC’est l’occasion de donner une seconde vie aux jouets en les vendant pour quelques euros qui seront réinvestis dans d’autres achats. Pour les autres c’est profiter de\nl’occasion en achetant à bas prix\, des jeux\, des livres pour enfants\, des habits et du matériel de puériculture. La bonne affaire n’est jamais loin !
URL:https://www.ville-lunion.fr/evenement/bourse-aux-jouets-de-la-ludotheque-2/
LOCATION:Grande Halle de l’Union\, Rue du Somport\, L'Union\, 31240\, France
CATEGORIES:Associations,Cinéma
ATTACH;FMTTYPE=image/jpeg:https://www.ville-lunion.fr/wp-content/uploads/2019/08/bourse2019-e1597761531374.jpg
END:VEVENT
END:VCALENDAR