BEGIN:VCALENDAR
VERSION:2.0
PRODID:-//Ville de L&#039;Union - ECPv6.15.13//NONSGML v1.0//EN
CALSCALE:GREGORIAN
METHOD:PUBLISH
X-WR-CALNAME:Ville de L&#039;Union
X-ORIGINAL-URL:https://www.ville-lunion.fr
X-WR-CALDESC:Évènements pour Ville de L&#039;Union
REFRESH-INTERVAL;VALUE=DURATION:PT1H
X-Robots-Tag:noindex
X-PUBLISHED-TTL:PT1H
BEGIN:VTIMEZONE
TZID:Europe/Paris
BEGIN:DAYLIGHT
TZOFFSETFROM:+0100
TZOFFSETTO:+0200
TZNAME:CEST
DTSTART:20180325T010000
END:DAYLIGHT
BEGIN:STANDARD
TZOFFSETFROM:+0200
TZOFFSETTO:+0100
TZNAME:CET
DTSTART:20181028T010000
END:STANDARD
BEGIN:DAYLIGHT
TZOFFSETFROM:+0100
TZOFFSETTO:+0200
TZNAME:CEST
DTSTART:20190331T010000
END:DAYLIGHT
BEGIN:STANDARD
TZOFFSETFROM:+0200
TZOFFSETTO:+0100
TZNAME:CET
DTSTART:20191027T010000
END:STANDARD
BEGIN:DAYLIGHT
TZOFFSETFROM:+0100
TZOFFSETTO:+0200
TZNAME:CEST
DTSTART:20200329T010000
END:DAYLIGHT
BEGIN:STANDARD
TZOFFSETFROM:+0200
TZOFFSETTO:+0100
TZNAME:CET
DTSTART:20201025T010000
END:STANDARD
END:VTIMEZONE
BEGIN:VEVENT
DTSTART;TZID=Europe/Paris:20190601T140000
DTEND;TZID=Europe/Paris:20190601T170000
DTSTAMP:20260423T003235
CREATED:20190506T153711Z
LAST-MODIFIED:20190527T072044Z
UID:38337-1559397600-1559408400@www.ville-lunion.fr
SUMMARY:Récré o'parc
DESCRIPTION:Journée animations enfants par L’Union Festivités \nMaquillage\, châteaux gonflables\, jeux en bois et petit goûter ! Voici les ingrédients que L’Union Festivités vous propose lors d’un après-midi récréatif pour attendre les vacances.\nOuvert aux enfants à partir de 3 ans et à leurs parents \nEntrée libre et gratuite. \nEn cas de météo défavorable\, cette animation sera annulée. \n(Les enfants restent sous la responsabilité des parents)
URL:https://www.ville-lunion.fr/evenement/recre-olac-3/
LOCATION:chateau de Malpagat\, Allée Ronceveaux\, L'UNION\, 31240
CATEGORIES:Associations
ATTACH;FMTTYPE=image/jpeg:https://www.ville-lunion.fr/wp-content/uploads/2019/05/recreolac2019.jpg
END:VEVENT
BEGIN:VEVENT
DTSTART;TZID=Europe/Paris:20190607T210000
DTEND;TZID=Europe/Paris:20190607T210000
DTSTAMP:20260423T003235
CREATED:20180703T085533Z
LAST-MODIFIED:20180803T085542Z
UID:36582-1559941200-1559941200@www.ville-lunion.fr
SUMMARY:Concert du Big Band
DESCRIPTION:informations :\nwww.ecoledemusiquedelunion.fr – 05 61 74 02 01 –\npole@musiqueunion.fr • www.ecoledemusiquedelunion.fr
URL:https://www.ville-lunion.fr/evenement/concert-du-big-band/
LOCATION:Salle des fêtes de L’Union\, 6 Avenue des Pyrénées\, L'Union\, 31240\, France
CATEGORIES:Associations
ATTACH;FMTTYPE=image/jpeg:https://www.ville-lunion.fr/wp-content/uploads/2018/08/concert.jpg
END:VEVENT
BEGIN:VEVENT
DTSTART;TZID=Europe/Paris:20190613T100000
DTEND;TZID=Europe/Paris:20190613T100000
DTSTAMP:20260423T003235
CREATED:20190507T093238Z
LAST-MODIFIED:20190507T093238Z
UID:38347-1560420000-1560420000@www.ville-lunion.fr
SUMMARY:AAPU conférence histoire de l’Art
DESCRIPTION:Raymond Moretti\, et sa « galerie » \nà l’auditorium salle des fêtes. Ouvert à tous\, entrée 8 euros pour les non-inscrits à l’histoire de l’Art
URL:https://www.ville-lunion.fr/evenement/aapu-conference-histoire-de-lart-4/
LOCATION:Salle des fêtes de L’Union\, 6 Avenue des Pyrénées\, L'Union\, 31240\, France
CATEGORIES:Associations
ATTACH;FMTTYPE=image/jpeg:https://www.ville-lunion.fr/wp-content/uploads/2019/05/moretti.jpg
END:VEVENT
BEGIN:VEVENT
DTSTART;VALUE=DATE:20190614
DTEND;VALUE=DATE:20190617
DTSTAMP:20260423T003235
CREATED:20190528T120831Z
LAST-MODIFIED:20190607T125421Z
UID:38569-1560470400-1560729599@www.ville-lunion.fr
SUMMARY:JUMELAGE
DESCRIPTION:Nos Amis Italiens de San Biagio di Callalta seront présents les 14 15 et 16 juin. \nA cette occasion\, l’association du Jumelage de L’Union a préparé de multiples échanges. \nVendredi 14 juin à 20h30: concert piano et violoncelle à la Salle des Fêtes (Beethoven et du Schumann).\nAu piano Stefano TREVISI et au violoncelle Francesco DELLA LIBERA\, professeurs de musicologie à Venise. \nSamedi 15 à 18h30 : à la Fête du Parc\, ouverture de la soirée avec des échanges de discours et d’hymnes. \nDimanche 16 à 12h30 : journée d’échanges avec tous les Unionais qui le souhaitent et les associations autour d’un repas partagé façon « auberge espagnole » à la salle de\nconvivialité de la Belle Hôtesse. Le cinéma Le LUMIERE à cette occasion projettera à 18h un film Italien en V.O (bien sûr) – Café ROMA (tarifs habituels).
URL:https://www.ville-lunion.fr/evenement/jumelage/
CATEGORIES:Associations,Mairie
ATTACH;FMTTYPE=image/jpeg:https://www.ville-lunion.fr/wp-content/uploads/2019/05/jumelage.jpg
END:VEVENT
BEGIN:VEVENT
DTSTART;VALUE=DATE:20190615
DTEND;VALUE=DATE:20190616
DTSTAMP:20260423T003235
CREATED:20180703T144309Z
LAST-MODIFIED:20190528T145124Z
UID:36642-1560556800-1560643199@www.ville-lunion.fr
SUMMARY:La Fête du Parc
DESCRIPTION:UNE APRES MIDI SOUS LE SIGNE DE LA MUSIQUE ET DE LA DANSE \norganisée en partenariat par l’école de musique\, la MJC et L’union festivités et en collaboration avec  la bibliothèque Plaisir de lire\, l’AMU et Neptunion \nDès 14H\, le parc s’anime avec du les groupes de l’école de musique et de la MJC\, démonstration de cirque\, création d’objets volants\, observation solaire\, portes ouvertes à la bibliothèque. \nA partir de 19h\, le parc de Malpagat s’animera a capella avec le groupe  Snappin’sisters\, 8 chanteuses proposant un répertoire mêlant jazz\, groove latinos\, balades langoureuses. \nA 20h \, la Banda animera votre début de soirée \nEntrée libre \nBuvette sur place
URL:https://www.ville-lunion.fr/evenement/la-fete-du-parc-2/
LOCATION:Parc de Malpagat\, L'UNION\, 31240
CATEGORIES:Manifestations
ATTACH;FMTTYPE=image/jpeg:https://www.ville-lunion.fr/wp-content/uploads/2018/07/musique.jpg
END:VEVENT
BEGIN:VEVENT
DTSTART;TZID=Europe/Paris:20190617T200000
DTEND;TZID=Europe/Paris:20190617T200000
DTSTAMP:20260423T003235
CREATED:20190528T150029Z
LAST-MODIFIED:20190528T150029Z
UID:38585-1560801600-1560801600@www.ville-lunion.fr
SUMMARY:Conférence-débat « Comment financer une transition écologique à la hauteur des enjeux climatiques » ?
DESCRIPTION:Par : H Cellard\, référent 31 de l’association « Agir pour le Climat ». Le climatologue Jean Jouzel (vice-président du GIEC jusqu’en 2015) et l’économiste Pierre Larrouturou sont les fondateurs de l’association « Agir pour le Climat » dont le but est la promotion d’une solution européenne pour financer la transition écologique\, le Pacte Finance-Climat.\nLes scientifiques nous ont prévenus de l’urgence climatique et de la nécessité de mettre en oeuvre rapidement un modèle de développement soutenable. Financer la transition vers ce modèle est un chantier colossal. Jean Jouzel et Pierre Larrouturou proposent une solution européenne et transpartisane pour financer cette transition à la hauteur des enjeux «1000 milliards pour le climat » et ont obtenu déjà le soutien de plus de 600 personnalités politiques\, décideurs et ONG en France et à l’étranger. Une de leurs propositions est la création d’une « Banque du Climat et de la Biodiversité » qui a été incluse dans le programme de plusieurs des listes aux élections européennes.
URL:https://www.ville-lunion.fr/evenement/conference-debat-comment-financer-une-transition-ecologique-a-la-hauteur-des-enjeux-climatiques/
LOCATION:Salle C1 Maison des sports\, rue du Puy de Sancy \, L'UNION\, 31240
CATEGORIES:Manifestations
ATTACH;FMTTYPE=image/jpeg:https://www.ville-lunion.fr/wp-content/uploads/2019/05/pacte-finances-climat.jpg
END:VEVENT
BEGIN:VEVENT
DTSTART;TZID=Europe/Paris:20190621T180000
DTEND;TZID=Europe/Paris:20190621T180000
DTSTAMP:20260423T003235
CREATED:20190507T094556Z
LAST-MODIFIED:20190619T080756Z
UID:38355-1561140000-1561140000@www.ville-lunion.fr
SUMMARY:Fête de la musique
DESCRIPTION:venez fêter la musique à la salle des fêtes ! A partir de 19h30 nombreuses animations musicales : rock\, jazz\, variétés\, de la bonne humeur pour fêter l’arrivée de l’été.\nMusiciens\, chanteurs\, il reste des créneaux pour venir animer la place !\nBuvette et petite restauration.\nEn raison de météo capricieuse\, le rendez-vous est donné à la salle des fêtes et non pas la place San Biagio.
URL:https://www.ville-lunion.fr/evenement/fete-de-la-musique/
LOCATION:Salle des fêtes de L’Union\, 6 Avenue des Pyrénées\, L'Union\, 31240\, France
CATEGORIES:Associations
ATTACH;FMTTYPE=image/jpeg:https://www.ville-lunion.fr/wp-content/uploads/2018/07/musique.jpg
END:VEVENT
BEGIN:VEVENT
DTSTART;VALUE=DATE:20190622
DTEND;VALUE=DATE:20190623
DTSTAMP:20260423T003235
CREATED:20190528T141600Z
LAST-MODIFIED:20190528T141701Z
UID:38572-1561161600-1561247999@www.ville-lunion.fr
SUMMARY:INAUGURATION DU QUARTIER DES VIOLETTES
DESCRIPTION:• Animations gratuites\n• Concerts : Urban Wood\, Sax Toys\, DJ Multi Vibes\n• Participation des associations unionaises\n• Restauration : traiteur Italien\, Food trucks (salé et sucré)\n• Stands de producteurs locaux\n• Pour les petits : jeux gonflables\, manèges\, pêche aux canards\n• Tombola
URL:https://www.ville-lunion.fr/evenement/inauguration-du-quartier-des-violettes/
LOCATION:quartier des Violettes\, L'UNION\, 31240
CATEGORIES:Manifestations
ATTACH;FMTTYPE=image/jpeg:https://www.ville-lunion.fr/wp-content/uploads/2019/05/violette.jpg
END:VEVENT
BEGIN:VEVENT
DTSTART;TZID=Europe/Paris:20190622T090000
DTEND;TZID=Europe/Paris:20190622T180000
DTSTAMP:20260423T003235
CREATED:20190507T094911Z
LAST-MODIFIED:20190507T094911Z
UID:38358-1561194000-1561226400@www.ville-lunion.fr
SUMMARY:Grand meeting Auto Rétro
DESCRIPTION:Exposition et défilé du Club Auto Legend
URL:https://www.ville-lunion.fr/evenement/grand-meeting-auto-retro/
CATEGORIES:Associations
ATTACH;FMTTYPE=image/jpeg:https://www.ville-lunion.fr/wp-content/uploads/2016/12/auto-retro.jpg
END:VEVENT
BEGIN:VEVENT
DTSTART;TZID=Europe/Paris:20190622T190000
DTEND;TZID=Europe/Paris:20190622T210000
DTSTAMP:20260423T003235
CREATED:20190507T100623Z
LAST-MODIFIED:20190507T100623Z
UID:38361-1561230000-1561237200@www.ville-lunion.fr
SUMMARY:Gala danses tahitiennes
DESCRIPTION:
URL:https://www.ville-lunion.fr/evenement/gala-danses-tahitiennes/
LOCATION:Grande Halle de l’Union\, Rue du Somport\, L'Union\, 31240\, France
CATEGORIES:Associations
ATTACH;FMTTYPE=image/jpeg:https://www.ville-lunion.fr/wp-content/uploads/2019/05/affiche_220619.jpg
END:VEVENT
BEGIN:VEVENT
DTSTART;TZID=Europe/Paris:20190623T080000
DTEND;TZID=Europe/Paris:20190623T180000
DTSTAMP:20260423T003235
CREATED:20190507T100853Z
LAST-MODIFIED:20190507T100905Z
UID:38364-1561276800-1561312800@www.ville-lunion.fr
SUMMARY:Vide grenier de L’Union Saint-Jean FC
DESCRIPTION:
URL:https://www.ville-lunion.fr/evenement/vide-grenier-de-lunion-saint-jean-fc/
LOCATION:Halle St Caprais\, Route de Bayonne\, L'Union\, 31240
CATEGORIES:Associations
ATTACH;FMTTYPE=image/jpeg:https://www.ville-lunion.fr/wp-content/uploads/2019/05/vg2019.jpg
END:VEVENT
BEGIN:VEVENT
DTSTART;TZID=Europe/Paris:20190625T193000
DTEND;TZID=Europe/Paris:20190625T193000
DTSTAMP:20260423T003235
CREATED:20190522T081446Z
LAST-MODIFIED:20190604T074445Z
UID:38504-1561491000-1561491000@www.ville-lunion.fr
SUMMARY:MARATHON DES MOTS - à St JEAN
DESCRIPTION:Médiathèque les Granges | Saint-Jean \nLecture de Into the wild de Jon Krakauer par Mathurin VOLTZ \nToujours plus loin. Toujours plus au nord. Toujours plus seul. Inspiré par ses lectures de Tolstoï et de Thoreau\, Christopher Mc Candless a tout sacrifié à son idéal de pureté́ et de nature. En 1990\, une fois son diplôme universitaire en poche\, il offre ses économies à une association caritative et part\, sans un adieu\, vers son destin. Jon Krakauer évoque aussi à travers cette échappée belle ceux qui\, un jour\, ont cherché à quitter la civilisation et à dépasser leurs limites. Magistralement porté à l’écran par Sean Penn\, Into the Wild s’inscrit dans la grande tradition du road-movie tragique et lumineux\, une histoire aux échos universels. \nCRÉDITS PHOTOS\nMathurin Voltz © DR \nET AUSSI \nJeudi 27 juin à 20h30 | Château de Launaguet – Corinne Mariotto lit Le monde selon Garp de John Irving (Le Seuil) (Feuilleton littéraire 3/3) \nSamedi 29 juin  à 15h– Château Malpagat | L’Union – Rencontre avec Gilles Leroy  pour son ouvrage Le diable emporte le fils rebelle\, Mercure de France (Prix Goncourt 2007 pour Alabama song) \nDimanche 30 juin à 10h30 – librairie les Passantes | Rencontre avec Carole Fives \nhttps://www.lemarathondesmots.com/programme/
URL:https://www.ville-lunion.fr/evenement/marathon-des-mots-a-st-jean/
LOCATION:Saint-Jean\, 31240
CATEGORIES:Manifestations
ATTACH;FMTTYPE=image/jpeg:https://www.ville-lunion.fr/wp-content/uploads/2019/05/marathon-2019.jpg
END:VEVENT
BEGIN:VEVENT
DTSTART;VALUE=DATE:20190627
DTEND;VALUE=DATE:20190628
DTSTAMP:20260423T003235
CREATED:20190507T122744Z
LAST-MODIFIED:20190507T122744Z
UID:38367-1561593600-1561679999@www.ville-lunion.fr
SUMMARY:Gala de danse classique
DESCRIPTION:
URL:https://www.ville-lunion.fr/evenement/gala-de-danse-classique/
LOCATION:Grande Halle de l’Union\, Rue du Somport\, L'Union\, 31240\, France
CATEGORIES:Associations
ATTACH;FMTTYPE=image/jpeg:https://www.ville-lunion.fr/wp-content/uploads/2019/05/GALA-DANSE-CLASSIQUE.jpg
END:VEVENT
BEGIN:VEVENT
DTSTART;TZID=Europe/Paris:20190627T203000
DTEND;TZID=Europe/Paris:20190627T203000
DTSTAMP:20260423T003235
CREATED:20190522T081007Z
LAST-MODIFIED:20190603T142316Z
UID:38501-1561667400-1561667400@www.ville-lunion.fr
SUMMARY:MARATHON DES MOTS - à Launaguet
DESCRIPTION:Corinne Mariotto lit Le monde selon Garp de John Irving (Le Seuil) (Feuilleton littéraire 3/3) \nLe chef d’œuvre de John Irving à découvrir tout au long du Marathon des mots\, sous la forme d’un feuilleton littéraire en trois épisodes. Chaque épisode peut être entendu séparément. \nJenny Fields ne veut pas d’homme dans sa vie mais désire un enfant. Ainsi naît Garp. Il grandit dans le collège où sa mère est infirmière. Plus tard\, tous deux décident d’écrire. Jenny devient une icône du féminisme\, mais Garp\, heureux mari et père\, vit dans une grande peur : dans son univers dominé par les femmes\, la violence des hommes n’est jamais loin… \nQuarante ans après sa publication\, Le monde selon Garp demeure un vibrant plaidoyer en faveur de la cause des femmes – et toujours d’une brûlante actualité ! \nL’ouverture du feuilleton a lieu à Blagnac le mardi 25 et l’épisode 2 à Mondonville le mercredi 26 . \nCRÉDITS PHOTOS\nCorinne Mariotto © Gilles Vidal \nET AUSSI \nMardi 25 juin 19h30 – Médiathèque les Granges | Saint-Jean – Lecture de Into the wild de Jon Krakauer par Mathurin VOLTZ \nSamedi 29 juin  à 15h– Château Malpagat | L’Union – Rencontre avec Gilles Leroy  pour son ouvrage Le diable emporte le fils rebelle\, Mercure de France (Prix Goncourt 2007 pour Alabama song) \nDimanche 30 juin à 10h30 – librairie les Passantes L’Union | Rencontre avec Carole Fives \nhttps://www.lemarathondesmots.com/programme/
URL:https://www.ville-lunion.fr/evenement/marathon-des-mots-a-launaguet/
LOCATION:chateau de Launaguet\, Launaguet
CATEGORIES:Mairie,Manifestations
ATTACH;FMTTYPE=image/jpeg:https://www.ville-lunion.fr/wp-content/uploads/2019/05/marathon-2019.jpg
END:VEVENT
BEGIN:VEVENT
DTSTART;VALUE=DATE:20190628
DTEND;VALUE=DATE:20190629
DTSTAMP:20260423T003235
CREATED:20190507T123057Z
LAST-MODIFIED:20190507T123057Z
UID:38370-1561680000-1561766399@www.ville-lunion.fr
SUMMARY:gala de danse modern jazz
DESCRIPTION:
URL:https://www.ville-lunion.fr/evenement/gala-de-danse-modern-jazz/
LOCATION:Grande Halle de l’Union\, Rue du Somport\, L'Union\, 31240\, France
CATEGORIES:Associations
ATTACH;FMTTYPE=image/jpeg:https://www.ville-lunion.fr/wp-content/uploads/2019/05/GALA-MJ.jpg
END:VEVENT
BEGIN:VEVENT
DTSTART;TZID=Europe/Paris:20190628T200000
DTEND;TZID=Europe/Paris:20190628T230000
DTSTAMP:20260423T003235
CREATED:20190517T124248Z
LAST-MODIFIED:20190517T124832Z
UID:38474-1561752000-1561762800@www.ville-lunion.fr
SUMMARY:Soirée Jeux de société à la Ludothèque pour les adultes
DESCRIPTION:La ludothèque organise une Soirée Jeux de société pour les adultes de 18 à 99 ans. \nLa soirée débutera à 20h pour se terminer à 23h. \nVenez (re)découvrir des jeux comme « OBJETS TROUVÉS »\, « CARTAGENA »\, « TONGA BONGA » et pleins d’autres encore… Au cours de la soirée une collation sera offerte\, par la Mairie de L’Union\, pour aiguiser nos appétits de joueurs. \nTarif : 5 € – Gratuit pour les adhérents \nLes places étant limitées\, n’oubliez pas de vous inscrire auprès de l’animatrice : \n05 62 89 10 39 – ludo-union@orange.fr – à la ludothèque Rue du Pic du Midi (sous la poste) \n 
URL:https://www.ville-lunion.fr/evenement/soiree-jeux-de-societe-a-la-ludotheque-pour-les-adultes/
LOCATION:Ludothèque\, rue du Pic du Midi\, L'Union\, 31240
CATEGORIES:Associations
ATTACH;FMTTYPE=image/jpeg:https://www.ville-lunion.fr/wp-content/uploads/2019/05/ludo-28-06.jpg
END:VEVENT
BEGIN:VEVENT
DTSTART;VALUE=DATE:20190629
DTEND;VALUE=DATE:20190630
DTSTAMP:20260423T003235
CREATED:20190507T130813Z
LAST-MODIFIED:20190507T130813Z
UID:38378-1561766400-1561852799@www.ville-lunion.fr
SUMMARY:gala de GR Danse
DESCRIPTION:
URL:https://www.ville-lunion.fr/evenement/gala-de-gr-danse/
CATEGORIES:Associations
ATTACH;FMTTYPE=image/jpeg:https://www.ville-lunion.fr/wp-content/uploads/2019/05/gr-danse2.jpg
END:VEVENT
BEGIN:VEVENT
DTSTART;TZID=Europe/Paris:20190629T150000
DTEND;TZID=Europe/Paris:20190629T150000
DTSTAMP:20260423T003235
CREATED:20190507T130415Z
LAST-MODIFIED:20190604T091534Z
UID:38374-1561820400-1561820400@www.ville-lunion.fr
SUMMARY:MARATHON DES MOTS - à L'Union
DESCRIPTION:Rencontre avec Gilles Leroy  pour son ouvrage Le diable emporte le fils rebelle\, Mercure de France. \nAnimé par la librairie les Passantes & Aurélie de la Bibliothèque de L’Union \nNé en 1958 à Bagneux\, Gilles Leroy intègre après un baccalauréat en sciences expérimentales l’hypokhâgne et la khâgne du lycée Lakanal à Sceaux. Il obtient un DEUG de lettres et arts en 1977\, une licence puis une maîtrise de lettres modernes en 1979 pour un mémoire consacré à Henri Michaux. Sans goût pour l’université\, il abandonne le cursus\, voyage et étudie seul les littératures américaine et japonaise qui l’impressionnent. Gilles Leroy publie son premier roman\, Habibi\, en 1987\, qui sera suivi d’une dizaine d’autres\, dont notamment L’Amant russe (2002)\, Grandir (2004) et Champ secret (2005). En 2007\, Gilles Leroy reçoit le prix Goncourt pour son douzième roman\, Alabama Song\, qui connaîtra un grand succès en France et à l’étranger. Suivront Zola Jackson (2010\, prix Été du Livre)\, Dormir avec ceux qu’on aime (2012)\, Nina Simone roman (2013\, prix Livres & Musiques de la ville de Deauville)\, Le Monde selon Billy Boy (2015\, prix Marcel Pagnol) et Dans les westerns(2017). Il est aussi l’auteur d’un essai autobiographique\, Le Château solitude (Grasset\, 2016). \nLe diable emporte le fils rebelle (Mercure de France) \nLorraine\, son mari et leurs quatre fils vivent sur une ancienne friche d’une ville du Wisconsin. La jeune mère se tue à la tâche et n’a\, pour tenir\, que Dieu et les cachets. Elle doit aussi affronter sa bête noire\, Adam\, le fils aîné réfractaire. L’adolescent sort à peine de détention qu’une rumeur s’en prend à sa sexualité. Lorraine n’a plus qu’une obsession : sauver le reste de sa famille. \nCRÉDITS PHOTOS\nGilles Leroy @ Stéphane Haskell \n+ d’infos \nMardi 25 juin 19h30 – Médiathèque les Granges | Saint-Jean – Lecture de Into the wild de Jon Krakauer par Mathurin VOLTZ \nJeudi 27 juin à 20h30 | Château de Launaguet – Corinne Mariotto lit Le monde selon Garp de John Irving (Le Seuil) (Feuilleton littéraire 3/3) \nDimanche 30 juin à 10h30 – librairie les Passantes | Rencontre avec Carole Fives \nhttps://www.lemarathondesmots.com/programme/
URL:https://www.ville-lunion.fr/evenement/marathon-des-mots/
LOCATION:chateau de Malpagat\, Allée Ronceveaux\, L'UNION\, 31240
CATEGORIES:Mairie
ATTACH;FMTTYPE=image/jpeg:https://www.ville-lunion.fr/wp-content/uploads/2019/05/marathon-2019.jpg
END:VEVENT
BEGIN:VEVENT
DTSTART;VALUE=DATE:20190630
DTEND;VALUE=DATE:20190701
DTSTAMP:20260423T003235
CREATED:20190507T130936Z
LAST-MODIFIED:20190515T064528Z
UID:38381-1561852800-1561939199@www.ville-lunion.fr
SUMMARY:journée navigation de l’AMU
DESCRIPTION:Venez découvrir le modélisme naval dimanche 30 juin au lac Saint Caprais : l’Amicale Maquettiste organise une exposition et des démonstrations en navigation de maquettes de bateaux avec la participation d’autres clubs et maquettistes de la région. Entrée gratuite
URL:https://www.ville-lunion.fr/evenement/journee-navigation-de-lamu/
LOCATION:lac de St Caprais\, 79 Avenue de Bayonne\, L'UNION\, 31240\, France
CATEGORIES:Associations
ATTACH;FMTTYPE=image/jpeg:https://www.ville-lunion.fr/wp-content/uploads/2019/05/amu-30-06-19.jpg
END:VEVENT
BEGIN:VEVENT
DTSTART;TZID=Europe/Paris:20190630T103000
DTEND;TZID=Europe/Paris:20190630T103000
DTSTAMP:20260423T003235
CREATED:20190603T130625Z
LAST-MODIFIED:20190603T142524Z
UID:38612-1561890600-1561890600@www.ville-lunion.fr
SUMMARY:MARATHON DES MOTS - Rencontre avec Carole Fives
DESCRIPTION:Carole Fives a étudié la philosophie à Toulouse\, puis les beaux-arts à Paris. Après Quand nous serons heureux\, un recueil de nouvelles remarqué\, elle publie en 2012 son premier roman Que nos vies aient l’air d’un film parfait (Le Passage) dans lequel elle évoque avec justesse le sujet délicat du divorce et de la fratrie désunie. En 2013\, Carole Fives obtient une résidence aux États- Unis\, où elle achève l’écriture de son second roman C’est dimanche et je n’y suis pour rien\, publié dans la collection L’arbalète (Gallimard). Fine portraitiste de la famille contemporaine\, elle publie Une femme au téléphone\, puis Tenir jusqu’à l’aube en 2018. \nPetit déjeuner offert dès 10h00. \nCRÉDITS PHOTOS\nCarole Fives © Francesca Mantovani \nET AUSSI \nMardi 25 juin 19h30 – Médiathèque les Granges | Saint-Jean – Lecture de Into the wild de Jon Krakauer par Mathurin VOLTZ \nJeudi 27 juin à 20h30 | Château de Launaguet – Corinne Mariotto lit Le monde selon Garp de John Irving (Le Seuil) (Feuilleton littéraire 3/3) \nSamedi 29 juin  à 15h– Château Malpagat | L’Union – Rencontre avec Gilles Leroy  pour son ouvrage Le diable emporte le fils rebelle\, Mercure de France (Prix Goncourt 2007 pour Alabama song) \nhttps://www.lemarathondesmots.com/programme/ \n 
URL:https://www.ville-lunion.fr/evenement/rencontre-avec-carole-fives/
LOCATION:Librairie les Passantes\, 43 Avenue de Toulouse\, L'UNION\, 31240
CATEGORIES:Manifestations
ATTACH;FMTTYPE=image/jpeg:https://www.ville-lunion.fr/wp-content/uploads/2019/05/marathon-2019.jpg
END:VEVENT
END:VCALENDAR