BEGIN:VCALENDAR
VERSION:2.0
PRODID:-//Ville de L&#039;Union - ECPv6.15.13//NONSGML v1.0//EN
CALSCALE:GREGORIAN
METHOD:PUBLISH
X-WR-CALNAME:Ville de L&#039;Union
X-ORIGINAL-URL:https://www.ville-lunion.fr
X-WR-CALDESC:Évènements pour Ville de L&#039;Union
REFRESH-INTERVAL;VALUE=DURATION:PT1H
X-Robots-Tag:noindex
X-PUBLISHED-TTL:PT1H
BEGIN:VTIMEZONE
TZID:Europe/Paris
BEGIN:DAYLIGHT
TZOFFSETFROM:+0100
TZOFFSETTO:+0200
TZNAME:CEST
DTSTART:20180325T010000
END:DAYLIGHT
BEGIN:STANDARD
TZOFFSETFROM:+0200
TZOFFSETTO:+0100
TZNAME:CET
DTSTART:20181028T010000
END:STANDARD
BEGIN:DAYLIGHT
TZOFFSETFROM:+0100
TZOFFSETTO:+0200
TZNAME:CEST
DTSTART:20190331T010000
END:DAYLIGHT
BEGIN:STANDARD
TZOFFSETFROM:+0200
TZOFFSETTO:+0100
TZNAME:CET
DTSTART:20191027T010000
END:STANDARD
BEGIN:DAYLIGHT
TZOFFSETFROM:+0100
TZOFFSETTO:+0200
TZNAME:CEST
DTSTART:20200329T010000
END:DAYLIGHT
BEGIN:STANDARD
TZOFFSETFROM:+0200
TZOFFSETTO:+0100
TZNAME:CET
DTSTART:20201025T010000
END:STANDARD
END:VTIMEZONE
BEGIN:VEVENT
DTSTART;VALUE=DATE:20190504
DTEND;VALUE=DATE:20190505
DTSTAMP:20260423T020118
CREATED:20190401T124158Z
LAST-MODIFIED:20190401T124158Z
UID:38193-1556928000-1557014399@www.ville-lunion.fr
SUMMARY:Grande Fête Américaine 100% COUNTRY
DESCRIPTION:Organisée par le L.A.C (l’Union Actions Caritatives) et l’Américan Dream \nOuvert à tous et toutes (de 6 à 90 ans) 100% COUNTRY DE 11H A 01H00\nOn commencera à 11H00 par de l’initiation à la Country (enfants et adultes)\nde 13H30 à 16H00 Bal vintage «  anciennes danses » avec ANNICK.L\nde 16H00 à 18H00 Stage Partner(couples) avec Nadine Peyrot et Vincent Belot\n18H00 à 19H30 Bal CD avec Marie France C\n19H30 Grand Show « Hommage à Johnny HALLYDAY avec Régis GIRAUDO \n21H00 à 01H00 bal cd tous styles 100%  MUSIQUE COUNTRY avec notre Ami Bruno\n Ces Manifestations sont GRATUITES. \nPour vous rassasier il y aura de la restauration rapide (sandwichs\, foodtrucks\, crêpes…) ainsi que des stands aux couleurs Américaines\nUne exposition d’Harley/cars U.S sur le parking d’exposition possibilité de faire des baptêmes L’argent récolté ira à l’association de l’enfance malade avec HD le plaisir\nVenez nombreux passer une journée hors du commun et inoubliable !
URL:https://www.ville-lunion.fr/evenement/grande-fete-americaine-100-country/
LOCATION:Halle St Caprais\, Route de Bayonne\, L'Union\, 31240
CATEGORIES:Associations
ATTACH;FMTTYPE=image/png:https://www.ville-lunion.fr/wp-content/uploads/2018/07/lac.png
END:VEVENT
BEGIN:VEVENT
DTSTART;TZID=Europe/Paris:20190507T180000
DTEND;TZID=Europe/Paris:20190507T180000
DTSTAMP:20260423T020118
CREATED:20190401T075734Z
LAST-MODIFIED:20190401T084631Z
UID:38169-1557252000-1557252000@www.ville-lunion.fr
SUMMARY:Spectacle - UNIONAIS\, TOUS ACTEURS !
DESCRIPTION:Les habitants d’une ville peuvent aussi devenir des acteurs culturels et non plus de simples spectateurs !\nC’est dans le cadre d’un projet culturel intitulé «Complexe »\, soutenu par Toulouse Métropole que des membres de l’association la Main Tendue\, des élèves d’une classe de CM2 ainsi que des artistes de la compagnie de théâtre itinérant l’AGIT se sont réunis en atelier\, durant plusieurs semaines\, pour partager un processus de création artistique\npluridisciplinaire et intergénérationnel. \nCe projet propose d’associer habitants\, seniors et enfants des communes de la Métropole autour d’une création théâtrale sur la thématique de « l’image de soi » : les complexes\, l’autoportrait\, la perception de soi.\nIl renforce les liens entre les générations\, ainsi qu’entre les habitants et les artistes\, tout en témoignant de la présence de l’artiste en chacun de nous : il appartient à tout le monde de créer\, et de transmettre. \nENTRÉE LIBRE
URL:https://www.ville-lunion.fr/evenement/spectalce-unionais-tous-acteurs/
LOCATION:Salle des fêtes de L’Union\, 6 Avenue des Pyrénées\, L'Union\, 31240\, France
CATEGORIES:Mairie
ATTACH;FMTTYPE=image/jpeg:https://www.ville-lunion.fr/wp-content/uploads/2019/04/logo-AGIT.jpg
END:VEVENT
BEGIN:VEVENT
DTSTART;TZID=Europe/Paris:20190508T163000
DTEND;TZID=Europe/Paris:20190508T163000
DTSTAMP:20260423T020118
CREATED:20190312T152122Z
LAST-MODIFIED:20190312T152122Z
UID:37980-1557333000-1557333000@www.ville-lunion.fr
SUMMARY:Commémoration du 8 mai 1945
DESCRIPTION:Suivi d’un vin d’honneur à la salle des fêtes
URL:https://www.ville-lunion.fr/evenement/commemoration-du-8-mai-1945/
LOCATION:Parvis du collège\, 9 bis avenue des Pyrénées\, l'union\, 31240
CATEGORIES:Mairie
ATTACH;FMTTYPE=image/jpeg:https://www.ville-lunion.fr/wp-content/uploads/2017/09/drapeau.jpg
END:VEVENT
BEGIN:VEVENT
DTSTART;TZID=Europe/Paris:20190509T100000
DTEND;TZID=Europe/Paris:20190509T100000
DTSTAMP:20260423T020118
CREATED:20190401T083705Z
LAST-MODIFIED:20190401T083705Z
UID:38179-1557396000-1557396000@www.ville-lunion.fr
SUMMARY:Conférence histoire de l’Art AAPU
DESCRIPTION:« VIENNE » le charme de l’Art Nouveau. \nA l’auditorium de la salle des fêtes. \nOuvert à tous\, entrée 8€ pour les non-inscrits à l’Histoire de l’Art
URL:https://www.ville-lunion.fr/evenement/conference-histoire-de-lart-aapu/
LOCATION:Salle des fêtes de L’Union\, 6 Avenue des Pyrénées\, L'Union\, 31240\, France
CATEGORIES:Associations
ATTACH;FMTTYPE=image/jpeg:https://www.ville-lunion.fr/wp-content/uploads/2019/04/Vienne1.jpg
END:VEVENT
BEGIN:VEVENT
DTSTART;VALUE=DATE:20190511
DTEND;VALUE=DATE:20190520
DTSTAMP:20260423T020118
CREATED:20190401T084016Z
LAST-MODIFIED:20190401T084016Z
UID:38182-1557532800-1558310399@www.ville-lunion.fr
SUMMARY:37ème Salon de Printemps AAPU
DESCRIPTION:Vernissage musical\, samedi 11 Mai à 18h30\, Entrée Libre
URL:https://www.ville-lunion.fr/evenement/37eme-salon-de-printemps-aapu/
LOCATION:Grande Halle de l’Union\, Rue du Somport\, L'Union\, 31240\, France
CATEGORIES:Associations
ATTACH;FMTTYPE=image/jpeg:https://www.ville-lunion.fr/wp-content/uploads/2018/11/aapu.jpg
END:VEVENT
BEGIN:VEVENT
DTSTART;VALUE=DATE:20190512
DTEND;VALUE=DATE:20190513
DTSTAMP:20260423T020118
CREATED:20190506T100941Z
LAST-MODIFIED:20190506T135249Z
UID:38328-1557619200-1557705599@www.ville-lunion.fr
SUMMARY:Opération « J’aime mon marché »
DESCRIPTION:Tombola des produits du marché\, dégustations de produits et animation musicale assurée par le groupe unionais Pim Pam Poum.\nVenez nombreux participer à cet événement fédérateur visant à mettre encore plus en lumière le marché de plein vent \, lieu commercial mais également lieu de vie\, de rencontres\, d’échanges et vecteur de dynamisme pour notre ville.\nAvec l’aide de L’Union Festivités
URL:https://www.ville-lunion.fr/evenement/participation-de-la-commune-de-lunion-a-loperation-jaime-mon-marche/
LOCATION:Place San Biagio\, place San Biagio\, L'UNION\, 31240\, France
CATEGORIES:Mairie
ATTACH;FMTTYPE=image/jpeg:https://www.ville-lunion.fr/wp-content/uploads/2016/12/marche.jpg
END:VEVENT
BEGIN:VEVENT
DTSTART;VALUE=DATE:20190513
DTEND;VALUE=DATE:20190516
DTSTAMP:20260423T020118
CREATED:20190401T084306Z
LAST-MODIFIED:20190401T084306Z
UID:38184-1557705600-1557964799@www.ville-lunion.fr
SUMMARY:Forum Sécurité routière
DESCRIPTION:
URL:https://www.ville-lunion.fr/evenement/forum-securite-routiere/
LOCATION:Halle St Caprais\, Route de Bayonne\, L'Union\, 31240
CATEGORIES:Mairie
ATTACH;FMTTYPE=image/jpeg:https://www.ville-lunion.fr/wp-content/uploads/2019/04/securoutiere.jpg
END:VEVENT
BEGIN:VEVENT
DTSTART;TZID=Europe/Paris:20190513T203000
DTEND;TZID=Europe/Paris:20190513T203000
DTSTAMP:20260423T020118
CREATED:20190401T080323Z
LAST-MODIFIED:20190416T160850Z
UID:38172-1557779400-1557779400@www.ville-lunion.fr
SUMMARY:spectacle de chants et danses tsiganes
DESCRIPTION:le CCFD Terre Solidaire accueille un partenaire de Slovaquie\, la troupe KESAJ TCHAVE\, pour un spectacle de chants et danses tsiganes. \nLibre participation aux frais \nRenseignements: 05 62 47 21 39
URL:https://www.ville-lunion.fr/evenement/spectacle-de-chants-et-danses-tsiganes/
LOCATION:Salle des fêtes de L’Union\, 6 Avenue des Pyrénées\, L'Union\, 31240\, France
CATEGORIES:Associations
ATTACH;FMTTYPE=image/jpeg:https://www.ville-lunion.fr/wp-content/uploads/2019/04/13-05-19.jpg
END:VEVENT
BEGIN:VEVENT
DTSTART;TZID=Europe/Paris:20190515T200000
DTEND;TZID=Europe/Paris:20190515T200000
DTSTAMP:20260423T020118
CREATED:20190506T150543Z
LAST-MODIFIED:20190506T150543Z
UID:38334-1557950400-1557950400@www.ville-lunion.fr
SUMMARY:Réunion d’information sur les réformes en cours de la maternelle au lycée
DESCRIPTION:par les associations de parents d’élèves de L’Union
URL:https://www.ville-lunion.fr/evenement/reunion-dinformation-sur-les-reformes-en-cours-de-la-maternelle-au-lycee/
LOCATION:Salle des fêtes de L’Union\, 6 Avenue des Pyrénées\, L'Union\, 31240\, France
CATEGORIES:Associations
ATTACH;FMTTYPE=image/jpeg:https://www.ville-lunion.fr/wp-content/uploads/2019/05/school.jpg
END:VEVENT
BEGIN:VEVENT
DTSTART;VALUE=DATE:20190517
DTEND;VALUE=DATE:20190520
DTSTAMP:20260423T020118
CREATED:20190211T163603Z
LAST-MODIFIED:20190507T150831Z
UID:37822-1558051200-1558310399@www.ville-lunion.fr
SUMMARY:Les théatrales de L'Union
DESCRIPTION:Ce festival de théâtre amateur est organisé par l’association « Les Théâtrales de L’Union »\, composée du Comité Départemental de la FNCTA\, du Théâtre de l’Olivier et de la troupe de l’Oiseau Moqueur avec l’aide et le soutien de la Mairie de L’Union. L’objectif est d’offrir au public un festival de qualité qui reflète la vitalité et la diversité du théâtre\nen amateur : comédie\, drame\, lecture\, sketchs\, spectacle pour enfants… En tout sept pièces de théâtre de genres divers et autres animations vous feront vivre un week-end culturel\, passionnant et festif. Et que vive le théâtre ! \nTéléchargez le programme complet : Téléchargement \nMARDI 14 MAI\n• Lectures théâtralisées par le groupe lecture de l’UR FNCTA (15h Bibliothèque 18h30 Librairie des Passantes).\n• Concours photo : Exposition dans le Foyer de la Grande Halle pendant la durée du festival \nVENDREDI 17 MAI \nSalle des Fêtes\n• 20h : Ouverture du festival\n• 20h30 : Intermède musical par le groupe Djangoswingstaff (Swing Manouche et Jazz New Orleans)\n• 21h : « La rue des petits outrages » textes de Claude Bourgeyx par le Théâtre de la Gare (Montrabé). Vous y découvrirez le quotidien loufoque et surréaliste de ses habitants\, passants et travailleurs. Ils y abordent leur petits tracas\, se posent des questions\, font la fête\, s’inquiètent du monde… Durée 1h 15 Tout Public \nSAMEDI 18 MAI \nSalle des Fêtes\n• 11h : Théâtre jeune public par Titus et Zinzin.\nUne avalanche de gags portée par un duo énergique ! Durée 50mn Tout public \nFoyer de la Grande Halle\n• 11h : Rencontre avec Gérard Levoyer\, dramaturge\, qui lira ses textes avec des comédiens Entrée libre\n• 15h : Pages Blanches de Jules Saint Marc par le Théâtre de l’Écluse. Une femme\, âgée\, écrivaine\, solitaire dans sa maison de campagne\, fait appel à une femme de ménage. Tout les sépare et pourtant… La vie va les rapprocher de façon inattendue.\nDurée 1h 20 Public à partir de 12 ans\n• 16h30 : Lecture théâtralisée par le groupe lecture de l’UR FNCTA \nSalle des Fêtes\n• 18h : El Pacto d’après Eugenio Griffero par la Cie Inestable Ceretana de Teatre. Cinquante ans ont passé et tout reste identique. Ce soir\, c’est le rendez-vous et chacun viendra avec son bagage de rêves brisés\, de déceptions\, de misères. Chacun apporte avec lui la peur et l’illusion de retrouvailles et cette magie adolescente que les années n’ont pas réussi à détruire. Spectacle en espagnol surtitré en français. Durée 1h Public plus de 12 ans\n• 20h Intermède théâtral extraits de « Moi\, je crois pas » de Jean-Claude Grumberg par la Cie Oc’ Thalie\n• 21h La Salière de Gérard Levoyer par la Cie I have a dream. Il y a des portes qu’on ne devrait jamais ouvrir\, des mains qu’on ne devrait jamais serrer\, des verres qu’on ne devrait jamais boire\, des salières qu’on ne devrait jamais emprunter. Et surtout\, surtout\, il y a des gens chez qui l’on ne devrait jamais être invité à prendre l’apéritif… Durée 1h30 Public plus de 12 ans \nDIMANCHE 19 MAI \nSalle des Fêtes\n• 14h45 : Le Rapport dont vous êtes l’objet de Vaclav Havel par la Cie A Fleur de Mots. Les obscurs bureaux d’une entreprise indéterminée dans la patrie de Kafka.L’absurdité des réactions en chaîne fait de cette satire une comédie délirante et néanmoins familière où chacun reconnaîtra l’inhumanité inaccessible de la machine administrative\nDurée 1h 20 Public plus de 10 ans \nFoyer de la Grande Halle\n• 16h30 Baignade interdite de Sylvie Piotet par la Cie Horizon scène. Il n’y a pas de hasard\, il n’y a que des rendez-vous\, dit-on…Une pièce entre chien et loup\, des répliques acérées\, des coups de gueule\, de cris du coeur… Durée 1h 15 à partir de 12 ans \nSalle des Fêtes\n• 18h : Le Mariage Forcé par la Cie Arscenik extraits de textes de Molière. Avec une pincée des « Précieuses ridicules» un zeste de « L’avare» et une poignée du «Bourgeois gentilhomme»\, cette comédie basée sur le» Mariage forcé» est un joyeux mélange dans lequel la question du mariage est férocement traitée dans un univers façon steapunk ! Durée 1h 15 Tout Public \n\n					Billeterie avant chaque spectacle à l’entrée de la salle des fêtes Sur le Net : www.festik.net \nRéservation : lestheatralesdelunion@gmail.com • 06 40 73 63 09 \nTARIF POUR UN SPECTACLE Plein tarif : 8€ / Réduit : 6€ * / Enfants – de 12 ans : gratuit / + 12ans 4€ TARIF MATINÉE ENFANTS : 5€ + un accompagnateur gratuit Les adultes : 5 € PASS : 3 spectacles : 15 € / 5 spectacles : 25 € / Festival : 30 € Un bar est à votre disposition entre les spectacles. * tarif réduit sur présentation de leur carte : étudiants\, adhérents FNCTA\, chômeurs
URL:https://www.ville-lunion.fr/evenement/les-theatrales-de-lunion-2/
LOCATION:Salle des fêtes de L’Union\, 6 Avenue des Pyrénées\, L'Union\, 31240\, France
CATEGORIES:Manifestations
ATTACH;FMTTYPE=image/jpeg:https://www.ville-lunion.fr/wp-content/uploads/2019/02/theatrales-2019.jpg
END:VEVENT
BEGIN:VEVENT
DTSTART;TZID=Europe/Paris:20190522T183000
DTEND;TZID=Europe/Paris:20190522T183000
DTSTAMP:20260423T020118
CREATED:20190401T084443Z
LAST-MODIFIED:20190517T074054Z
UID:38187-1558549800-1558549800@www.ville-lunion.fr
SUMMARY:Conseil municipal
DESCRIPTION:Ordre du Jour \nDésignation d’un secrétaire de séance \n1- Informations du Maire \n2- Adoption du Procès-Verbal 2019-04 du conseil municipal du 10 avril 2019 \n3- Culture\n3.1. Convention de partenariat « Partir en Livre »\n4- Urbanisme et Travaux\n4.1. Convention de servitude avec Enedis Signature d’une convention de servitude pour le remplacement d’un câble d’alimentation électrique enterré au travers de la parcelle AK 275\, lieu-dit L’EGLISE\n4.2. Agence d’Urbanisme et d’Aménagement de Toulouse Aire Urbaine AUAT – Avenant 15 à la convention cadre du 13 avril 2005\n4.3. Vente de la parcelle AB 176 située 13\, chemin de la Violette : choix de l’opérateur économique \n5- Tirage au sort des jurés d’assises 2020 \n6- Solidarité et Action Sociale\n6.1. Convention de partenariat avec l’association EFFORMIP \n7- Enfance\, Jeunesse\, vie Scolaire\n7.1. Convention de partenariat dans le cadre d’accueil réciproque d’enfants entre structures d’accueil de loisirs (ACCEM) avec la commune de Saint Jean \n8- Finances\n8.1. Taxe Locale sur la Publicité Extérieure – TLPE – 2020\n8.2. Toulouse Métropole – Adhésion à un groupement de commande d’achat et de maintenance de systèmes d’impressions numériques avec la Ville de Toulouse\, Toulouse Métropole\, et des communes membres de Toulouse Métropole\n8.3. Remise gracieuse de dettes – Modification de la délibération D2018-43 du conseil municipal du 11 avril 2018. \n9- Sport\n9.1. Camion restaurant (Food Truck) de la piscine municipale – Convention d’occupation temporaire du domaine public \n10- Ressources Humaines\n10.1. Création de postes saisonniers \n11- Syndicat Départemental d’Energie de la Haute-Garonne\n11.1. Syndicat Départemental d’Energie de la Haute-Garonne – SDEHG – Rénovation des coffrets électriques de la fête foraine rue du Somport\n11.2. Syndicat Départemental d’Energie de la Haute-Garonne – SDEHG – Rénovation de l’éclairage rue du Bengali \n12- Toulouse Métropole\n12.1. Présentation du rapport d’activité 2017 de Toulouse Métropole \n13- Arrêtés du Maire \n14- Questions diverses
URL:https://www.ville-lunion.fr/evenement/conseil-municipal-16/
LOCATION:Salle des fêtes de L’Union\, 6 Avenue des Pyrénées\, L'Union\, 31240\, France
CATEGORIES:Mairie
ATTACH;FMTTYPE=image/jpeg:https://www.ville-lunion.fr/wp-content/uploads/2016/12/mairie-entree-1.jpg
END:VEVENT
BEGIN:VEVENT
DTSTART;VALUE=DATE:20190524
DTEND;VALUE=DATE:20190526
DTSTAMP:20260423T020118
CREATED:20180703T143241Z
LAST-MODIFIED:20180803T143404Z
UID:36637-1558656000-1558828799@www.ville-lunion.fr
SUMMARY:Théâtre - Oscar
DESCRIPTION:CIE COEUR & JARDIN \nLa journée délirante de Bertrand Barnier\, riche homme d’affaire aux prises avec une avalanche de situations plus inattendues les unes que les autres.\nEntre l’irruption impromptue d’un de ses modestes employés qui a les dents qui rayent le plancher et qui veut épouser sa fille\, cette même fille enceinte non\npas de lui\, mais du chaufffeur qu’il vient de licencier\, sa femme qu’il ne supporte plus\, un kiné « très à la masse »\, et… une valise qui ne contient jamais ce qu’il\nveut\, c’est un véritable cauchemar éveillé où l’on rebondit de surprises extravagantes en coups de théâtre totalement fous. \nDistribution : auteur Claude Magnier • adaptation\, la Compagnie Coeur & Jardin • avec Lorenzo Salvaggio\, Alexandra Pons\, Philippe Canizarès\, Robert Simon\,\nClaude Hélias\, Clémentine Paulet\, Agathe Boutin et Valérie Coré • mise en scène Francis Azéma • décors et régie Erwan Guillou. \nà 20h30 \nTOUT PUBLIC \nplacement libre\ndurée : 1h30\nTarifs\n• plein : 20€\n• intermédiaire (+65 ans\, groupe 10 personnes) : 16€\n• réduit (étudiants\, -25 ans\, demandeurs d’emploi\, intermittents) : 12€ \ninfos et réservations :\nwww.compagnie-cleante.com/reserver – 06 18 94 76 03\ncompagniecleante@gmail.com
URL:https://www.ville-lunion.fr/evenement/theatre-oscar/
LOCATION:Grande Halle de l’Union\, Rue du Somport\, L'Union\, 31240\, France
CATEGORIES:Spectacles
ATTACH;FMTTYPE=image/jpeg:https://www.ville-lunion.fr/wp-content/uploads/2018/08/oscar.jpg
END:VEVENT
BEGIN:VEVENT
DTSTART;VALUE=DATE:20190525
DTEND;VALUE=DATE:20190526
DTSTAMP:20260423T020118
CREATED:20190514T143347Z
LAST-MODIFIED:20190514T144024Z
UID:38451-1558742400-1558828799@www.ville-lunion.fr
SUMMARY:Bibliothèque de L'Union - Sophrologie et méditation pour les enfants
DESCRIPTION:Adeline Camus\, sophrologue\, professeur de méditation et de yoga pour les enfants\, proposera des lectures animées d’exercices sur la gestion des émotions et du stress\, la canalisation de l’énergie\, la découverte de son corps et de ses 5 sens…\nAtelier gratuit et ouvert aux enfants accompagnés d’un adulte.\n10h30 à 11h00 pour les 3-4 ans\n11h15 à 11h45 pour les 5-8 ans\nInscription obligatoire au 05.61.74.87.77
URL:https://www.ville-lunion.fr/evenement/bibliotheque-de-lunion-sophrologie-et-meditation-pour-les-enfants/
LOCATION:Bibliothèque de L’Union\, 6 Avenue de Toulouse\, 31240
CATEGORIES:Associations
ATTACH;FMTTYPE=image/jpeg:https://www.ville-lunion.fr/wp-content/uploads/2019/05/sophro-bibli.jpg
END:VEVENT
BEGIN:VEVENT
DTSTART;TZID=Europe/Paris:20190525T100000
DTEND;TZID=Europe/Paris:20190525T120000
DTSTAMP:20260423T020118
CREATED:20190416T100027Z
LAST-MODIFIED:20190416T100114Z
UID:38253-1558778400-1558785600@www.ville-lunion.fr
SUMMARY:Visite guidée de L’Union
DESCRIPTION:Proposée par l’office de Tourisme de Toulouse \nDurée : 2 heures\nL’Union. Voici une commune qui porte bien son nom. De son olivier millénaire à sa place San Blago di Callalta\, de ses vestiges antiques à son château de Malpagat\, L’Union a su parfaitement allier patrimoine ancien et contemporain. \nTarif normal : 12 €. Tarif réduit : 10 €.\nTarif enfant : 7 € (à partir de 12 ans).\nRDV : devant la mairie\, 6 bis avenue des Pyrénées.\nBus 73\, arrêt Grive. \n+ d’infos
URL:https://www.ville-lunion.fr/evenement/visite-guidee-de-lunion/
LOCATION:Place San Biagio\, place San Biagio\, L'UNION\, 31240\, France
CATEGORIES:Manifestations
ATTACH;FMTTYPE=image/jpeg:https://www.ville-lunion.fr/wp-content/uploads/2019/04/toulouse.jpg
END:VEVENT
BEGIN:VEVENT
DTSTART;TZID=Europe/Paris:20190525T150000
DTEND;TZID=Europe/Paris:20190525T150000
DTSTAMP:20260423T020118
CREATED:20190416T092306Z
LAST-MODIFIED:20190521T092928Z
UID:38247-1558796400-1558796400@www.ville-lunion.fr
SUMMARY:Macadam'Art
DESCRIPTION:à partir de 15h Macadam’Art#3 (festival Cultures Urbaines) place San Biagio et salle des fêtes \nApres midi démonstration et initiation : Graff\, skate\, cirque\, trott’\, Pakour\,… et en soirée Battle de danse Hip Hop et concerts \nEntrée libre \n 
URL:https://www.ville-lunion.fr/evenement/38247/
LOCATION:Salle des fêtes de L’Union\, 6 Avenue des Pyrénées\, L'Union\, 31240\, France
CATEGORIES:Associations
ATTACH;FMTTYPE=image/jpeg:https://www.ville-lunion.fr/wp-content/uploads/2019/04/macadam-art-e1597671960161.jpg
END:VEVENT
BEGIN:VEVENT
DTSTART;TZID=Europe/Paris:20190525T170000
DTEND;TZID=Europe/Paris:20190525T170000
DTSTAMP:20260423T020118
CREATED:20190312T153542Z
LAST-MODIFIED:20190507T141910Z
UID:37982-1558803600-1558803600@www.ville-lunion.fr
SUMMARY:Commémoration - journée de la Résistance
DESCRIPTION:La gare de L’Union : un peu d’Histoire… Entre le 2 et le 4 avril 1944\, lors d’une vaste opération de police\, de nombreux membres de la 35e Brigade FTP MOI Marcel Langer sont arrêtés. Ils seront emprisonnés puis déportés quelques mois plus tard. Parmi eux\, Charles Michalak\, de son vrai nom Israel Schimmel Gold\, a vécu dans l’ancienne gare\, de Loubers\, jardinier le jour\, artificier la nuit. Aujourd’hui\, 75 ans après\, la gare a été rénovée pour devenir une habitation privée. Elle reste néanmoins un lieu devant lequel les passants que nous sommes se rappellent ce qu’elle a représenté\, et aussi les hommes et les femmes qui s’y sont retrouvés pour défendre les principes de la République.\nC’est pour nous souvenir que nous inaugurerons le 25 mai à 17h la plaque rappelant la destination de cette gare entre 1942 et 1944 en présence des familles\, des\nportes drapeaux ainsi que des autorités civiles et militaires. \nBaptême des nouvelles rues du quartier de la Violette\nA 17h30\, les rues du nouveau quartier de la Violette seront officiellement inaugurées. A l’occasion de la cérémonie\, parents\, historiens et amis vous feront découvrir Marie Louise Dissard\, Angèle Bettini Del Rio\, Damira Titonel\, Yvonne lucienne Curvale et Ariane Scriabine Fiksmann\, ces femmes qui ont marqué l’histoire de la Résistance toulousaine et auxquelles L’Union rend hommage. \nUn vin d’honneur sera servi pour clore cette après midi commémorative. \n 
URL:https://www.ville-lunion.fr/evenement/commemoration-journee-de-la-resistance/
CATEGORIES:Mairie
ATTACH;FMTTYPE=image/jpeg:https://www.ville-lunion.fr/wp-content/uploads/2019/03/25-mai.jpg
END:VEVENT
BEGIN:VEVENT
DTSTART;TZID=Europe/Paris:20190526T080000
DTEND;TZID=Europe/Paris:20190526T200000
DTSTAMP:20260423T020118
CREATED:20190521T124802Z
LAST-MODIFIED:20190521T124802Z
UID:38492-1558857600-1558900800@www.ville-lunion.fr
SUMMARY:élections européennes
DESCRIPTION:
URL:https://www.ville-lunion.fr/evenement/elections-europeennes/
LOCATION:Grande Halle de l’Union\, Rue du Somport\, L'Union\, 31240\, France
ATTACH;FMTTYPE=image/png:https://www.ville-lunion.fr/wp-content/uploads/2016/12/elections-europeennes-2019.png
END:VEVENT
BEGIN:VEVENT
DTSTART;TZID=Europe/Paris:20190527T203000
DTEND;TZID=Europe/Paris:20190527T203000
DTSTAMP:20260423T020118
CREATED:20190507T142156Z
LAST-MODIFIED:20190507T142156Z
UID:38398-1558989000-1558989000@www.ville-lunion.fr
SUMMARY:Soirée sur le thème de l’engagement dans la Résistance au Lumière
DESCRIPTION:Diffusion du film documentaire de Jacques Capdecomme « La vie sera belle »\nDominique fils d’une modeste famille Corse arrive de Marseille pendant l’été 1940. Il sera arrêté par la Gestapo le 12 Août\n1944\, sept jours avant la libération de Toulouse\, où il avait rejoint les rangs de la résistance. Soixante-dix ans après\, la\nrencontre\, à Toulouse et dans sa région\, avec quelques-uns des résistants qui survécurent à la barbarie nazie\, donne toute\nsa mesure au sacrifice de leurs frères de combat disparus. Parmi eux\,Serge Ravanel\, Damira Titonel\, Roger Mazelier répondent\nsur les motivations de l’engagement. Cette soirée sera suivie d’un débat animé par André Magne\, secrétaire de\nl’amicale de la 35e brigade FTP MOI et Jacques Capdecomme\, réalisateur du film.
URL:https://www.ville-lunion.fr/evenement/soiree-sur-le-theme-de-lengagement-dans-la-resistance-au-lumiere/
LOCATION:Le Lumière\, 6 Rue du Pic du Midi\, L'Union\, 31240\, France
CATEGORIES:Associations
ATTACH;FMTTYPE=image/jpeg:https://www.ville-lunion.fr/wp-content/uploads/2019/05/la-vie-sera-belle.jpg
END:VEVENT
END:VCALENDAR