BEGIN:VCALENDAR
VERSION:2.0
PRODID:-//Ville de L&#039;Union - ECPv6.15.13//NONSGML v1.0//EN
CALSCALE:GREGORIAN
METHOD:PUBLISH
X-ORIGINAL-URL:https://www.ville-lunion.fr
X-WR-CALDESC:Évènements pour Ville de L&#039;Union
REFRESH-INTERVAL;VALUE=DURATION:PT1H
X-Robots-Tag:noindex
X-PUBLISHED-TTL:PT1H
BEGIN:VTIMEZONE
TZID:Europe/Paris
BEGIN:DAYLIGHT
TZOFFSETFROM:+0100
TZOFFSETTO:+0200
TZNAME:CEST
DTSTART:20180325T010000
END:DAYLIGHT
BEGIN:STANDARD
TZOFFSETFROM:+0200
TZOFFSETTO:+0100
TZNAME:CET
DTSTART:20181028T010000
END:STANDARD
BEGIN:DAYLIGHT
TZOFFSETFROM:+0100
TZOFFSETTO:+0200
TZNAME:CEST
DTSTART:20190331T010000
END:DAYLIGHT
BEGIN:STANDARD
TZOFFSETFROM:+0200
TZOFFSETTO:+0100
TZNAME:CET
DTSTART:20191027T010000
END:STANDARD
BEGIN:DAYLIGHT
TZOFFSETFROM:+0100
TZOFFSETTO:+0200
TZNAME:CEST
DTSTART:20200329T010000
END:DAYLIGHT
BEGIN:STANDARD
TZOFFSETFROM:+0200
TZOFFSETTO:+0100
TZNAME:CET
DTSTART:20201025T010000
END:STANDARD
END:VTIMEZONE
BEGIN:VEVENT
DTSTART;VALUE=DATE:20190314
DTEND;VALUE=DATE:20190405
DTSTAMP:20260423T032438
CREATED:20190226T110929Z
LAST-MODIFIED:20190226T110929Z
UID:37925-1552521600-1554422399@www.ville-lunion.fr
SUMMARY:AAPU\, Union Images : exposition
DESCRIPTION:Entrée Libre
URL:https://www.ville-lunion.fr/evenement/aapu-union-images-exposition/
LOCATION:Bibliothèque de L’Union\, 6 Avenue de Toulouse\, 31240
CATEGORIES:Associations
ATTACH;FMTTYPE=image/jpeg:https://www.ville-lunion.fr/wp-content/uploads/2018/11/aapu.jpg
END:VEVENT
BEGIN:VEVENT
DTSTART;TZID=Europe/Paris:20190403T090000
DTEND;TZID=Europe/Paris:20190403T130000
DTSTAMP:20260423T032438
CREATED:20190121T161034Z
LAST-MODIFIED:20190121T161034Z
UID:37631-1554282000-1554296400@www.ville-lunion.fr
SUMMARY:FORUM POUR L'EMPLOI
DESCRIPTION:ENSEMBLE POUR L’EMPLOI\n5 communes se mobilisent pour un forum de recrutement\nLE 3 AVRIL DE 9H À 13H À LA GRANDE HALLE DE L’UNION\n\nEn amont de ce forum des ATELIERS DANS LES COMMUNES\nÀ LAUNAGUET (mairie de Launaguet : 95 Chemin des Combes)\n  \n29 mars de 9h à 12h – Atelier proposé par l’association Trajectoire :  préparation collective au Forum de L’Union\nThèmes abordés \n·         Un forum : de quoi s’agit-il ? \n·         Convaincre en quelques minutes \n·         Les points clés de la préparation \n·         Comment réussir votre entretien \n  \n29 mars et 2 avril de 14h à 17h – Atelier proposé par l’association Trajectoire : préparation individuelle au Forum de L’Union\nContenu \n·         Préparation à un entretien réel\, mise en exergue des points clés à retenir et à exploiter lors de l’entretien à venir. \nSur inscription \n  \nÀ FONBEAUZARD & AUCAMVILLE (mairie de Fonbeauzard : Place Simon Montariol)\n  \n 1er avril de 9h à 12h – Atelier : création d’activité\nContenu \n·         Avec la participation d’« Avenir » (nouvelle maison des chômeurs de Toulouse) et du « CBE Nord 31 » d’Aucamville. Projection d’un diaporama afin de prendre connaissance sur la créativité. Questions/échanges. \nSur inscription \n  \nÀ SAINT-JEAN (Espace Victor Hugo : 4 chemin du Bois de Saget)\n  \n2 avril de 9h30 à 11h30  \nContenu \n·         Avec la participation Atelier collectif : découverte des métiers en tension \nPréparation opérationnelle à l’embauche\, rencontres avec des employeurs… \n  \nSur inscription \n\n\nVous souhaitez participer à l’un de ces ateliers\, inscrivez-vous par mail à emploi@mairie-lunion.fr
URL:https://www.ville-lunion.fr/evenement/forum-pour-lemploi/
LOCATION:Grande Halle de l’Union\, Rue du Somport\, L'Union\, 31240\, France
CATEGORIES:Mairie
ATTACH;FMTTYPE=image/jpeg:https://www.ville-lunion.fr/wp-content/uploads/2019/01/Capture.jpg
END:VEVENT
BEGIN:VEVENT
DTSTART;VALUE=DATE:20190404
DTEND;VALUE=DATE:20190408
DTSTAMP:20260423T032438
CREATED:20190313T112006Z
LAST-MODIFIED:20190313T112006Z
UID:37984-1554336000-1554681599@www.ville-lunion.fr
SUMMARY:Exposition Union Images
DESCRIPTION:
URL:https://www.ville-lunion.fr/evenement/exposition-union-images-2/
LOCATION:Foyer de la Grande Halle de l’Union\, Rue du Somport\, 31240
CATEGORIES:Associations
ATTACH;FMTTYPE=image/jpeg:https://www.ville-lunion.fr/wp-content/uploads/2017/04/union-images.jpg
END:VEVENT
BEGIN:VEVENT
DTSTART;TZID=Europe/Paris:20190405T203000
DTEND;TZID=Europe/Paris:20190405T203000
DTSTAMP:20260423T032438
CREATED:20180703T140131Z
LAST-MODIFIED:20190311T085713Z
UID:36628-1554496200-1554496200@www.ville-lunion.fr
SUMMARY:Récital - Piano aux Jacobins - L’Europe du Piano
DESCRIPTION:L’Europe du piano s’inscrit dans la continuité de l’action culturelle de Piano aux Jacobins. Ce programme présente de jeunes talents du piano européen et lauréats de nombreux concours.\nDans le cadre d’un partenariat artistique de haut niveau\, l’Union accueille ce récital pour la quatrième saison consécutive afin de permettre au public de la Grande halle de découvrir cette jeune génération talentueuse et prometteuse .\nNous accueillerons cette année la jeune pianiste Célia Oneto Besnaïd lauréate de nombreux concours internationaux; formée au Conservatoire National Supérieur de Musique de Paris et diplômée de trois masters avec les meilleures mentions en piano \, musique de chambre et direction de chant instrumental. \nProgramme :  \nSchumann Carnaval de Vienne op.26\nRavel  Miroirs (Extraits)\nNoctuelles \nOiseaux tristes\nUne barque sur l’océan \nGershwin Trois préludes pour piano \nBernstein / Oneto Bensaid \nDanses symphoniques de West Side Story \nTOUT PUBLIC\nplacement libre\ndurée : 1h30\nTarifs\n• plein : 14€\n• réduit (enfants de -16 ans\, demandeurs d’emplois) : 8€ \ninformations et réservations : 05 62 89 22 86 & \nvente en ligne :  https://lunion.festik.net/recital-piano-aux-jacobins-l-europe-du-piano/1 \nwww.celiaonetobesaid.com\nwww.pianojacobins.com\nwww.europedupiano.com
URL:https://www.ville-lunion.fr/evenement/recital-piano-aux-jacobins-leurope-du-piano/
LOCATION:Grande Halle de l’Union\, Rue du Somport\, L'Union\, 31240\, France
CATEGORIES:Spectacles
ATTACH;FMTTYPE=image/jpeg:https://www.ville-lunion.fr/wp-content/uploads/2018/08/piano2019.jpg
END:VEVENT
BEGIN:VEVENT
DTSTART;VALUE=DATE:20190406
DTEND;VALUE=DATE:20190407
DTSTAMP:20260423T032438
CREATED:20190403T103514Z
LAST-MODIFIED:20190403T103824Z
UID:38205-1554508800-1554595199@www.ville-lunion.fr
SUMMARY:Foot féminin
DESCRIPTION:à l’initiative du pole féminin\, une journée entièrement consacrée au foot féminin aura lieu sur les installations du stade de Saint Caprais avenue de bayonne \ndans le cadre de l’opération nationale de la FFF « tous avec les bleues « en vue de la  coupe du monde féminine au mois de Juin prochain\nLors de cette manifestation toutes les catégories de jeunes filles seront représentées U9F U11F U15F (tour de coupe du district) et U18F (tour de coupe du district) \nRDV samedi à 10h à L’UNION
URL:https://www.ville-lunion.fr/evenement/foot-feminin/
CATEGORIES:Sport
ATTACH;FMTTYPE=image/jpeg:https://www.ville-lunion.fr/wp-content/uploads/2019/04/foot.jpg
END:VEVENT
BEGIN:VEVENT
DTSTART;TZID=Europe/Paris:20190406T203000
DTEND;TZID=Europe/Paris:20190406T203000
DTSTAMP:20260423T032438
CREATED:20190226T142500Z
LAST-MODIFIED:20190226T142500Z
UID:37932-1554582600-1554582600@www.ville-lunion.fr
SUMMARY:Théâtre « Une bonne crêpe » par le trio comique les Zig's
DESCRIPTION:Le Trio comique (Nath\, Cédric & Ludo) LES ZIG’S\, vous propose la pièce « UNE BONNE CRÊPE » ! \nSynopsis : UNE BONNE CRÊPE ! \nNous sommes en Bretagne\, sur l’île d’Ouessant pour être exact\, de nos jours… Un couple de toulousains\, très endetté (Jean-Pierre et Chantal)\, décide de s’exiler entre falaises\, vents\, pluies\, mouettes et marées… Suite à la mort de l’oncle de Jean-Pierre\, ils décident de se mettre au vert un certain temps et de rembourser leurs dettes… Mais Chantal est furieuse de quitter Toulouse où elle était en pleine préparation d’un spectacle avec des copines… Une rétrospective culturelle de la vie de BONEY M… \nIls débarquent donc sur l’île et s’installent dans la maison de l’oncle enterré le matin même… Jean-Pierre vient juste d’hériter de ce taudis\, il était le dernier parent de cet homme discret et étrangement silencieux… La maison est à refaire entièrement du sol au plafond et ils font appel à un artisan (escroc et alcoolique) Mr Emile… Mais une découverte pour le moins étrange va bouleverser la vie paisible de la vieille bicoque\, sous le regard espiègle de la voisine (Mme KERVENEK) qui surveille chaque geste… \nLa Bonne Crêpe commence donc ici\, et ça va décaper ! Humour noir au programme\, un cocktail de rire et une énergie débordante !!!  \nINFOS : contact@deboutsurlesplanches.fr
URL:https://www.ville-lunion.fr/evenement/theatre-une-bonne-crepe-par-le-trio-comique-les-zigs/
LOCATION:Salle des fêtes de L’Union\, 6 Avenue des Pyrénées\, L'Union\, 31240\, France
CATEGORIES:Associations
ATTACH;FMTTYPE=image/jpeg:https://www.ville-lunion.fr/wp-content/uploads/2019/02/crepe.jpg
END:VEVENT
BEGIN:VEVENT
DTSTART;VALUE=DATE:20190407
DTEND;VALUE=DATE:20190408
DTSTAMP:20260423T032438
CREATED:20190226T100741Z
LAST-MODIFIED:20190226T100741Z
UID:37893-1554595200-1554681599@www.ville-lunion.fr
SUMMARY:Compétition Amicale du Dojo Unionais
DESCRIPTION:Toutes catégories de Babys jusqu’à Seniors\nTournoi Mixte\nStade Georges Beyney à l’Union – Salle C300\n–\nPlus d’infos sur le site : www.dojo-union.fr\nEt le facebook : @dojolunion
URL:https://www.ville-lunion.fr/evenement/competition-amicale-du-dojo-unionais/
LOCATION:Stade Georges BEYNEY\, 11 rue du Puy de Sancy\, L'Union\, 31240\, France
CATEGORIES:Associations,Sport
ATTACH;FMTTYPE=image/jpeg:https://www.ville-lunion.fr/wp-content/uploads/2019/02/dojo2.jpg
END:VEVENT
BEGIN:VEVENT
DTSTART;VALUE=DATE:20190408
DTEND;VALUE=DATE:20190410
DTSTAMP:20260423T032438
CREATED:20171123T134801Z
LAST-MODIFIED:20190313T112138Z
UID:34352-1554681600-1554854399@www.ville-lunion.fr
SUMMARY:Collecte don du sang
DESCRIPTION:De 14 à 19h. \nVenez nombreux !
URL:https://www.ville-lunion.fr/evenement/collecte-don-sang-3/
LOCATION:Salle des fêtes de L’Union\, 6 Avenue des Pyrénées\, L'Union\, 31240\, France
CATEGORIES:Associations
ATTACH;FMTTYPE=image/jpeg:https://www.ville-lunion.fr/wp-content/uploads/2016/12/sang.jpg
END:VEVENT
BEGIN:VEVENT
DTSTART;TZID=Europe/Paris:20190410T183000
DTEND;TZID=Europe/Paris:20190410T183000
DTSTAMP:20260423T032438
CREATED:20190313T112339Z
LAST-MODIFIED:20190313T112339Z
UID:37988-1554921000-1554921000@www.ville-lunion.fr
SUMMARY:Conseil Municipal
DESCRIPTION:
URL:https://www.ville-lunion.fr/evenement/conseil-municipal-15/
LOCATION:Salle des fêtes de L’Union\, 6 Avenue des Pyrénées\, L'Union\, 31240\, France
CATEGORIES:Mairie
ATTACH;FMTTYPE=image/jpeg:https://www.ville-lunion.fr/wp-content/uploads/2016/12/mairie-entree.jpg
END:VEVENT
BEGIN:VEVENT
DTSTART;TZID=Europe/Paris:20190410T200000
DTEND;TZID=Europe/Paris:20190410T200000
DTSTAMP:20260423T032438
CREATED:20190130T111612Z
LAST-MODIFIED:20190201T104411Z
UID:37743-1554926400-1554926400@www.ville-lunion.fr
SUMMARY:Conférence de Catherine Gueguen : Heureux d’apprendre à l’école
DESCRIPTION:Heureux d’apprendre à l’école – Comment les neurosciences peuvent changer l’éducation \nenfants sont nés pour apprendre et pourtant l’école est devenue\, pour beaucoup\, synonyme d’anxiété ou d’échec. Aujourd’hui\, les connaissances scientifiques sur le cerveau bouleversent notre approche des apprentissages. On sait notamment que la relation entre l’adulte et l’enfant est la pierre d’angle de l’acquisition des savoirs et du développement de l’enfant. \nLes neurosciences affectives et sociales montrent qu’une relation chaleureuse et empathique génère un cercle vertueux : l’enfant se sent compris\, il est motivé\, sa réussite scolaire augmente et l’enseignant se sent compétent. À l’inverse\, l’éducation punitive produit un effet contraire à celui recherché. Quant à la dévalorisation et aux humiliations verbales\, elles ont un impact aussi néfaste que les coups.\nDans cette conférence exceptionnelle\, la pédiatre Catherine Gueguen ana-lyse les règles fondamentales qui permettent aux adultes et aux enfants de développer leurs compétences émotionnelles. L’empathie\, l’écoute\, l’attention à soi et aux autres\, cela s’apprend. Et tous les enfants peuvent être « heureux d’apprendre » ! \nDéroulé de la soirée :\nOuverture des portes à 19 h – début de la conférence à 20 h.\nConférence d’environ 2 h incluant une période de questions-réponses.\nUne séance de dédicace se tiendra après la conférence. \nL’INTERVENANTE\nCatherine Gueguen\, pédiatre\, a exercé à l’Institut hospitalier Franco-britannique Levallois-Perret. Spécialisée dans le soutien à la parentalité\, formée en haptonomie et en communication non violente\, elle anime des groupes de travail pour les médecins\, les psychologues\, les éducateurs\, les sages-femmes sur l’accompagnement des adultes dans leur relation à l’enfant à la lumière des neurosciences affectives. \nEntrée 18 € | Tarif réduit 12 €\nPlacement libre \nhttps://www.facebook.com/events/513469532493388/ \nBilletterie
URL:https://www.ville-lunion.fr/evenement/conference-de-catherine-gueguen-heureux-dapprendre-a-lecole/
LOCATION:Grande Halle de l’Union\, Rue du Somport\, L'Union\, 31240\, France
CATEGORIES:Spectacles
ATTACH;FMTTYPE=image/jpeg:https://www.ville-lunion.fr/wp-content/uploads/2019/01/guegen.jpg
END:VEVENT
BEGIN:VEVENT
DTSTART;VALUE=DATE:20190413
DTEND;VALUE=DATE:20190414
DTSTAMP:20260423T032438
CREATED:20190313T112445Z
LAST-MODIFIED:20190405T151848Z
UID:37990-1555113600-1555199999@www.ville-lunion.fr
SUMMARY:Festival Games Show
DESCRIPTION:organisé par la MJC \nà partir de 15h Festival Games Show à la halle ouverte saint Caprais (à coté du lac) \nJeux vidéos\, laserball\, attractions gonflables \nEntrée libre
URL:https://www.ville-lunion.fr/evenement/festival-games-show-2/
LOCATION:Halle St Caprais\, Route de Bayonne\, L'Union\, 31240
CATEGORIES:Associations
ATTACH;FMTTYPE=image/jpeg:https://www.ville-lunion.fr/wp-content/uploads/2019/03/game-show.jpg
END:VEVENT
BEGIN:VEVENT
DTSTART;TZID=Europe/Paris:20190413T203000
DTEND;TZID=Europe/Paris:20190413T203000
DTSTAMP:20260423T032438
CREATED:20180703T141038Z
LAST-MODIFIED:20190408T094307Z
UID:36631-1555187400-1555187400@www.ville-lunion.fr
SUMMARY:Concert H2O Orchestre D’Harmonie
DESCRIPTION:H2O est un jeune orchestre d’harmonie composé de cuivres et de percussions. Né à Toulouse en 2011 il est constitué de 60 musiciens bénévoles : professionnels\,\ngrands élèves des conservatoires de Midi Pyrénées et amateurs confirmés.\nCette harmonie se donne pour mission de populariser le genre harmonique auprès de tous les publics\, le rendre accessible aux initiés comme aux non mélomanes. Pour la saison 2019 l’orchestre sera placé sous la direction de Lucas Mazeres-Leignel .\nFort de son succès toujours grandissant\, H2O se produit chaque année sur les scènes toulousaines telles que La Halle aux Grains\, l’auditorium Saint Pierre des cuisines\, le Phare à Tournefeuille et dans les régions Occitanie et Nouvelle Aquitaine.\nAprès un premier passage à l’Union en 2016\, l’orchestre revient à La Grande Halle de l’Union pour une soirée «dynamisante»! \nTOUT PUBLIC\nplacement libre\ndurée : 1h15\nTarifs\n• plein : 10€\,\n• réduit (enfants – étudiants sur justificatif) 5€. \ninformations et réservations : \nhttps://orchestreh2o.assoconnect.com/billetterie/offre/100990-s-billeterie-concert-du-13-avril-2019-grande-halle-de-l-union \net 05 62 89 22 86 (mairie)\nwww.orchestre-h2o.fr
URL:https://www.ville-lunion.fr/evenement/concert-h2o-orchestre-dharmonie/
LOCATION:Grande Halle de l’Union\, Rue du Somport\, L'Union\, 31240\, France
CATEGORIES:Spectacles
ATTACH;FMTTYPE=image/jpeg:https://www.ville-lunion.fr/wp-content/uploads/2016/12/h2o-2019.jpg
END:VEVENT
BEGIN:VEVENT
DTSTART;TZID=Europe/Paris:20190418T100000
DTEND;TZID=Europe/Paris:20190418T100000
DTSTAMP:20260423T032438
CREATED:20190226T141344Z
LAST-MODIFIED:20190226T141344Z
UID:37927-1555581600-1555581600@www.ville-lunion.fr
SUMMARY:AAPU\, conférence Histoire de l’Art
DESCRIPTION:« Camille Claudel » l’âme de la culture. \nOuvert à tous\, entrée 8 euros pour les non-inscrits à l’histoire de l’Art. \nA l’auditorium de la salle des fêtes
URL:https://www.ville-lunion.fr/evenement/aapu-conference-histoire-de-lart-3/
LOCATION:Salle des fêtes de L’Union\, 6 Avenue des Pyrénées\, L'Union\, 31240\, France
CATEGORIES:Associations
ATTACH;FMTTYPE=image/jpeg:https://www.ville-lunion.fr/wp-content/uploads/2019/02/c-claudel.jpg
END:VEVENT
BEGIN:VEVENT
DTSTART;TZID=Europe/Paris:20190419T200000
DTEND;TZID=Europe/Paris:20190419T200000
DTSTAMP:20260423T032438
CREATED:20190226T141735Z
LAST-MODIFIED:20190226T141735Z
UID:37930-1555704000-1555704000@www.ville-lunion.fr
SUMMARY:Grande audition de l’école de musique
DESCRIPTION:Entrée libre
URL:https://www.ville-lunion.fr/evenement/grande-audition-de-lecole-de-musique/
LOCATION:Grande Halle de l’Union\, Rue du Somport\, L'Union\, 31240\, France
CATEGORIES:Associations
ATTACH;FMTTYPE=image/jpeg:https://www.ville-lunion.fr/wp-content/uploads/2018/04/ecole-musique1.jpg
END:VEVENT
BEGIN:VEVENT
DTSTART;TZID=Europe/Paris:20190422T100000
DTEND;TZID=Europe/Paris:20190422T120000
DTSTAMP:20260423T032438
CREATED:20190313T113053Z
LAST-MODIFIED:20190408T120346Z
UID:37995-1555927200-1555934400@www.ville-lunion.fr
SUMMARY:chasse aux œufs
DESCRIPTION:Appel à tous les chercheurs de trésor\, aventuriers en herbe\, petites exploratrices\, une chasse aux œufs en chocolat vous attend dans le parc de Malpagat : \nle lundi 22 avril de 10h à 12h. Ouverte aux enfants jusqu’à 12 ans\, une aire pour « petit chasseur » est dédiée aux moins de 4 ans. \nEn cas de pluie\, cette animation sera annulée. \n 
URL:https://www.ville-lunion.fr/evenement/chasse-aux-oeufs-2/
CATEGORIES:Associations
ATTACH;FMTTYPE=image/jpeg:https://www.ville-lunion.fr/wp-content/uploads/2019/03/oeufs.jpg
END:VEVENT
END:VCALENDAR