BEGIN:VCALENDAR
VERSION:2.0
PRODID:-//Ville de L&#039;Union - ECPv6.15.13//NONSGML v1.0//EN
CALSCALE:GREGORIAN
METHOD:PUBLISH
X-ORIGINAL-URL:https://www.ville-lunion.fr
X-WR-CALDESC:Évènements pour Ville de L&#039;Union
REFRESH-INTERVAL;VALUE=DURATION:PT1H
X-Robots-Tag:noindex
X-PUBLISHED-TTL:PT1H
BEGIN:VTIMEZONE
TZID:Europe/Paris
BEGIN:DAYLIGHT
TZOFFSETFROM:+0100
TZOFFSETTO:+0200
TZNAME:CEST
DTSTART:20180325T010000
END:DAYLIGHT
BEGIN:STANDARD
TZOFFSETFROM:+0200
TZOFFSETTO:+0100
TZNAME:CET
DTSTART:20181028T010000
END:STANDARD
BEGIN:DAYLIGHT
TZOFFSETFROM:+0100
TZOFFSETTO:+0200
TZNAME:CEST
DTSTART:20190331T010000
END:DAYLIGHT
BEGIN:STANDARD
TZOFFSETFROM:+0200
TZOFFSETTO:+0100
TZNAME:CET
DTSTART:20191027T010000
END:STANDARD
BEGIN:DAYLIGHT
TZOFFSETFROM:+0100
TZOFFSETTO:+0200
TZNAME:CEST
DTSTART:20200329T010000
END:DAYLIGHT
BEGIN:STANDARD
TZOFFSETFROM:+0200
TZOFFSETTO:+0100
TZNAME:CET
DTSTART:20201025T010000
END:STANDARD
END:VTIMEZONE
BEGIN:VEVENT
DTSTART;VALUE=DATE:20190107
DTEND;VALUE=DATE:20190110
DTSTAMP:20260423T075018
CREATED:20181122T095945Z
LAST-MODIFIED:20181122T095945Z
UID:37321-1546819200-1547078399@www.ville-lunion.fr
SUMMARY:don du sang
DESCRIPTION:La collecte du don du sang aura lieu de 14h à 19h.
URL:https://www.ville-lunion.fr/evenement/don-du-sang/
LOCATION:Salle des fêtes de L’Union\, 6 Avenue des Pyrénées\, L'Union\, 31240\, France
CATEGORIES:Associations
ATTACH;FMTTYPE=image/jpeg:https://www.ville-lunion.fr/wp-content/uploads/2016/12/don-du-sang.jpg
END:VEVENT
BEGIN:VEVENT
DTSTART;TZID=Europe/Paris:20190110T100000
DTEND;TZID=Europe/Paris:20190110T100000
DTSTAMP:20260423T075018
CREATED:20181122T100719Z
LAST-MODIFIED:20181122T100719Z
UID:37324-1547114400-1547114400@www.ville-lunion.fr
SUMMARY:conférence Histoire de l'Art - les Années "folles"
DESCRIPTION:
URL:https://www.ville-lunion.fr/evenement/conference-histoire-de-lart-les-annees-folles/
LOCATION:Salle des fêtes de L’Union\, 6 Avenue des Pyrénées\, L'Union\, 31240\, France
CATEGORIES:Associations
ATTACH;FMTTYPE=image/jpeg:https://www.ville-lunion.fr/wp-content/uploads/2018/11/aapu.jpg
END:VEVENT
BEGIN:VEVENT
DTSTART;TZID=Europe/Paris:20190111T193000
DTEND;TZID=Europe/Paris:20190111T193000
DTSTAMP:20260423T075018
CREATED:20181121T145003Z
LAST-MODIFIED:20181121T145003Z
UID:37300-1547235000-1547235000@www.ville-lunion.fr
SUMMARY:loto de l’école Borde d'Olivier
DESCRIPTION:
URL:https://www.ville-lunion.fr/evenement/loto-de-lecole-borde-dolivier/
LOCATION:Grande Halle de l’Union\, Rue du Somport\, L'Union\, 31240\, France
CATEGORIES:Associations
ATTACH;FMTTYPE=image/jpeg:https://www.ville-lunion.fr/wp-content/uploads/2017/11/loto.jpg
END:VEVENT
BEGIN:VEVENT
DTSTART;TZID=Europe/Paris:20190112T203000
DTEND;TZID=Europe/Paris:20190112T203000
DTSTAMP:20260423T075018
CREATED:20181121T145442Z
LAST-MODIFIED:20181121T150113Z
UID:37304-1547325000-1547325000@www.ville-lunion.fr
SUMMARY:Loto du Foot
DESCRIPTION:
URL:https://www.ville-lunion.fr/evenement/loto-du-foot/
LOCATION:Grande Halle de l’Union\, Rue du Somport\, L'Union\, 31240\, France
CATEGORIES:Associations
ATTACH;FMTTYPE=image/jpeg:https://www.ville-lunion.fr/wp-content/uploads/2017/11/loto.jpg
END:VEVENT
BEGIN:VEVENT
DTSTART;TZID=Europe/Paris:20190113T143000
DTEND;TZID=Europe/Paris:20190113T143000
DTSTAMP:20260423T075018
CREATED:20181121T145346Z
LAST-MODIFIED:20181212T104122Z
UID:37302-1547389800-1547389800@www.ville-lunion.fr
SUMMARY:Loto de la FNACA
DESCRIPTION:Bons d’achats de 250€\, 100€\, 50€ – . Articles ménagers – multimédia –  Canards Gras – Jambons – Longes de Porc –Champagne\nPaniers Gourmands et de nombreux autres lots ……. \nVente de cartons à l’entrée : 1 carton : 4 €– 3 cartons : 10€– 10 cartons : 20€\nBoissons\, café\, crêpes ….
URL:https://www.ville-lunion.fr/evenement/loto-de-la-fnaca/
LOCATION:Grande Halle de l’Union\, Rue du Somport\, L'Union\, 31240\, France
CATEGORIES:Associations
ATTACH;FMTTYPE=image/jpeg:https://www.ville-lunion.fr/wp-content/uploads/2017/11/loto.jpg
END:VEVENT
BEGIN:VEVENT
DTSTART;TZID=Europe/Paris:20190116T183000
DTEND;TZID=Europe/Paris:20190116T183000
DTSTAMP:20260423T075018
CREATED:20181122T102308Z
LAST-MODIFIED:20181122T102308Z
UID:37329-1547663400-1547663400@www.ville-lunion.fr
SUMMARY:vœux de M. le Maire aux Unionais
DESCRIPTION:
URL:https://www.ville-lunion.fr/evenement/voeux-de-m-le-maire-aux-unionais/
LOCATION:Salle des fêtes de L’Union\, 6 Avenue des Pyrénées\, L'Union\, 31240\, France
CATEGORIES:Mairie
ATTACH;FMTTYPE=image/jpeg:https://www.ville-lunion.fr/wp-content/uploads/2016/12/coeur_de_ville-9.jpg
END:VEVENT
BEGIN:VEVENT
DTSTART;VALUE=DATE:20190118
DTEND;VALUE=DATE:20190121
DTSTAMP:20260423T075018
CREATED:20181122T102455Z
LAST-MODIFIED:20181122T102524Z
UID:37331-1547769600-1548028799@www.ville-lunion.fr
SUMMARY:Tournoi tir à l’Arc
DESCRIPTION:
URL:https://www.ville-lunion.fr/evenement/tournois-tir-a-larc/
LOCATION:Grande Halle de l’Union\, Rue du Somport\, L'Union\, 31240\, France
CATEGORIES:Associations
ATTACH;FMTTYPE=image/jpeg:https://www.ville-lunion.fr/wp-content/uploads/2017/11/tir.jpg
END:VEVENT
BEGIN:VEVENT
DTSTART;TZID=Europe/Paris:20190123T140000
DTEND;TZID=Europe/Paris:20190123T160000
DTSTAMP:20260423T075018
CREATED:20181121T150949Z
LAST-MODIFIED:20181121T150949Z
UID:37306-1548252000-1548259200@www.ville-lunion.fr
SUMMARY:FESTIVAL du LIVRE de JEUNESSE OCCITANIE 2019  - Atelier Peinture « Cœur-des-Forêts a parlé »
DESCRIPTION:17 ème édition du Festival de littérature Jeunesse Occitanie en partenariat avec la ville de St Orens et Toulouse Métropole. La ville de L’Union accueille cet événement pour la 3ème année consécutive. \nD’après l’album ‘Cœur-des-Forêts a parlé’ de Patrick Fischmann. \n  \nBruno PILORGET\, l’illustrateur de cet album apprendra aux enfants à dessiner directement au pinceau avec de l’encre pour obtenir immédiatement le plaisir et la fluidité du trait. \n  \nA partir de 8 ans. \nInscription obligatoire à partir du 7 janvier car nombre de places limitées. \n  \nContact : Bibliothèque de L’Union au 05.61.74.87.77. \n 
URL:https://www.ville-lunion.fr/evenement/festival-du-livre-de-jeunesse-occitanie-2019-atelier-peinture-coeur-des-forets-a-parle/
LOCATION:Bibliothèque de L’Union\, 6 Avenue de Toulouse\, 31240
CATEGORIES:Mairie
ATTACH;FMTTYPE=image/jpeg:https://www.ville-lunion.fr/wp-content/uploads/2018/11/festiv-jeunesse.jpg
END:VEVENT
BEGIN:VEVENT
DTSTART;TZID=Europe/Paris:20190123T183000
DTEND;TZID=Europe/Paris:20190123T183000
DTSTAMP:20260423T075018
CREATED:20190109T111049Z
LAST-MODIFIED:20190109T111049Z
UID:37565-1548268200-1548268200@www.ville-lunion.fr
SUMMARY:Conseil municipal
DESCRIPTION:Il sera précédé d’une présentation de la Charte Urbanisme.
URL:https://www.ville-lunion.fr/evenement/conseil-municipal-8/
LOCATION:Salle des fêtes de L’Union\, 6 Avenue des Pyrénées\, L'Union\, 31240\, France
CATEGORIES:Mairie
ATTACH;FMTTYPE=image/jpeg:https://www.ville-lunion.fr/wp-content/uploads/2016/12/mairie-entree.jpg
END:VEVENT
BEGIN:VEVENT
DTSTART;TZID=Europe/Paris:20190126T090000
DTEND;TZID=Europe/Paris:20190126T123000
DTSTAMP:20260423T075018
CREATED:20181122T102831Z
LAST-MODIFIED:20190122T175915Z
UID:37334-1548493200-1548505800@www.ville-lunion.fr
SUMMARY:Forum des métiers
DESCRIPTION:Plus de 80 professionnels seront présents au forum des métiers à la Grande Halle le 26 janvier 2019.\nVous pourrez leur poser toutes les questions sur leur métier pour bâtir votre projet professionnel.\nIls pourront vous aider à affiner votre projet\, à cerner la réalité d’un métier. \nA 11h30 une conférence sur des métiers de demain : Le concept de l’INDUSTRIE 4.0 et les métiers adossés.\nIndustrie 4.0 : le terme présente des contours encore relativement ouverts comme le notent les études récentes. Selon une enquête commanditée par Siemens (oct. 2016)\, l’Industrie 4.0 se matérialise par les outils de conception par ordinateurs (pour 70% des répondants)\, par des usines «intelligentes»\, par des produits «intelligents» (smarts) (64%)\, par l’Internet des objets (56%) ainsi que par des systèmes autonomes modulaires (robotique) (46%)\, l’impression 3D (44%) et les systèmes «cyber-physiques» (42%).
URL:https://www.ville-lunion.fr/evenement/forum-des-metiers-2/
LOCATION:Grande Halle de l’Union\, Rue du Somport\, L'Union\, 31240\, France
CATEGORIES:Mairie
END:VEVENT
BEGIN:VEVENT
DTSTART;TZID=Europe/Paris:20190127T090000
DTEND;TZID=Europe/Paris:20190127T180000
DTSTAMP:20260423T075018
CREATED:20181122T103022Z
LAST-MODIFIED:20181122T103022Z
UID:37336-1548579600-1548612000@www.ville-lunion.fr
SUMMARY:Bourse BD Lire
DESCRIPTION:
URL:https://www.ville-lunion.fr/evenement/bourse-bd-lire-2/
LOCATION:Grande Halle de l’Union\, Rue du Somport\, L'Union\, 31240\, France
CATEGORIES:Associations
ATTACH;FMTTYPE=image/jpeg:https://www.ville-lunion.fr/wp-content/uploads/2018/11/BDlire_affiche-2019.jpg
END:VEVENT
END:VCALENDAR