BEGIN:VCALENDAR
VERSION:2.0
PRODID:-//Ville de L&#039;Union - ECPv6.15.13//NONSGML v1.0//EN
CALSCALE:GREGORIAN
METHOD:PUBLISH
X-ORIGINAL-URL:https://www.ville-lunion.fr
X-WR-CALDESC:Évènements pour Ville de L&#039;Union
REFRESH-INTERVAL;VALUE=DURATION:PT1H
X-Robots-Tag:noindex
X-PUBLISHED-TTL:PT1H
BEGIN:VTIMEZONE
TZID:Europe/Paris
BEGIN:DAYLIGHT
TZOFFSETFROM:+0100
TZOFFSETTO:+0200
TZNAME:CEST
DTSTART:20170326T010000
END:DAYLIGHT
BEGIN:STANDARD
TZOFFSETFROM:+0200
TZOFFSETTO:+0100
TZNAME:CET
DTSTART:20171029T010000
END:STANDARD
BEGIN:DAYLIGHT
TZOFFSETFROM:+0100
TZOFFSETTO:+0200
TZNAME:CEST
DTSTART:20180325T010000
END:DAYLIGHT
BEGIN:STANDARD
TZOFFSETFROM:+0200
TZOFFSETTO:+0100
TZNAME:CET
DTSTART:20181028T010000
END:STANDARD
BEGIN:DAYLIGHT
TZOFFSETFROM:+0100
TZOFFSETTO:+0200
TZNAME:CEST
DTSTART:20190331T010000
END:DAYLIGHT
BEGIN:STANDARD
TZOFFSETFROM:+0200
TZOFFSETTO:+0100
TZNAME:CET
DTSTART:20191027T010000
END:STANDARD
END:VTIMEZONE
BEGIN:VEVENT
DTSTART;TZID=Europe/Paris:20180901T203000
DTEND;TZID=Europe/Paris:20180901T203000
DTSTAMP:20260423T134846
CREATED:20180703T124822Z
LAST-MODIFIED:20180823T150507Z
UID:36600-1535833800-1535833800@www.ville-lunion.fr
SUMMARY:Soirée Théâtrale au profit du  TELETHON
DESCRIPTION:L’Association L.A.C vous invite à une Soirée Théâtrale : Mission Florimont à la salle des fêtes par la troupe Harmonies Théâtre \nENTRÉE 5€ \nEn 1534\, le roi François 1° confie une mission à Florimont de la Courneuve\, le meilleur de ses agents… enfin de ceux qui lui restent… enfin\, le seul qui lui reste. Objectif : Constantinople…pour signer un accord avec Soliman le Magnifique. Mais la route est semée d’embûches\, les rencontres dangereuses\, voire amoureuses… \nLa Pièce :\nMission Florimont a été créée en 2009 au théâtre Tristan Bernard à Paris. Elle a été jouée ensuite dans plusieurs théâtres parisiens soit au total plus de 1000 représentations . Elle a été d’autre part nommée aux Molières de la Meilleure pièce Comique 2010.\n« C’est l’époque de Ronsard\, du Bellay\, Nostradamus… Nous avons essayé de faire ce qu’on ne voit pas habituellement au théâtre avec une grande liberté. Nous voulions que les gens qui connaissent l’histoire de France puissent trouver des faits justes et divertir les autres »\, souligne l’auteur\, Sébastien Azzopardi . \nComédie en trois actes de Sacha Danino et Sébastien Azzopardi\nAvec\, par ordre d’entrée en scène :\nChantal HOREAU-VASSAL : Le Poète\, l‘Aubergiste\nAurélie CHAUSSOY : Le peintre\, Perette\, un Cardinal\, une Girl\, Doris\nOlivier KIPPEURT : François 1er\, un Brigand\, Charles Quint\, un Soldat\, le Greffier\nMarion VASSAL : Le Chambellan\nJean-Paul VASSAL : Florimont\nFabrice MATHIEU : Philibert\, un Cardinal\, un Espion\, Boris\nFabienne AMADIS : Margot\nGérard ANTAGNAC : Un Brigand\, Clément VII\, une Girl\, un Espion\, Soliman\,\nMylène CAMUS : L‘Espion\, le Procureur\nRomain TEULIER : Le Grand Vizir \nCostumes Marie-Claude JAOUEN Décors et accessoires : Jean-Paul VASSAL et Gérard ANTAGNAC\nCoiffures et Maquillages « Mèches Rebelles » Son et Régie Marion VASSAL Mise en Scène Chantal HOREAU-VASSAL \nLa troupe Harmonies vous souhaite une très bonne soirée en sa compagnie….
URL:https://www.ville-lunion.fr/evenement/soiree-theatrale-au-profit-du-telethon/
LOCATION:Salle des fêtes de L’Union\, 6 Avenue des Pyrénées\, L'Union\, 31240\, France
CATEGORIES:Associations
ATTACH;FMTTYPE=image/jpeg:https://www.ville-lunion.fr/wp-content/uploads/2018/08/theatre-florimont.jpg
END:VEVENT
BEGIN:VEVENT
DTSTART;TZID=Europe/Paris:20180908T100000
DTEND;TZID=Europe/Paris:20180908T180000
DTSTAMP:20260423T134846
CREATED:20180719T115551Z
LAST-MODIFIED:20180816T152741Z
UID:36463-1536400800-1536429600@www.ville-lunion.fr
SUMMARY:Forum des associations
DESCRIPTION:à la Grande halle et Maison des Sports
URL:https://www.ville-lunion.fr/evenement/forum-des-associations-3/
CATEGORIES:Associations
ATTACH;FMTTYPE=image/jpeg:https://www.ville-lunion.fr/wp-content/uploads/2018/07/forum-assoc.jpg
END:VEVENT
BEGIN:VEVENT
DTSTART;TZID=Europe/Paris:20180915T100000
DTEND;TZID=Europe/Paris:20180915T120000
DTSTAMP:20260423T134846
CREATED:20180904T164125Z
LAST-MODIFIED:20180907T130735Z
UID:36819-1537005600-1537012800@www.ville-lunion.fr
SUMMARY:LE WORLD CLEANUP DAY
DESCRIPTION:Dans le cadre de cette campagne mondiale de ramassage des déchets\, un événement se tiendra près de chez vous le samedi 15 septembre de 10h à 12h\nDépart : parking en face du restaurant Mac Donald\, avenue de Saint Caprais.\nLes participants remonteront le long de l’Hers\, puis de la Sausse pour terminer au lac\, où un déjeuner sur l’herbe sera organisé. Les enfants sont les bienvenus.\nLa commission citoyenne environnement se joindra à cet évènement civique.\nRetrouver l’événement sur le site de l’association World clean up day : réf. n° 4561 Lac_lunion .
URL:https://www.ville-lunion.fr/evenement/le-world-cleanup-day/
CATEGORIES:Mairie
ATTACH;FMTTYPE=image/jpeg:https://www.ville-lunion.fr/wp-content/uploads/2018/09/world-cleanup-day.jpg
END:VEVENT
BEGIN:VEVENT
DTSTART;TZID=Europe/Paris:20180916T100000
DTEND;TZID=Europe/Paris:20180916T170000
DTSTAMP:20260423T134846
CREATED:20180817T094442Z
LAST-MODIFIED:20180817T094442Z
UID:36684-1537092000-1537117200@www.ville-lunion.fr
SUMMARY:Journée navigation - maquettes
DESCRIPTION:L’Amicale Maquettiste organise une exposition de maquettes et des démonstrations en navigation de maquettes de bateaux avec la participation d’autres clubs et maquettistes de la région. \nEntrée gratuite
URL:https://www.ville-lunion.fr/evenement/journee-navigation-maquettes/
LOCATION:lac de St Caprais\, 79 Avenue de Bayonne\, L'UNION\, 31240\, France
CATEGORIES:Associations
ATTACH;FMTTYPE=image/jpeg:https://www.ville-lunion.fr/wp-content/uploads/2018/08/amu-sept-2018.jpg
END:VEVENT
BEGIN:VEVENT
DTSTART;VALUE=DATE:20180922
DTEND;VALUE=DATE:20180923
DTSTAMP:20260423T134846
CREATED:20180426T124508Z
LAST-MODIFIED:20180905T074612Z
UID:35793-1537574400-1537660799@www.ville-lunion.fr
SUMMARY:Spectacle de Guillaume Meurice "Que demande le peuple ?"
DESCRIPTION:COMPLET \nDurée du spectacle : environ 1h30 \nXavier\, cadre dynamique\, décomplexé et ambitieux\, est le conseiller spécial d’Emmanuel Macron.\nTout aussi à l’aise dans la construction médiatique d’un président jupitérien que dans l’élaboration d’une campagne de pub pour du PQ\, il excelle dans l’art délicat de la communication.\nGrâce à lui\, l’austérité économique vous paraitra extra douce\, les discours de nos élus d’une fraîcheur extrême\, et notre leadership international en triple épaisseur.\nCar redonner le moral au peuple de France\, c’est son projeeeeeeet !!\nImpossible ? Impossible n’est pas Xavier. \nAuteur : Guillaume Meurice\nMetteur en scène : Francisco E Cunha\nLumières : Julie Duquenoÿ\nProduction : Les Productions Entropiques \nTarifs : \nplein tarif : 20€\ntarif réduit : 12€ (étudiants\, -de 12 ans\, demandeurs d’emploi\, personnes percevant le RSA)\ntarif intermédiaire : 16€ (groupe à partir de 10 personnes\, + de 65 ans)\n  \nPhoto :  © Fanchon Bilbille
URL:https://www.ville-lunion.fr/evenement/spectacle-de-guillaume-meurice-que-demande-le-peuple/
LOCATION:Grande Halle de l’Union\, Rue du Somport\, L'Union\, 31240\, France
CATEGORIES:Spectacles
ATTACH;FMTTYPE=image/jpeg:https://www.ville-lunion.fr/wp-content/uploads/2018/04/©-Fanchon-Bilbille-02.jpg
END:VEVENT
BEGIN:VEVENT
DTSTART;VALUE=DATE:20180923
DTEND;VALUE=DATE:20180924
DTSTAMP:20260423T134846
CREATED:20180801T092347Z
LAST-MODIFIED:20180820T075156Z
UID:36552-1537660800-1537747199@www.ville-lunion.fr
SUMMARY:Vide grenier des Acacias
DESCRIPTION:Les inscriptions seront à retourner complétés et signés par courrier ou à déposer dans une urne en mairie à compter de cette date avant le 14 septembre. \ntéléchargez le bulletin d'inscription et le règlement intérieur\n 
URL:https://www.ville-lunion.fr/evenement/vide-grenier-des-acacias/
LOCATION:CC des ACACIAS\, Avenue des Acacias\, L'UNION\, 31240\, France
CATEGORIES:Associations
ATTACH;FMTTYPE=image/jpeg:https://www.ville-lunion.fr/wp-content/uploads/2017/02/VG.jpg
END:VEVENT
BEGIN:VEVENT
DTSTART;TZID=Europe/Paris:20180924T140000
DTEND;TZID=Europe/Paris:20180924T140000
DTSTAMP:20260423T134846
CREATED:20180903T121519Z
LAST-MODIFIED:20180903T121519Z
UID:36771-1537797600-1537797600@www.ville-lunion.fr
SUMMARY:CONFÉRENCE STOP ARNAQUES
DESCRIPTION:La maison des solidarités et la gendarmerie nationale en partenariat avec le CCAS de la ville de L’Union vous proposent dans le cadre de la coordination gérontologique une conférence sur le thème des arnaques et escroqueries à éviter. Quelles précautions prendre ? Comment les repérer ? A quel moment contacter la gendarmerie ? Après une présentation des arnaques dont les aînés sont les plus souvent victimes et les conseils pour les éviter\, un temps d’échange sera organisé. L’entrée est libre.
URL:https://www.ville-lunion.fr/evenement/conference-stop-arnaques/
LOCATION:Salle des fêtes de L’Union\, 6 Avenue des Pyrénées\, L'Union\, 31240\, France
CATEGORIES:Mairie
ATTACH;FMTTYPE=image/jpeg:https://www.ville-lunion.fr/wp-content/uploads/2018/09/arnaques.jpg
END:VEVENT
BEGIN:VEVENT
DTSTART;TZID=Europe/Paris:20180926T183000
DTEND;TZID=Europe/Paris:20180926T183000
DTSTAMP:20260423T134846
CREATED:20180115T150809Z
LAST-MODIFIED:20180921T133950Z
UID:34878-1537986600-1537986600@www.ville-lunion.fr
SUMMARY:Conseil Municipal
DESCRIPTION:Ordre du Jour\nDésignation d’un secrétaire de séance \n1- Informations du Maire \n2- Adoption du Procès-Verbal 2018-05 du Conseil Municipal du 4 juillet 2018 \n3- Election du 4ème adjoint au Maire \n4- Désignation des délégués pour siéger au Conseil d’Administration du Collège – Modification de la délibération D2017-72 du 12 juillet 2017 \n5- Commissions Communales\n5.1. Modification de la Commission Communale Culture\, Education\, Jeunesse\n5.2. Modification de la Commission Transport\, Déplacement\n5.3. Modification de la délibération 2017-75 du 12 juillet 2017 portant sur les Indemnités de fonction des élus \n6- Urbanisme et Travaux\n6.1. Syndicat Départemental d’Energie de la Haute-Garonne – Rénovation 13 boules 5\n6.2. Syndicat Départemental d’Energie de la Haute-Garonne – Rénovation de l’éclairage de divers points lumineux\n6.3. Le Groupe Les Châlets – Subvention \n7- Enfance\, Jeunesse\, Vie Scolaire\n7.1. Transfert de l’Accueil de Loisirs Sans Hébergement ALSH maternel (vacances scolaires) et l’accueil de loisirs associé à l’école maternelle (Mercredi après-midi) de l’école Montizalguier à l’école Borde d’Olivier – Modification du circuit de transport –\n7.2. Mise à disposition d’un agent municipal auprès de la Maison des Jeunes et de la Culture (M.J.C.) pendant les vacances scolaires pour l’accueil des 11-14 ans – Modification de la délibération D 2018-49 du 30 mai 2018 \n8- Transport\, Déplacements\, Sécurité et Tranquillité Publique\n8.1. Syndicat Départemental d’Energie de la Haute-Garonne – Mise à disposition de deux radars pédagogiques avenue de Gavarnie et route de Bessières. \n9- Finances\n9.1. Cinéma Le Lumière – Subvention exceptionnelle\n9.2. L’Union des Jeux – Ludothèque – Subvention complémentaire\n9.3. Réhabilitation de la Piscine Municipale – Autorisation de programme et Crédits de paiement (AP/CP) – Modification de la délibération D2018-42 du 11 avril 2018\n9.4. Décision Modificative n°1 \n10- Ressources Humaines\n10.1. Mise en place d’un véhicule de fonction par nécessité de service \n11- Toulouse Métropole\n11.1. Toulouse Métropole – Transfert d’une compétence facultative supplémentaire en matière d’enseignement professionnel des arts du cirque \n12- Arrêtés du Maire \n13- Questions diverses
URL:https://www.ville-lunion.fr/evenement/conseil-municipal-12/
LOCATION:Salle des fêtes de L’Union\, 6 Avenue des Pyrénées\, L'Union\, 31240\, France
CATEGORIES:Mairie
ATTACH;FMTTYPE=image/jpeg:https://www.ville-lunion.fr/wp-content/uploads/2016/12/mairie-8d61f-1.jpg
END:VEVENT
BEGIN:VEVENT
DTSTART;TZID=Europe/Paris:20180929T200000
DTEND;TZID=Europe/Paris:20180929T200000
DTSTAMP:20260423T134846
CREATED:20180719T120111Z
LAST-MODIFIED:20180802T152630Z
UID:36468-1538251200-1538251200@www.ville-lunion.fr
SUMMARY:Présentation de la saison culturelle
DESCRIPTION:La commune vous convie à la soirée de présentation de la saison culturelle 2018-2019. Elle comptera cette année plus d’une vingtaine d’événements officiellement programmés\, soit un cru d’exception.\nAvec des spectacles pour amateurs de théâtre\, de musique\, de festivals littéraires ainsi que des événements jeune public\, il y en aura pour tous les goûts !\nPour cette soirée d’envergure\, des artistes programmés présenteront leurs événements au public en présence des élus. Des animations\, des extraits de théâtre\, de morceaux musicaux et des surprises raviront les curieux.\nHoraires : Début des festivités et restauration rapide (payant) à 19h30 • Début de la soirée à 20h00\nFin de la soirée et cocktail offert par la municipalité à 22h00 \nréservations conseillées :\nA retirer au service culturel de la Mairie • 05 62 89 22 86
URL:https://www.ville-lunion.fr/evenement/presentation-de-la-saison-culturelle/
LOCATION:Grande Halle de l’Union\, Rue du Somport\, L'Union\, 31240\, France
CATEGORIES:Mairie
ATTACH;FMTTYPE=image/jpeg:https://www.ville-lunion.fr/wp-content/uploads/2018/07/soiree-presentation.jpg
ORGANIZER;CN="Mairie service Communication%2C Culture%2C Animation.":MAILTO:cca@mairie-lunion.fr
END:VEVENT
END:VCALENDAR