BEGIN:VCALENDAR
VERSION:2.0
PRODID:-//Ville de L&#039;Union - ECPv6.15.13//NONSGML v1.0//EN
CALSCALE:GREGORIAN
METHOD:PUBLISH
X-ORIGINAL-URL:https://www.ville-lunion.fr
X-WR-CALDESC:Évènements pour Ville de L&#039;Union
REFRESH-INTERVAL;VALUE=DURATION:PT1H
X-Robots-Tag:noindex
X-PUBLISHED-TTL:PT1H
BEGIN:VTIMEZONE
TZID:Europe/Paris
BEGIN:DAYLIGHT
TZOFFSETFROM:+0100
TZOFFSETTO:+0200
TZNAME:CEST
DTSTART:20170326T010000
END:DAYLIGHT
BEGIN:STANDARD
TZOFFSETFROM:+0200
TZOFFSETTO:+0100
TZNAME:CET
DTSTART:20171029T010000
END:STANDARD
BEGIN:DAYLIGHT
TZOFFSETFROM:+0100
TZOFFSETTO:+0200
TZNAME:CEST
DTSTART:20180325T010000
END:DAYLIGHT
BEGIN:STANDARD
TZOFFSETFROM:+0200
TZOFFSETTO:+0100
TZNAME:CET
DTSTART:20181028T010000
END:STANDARD
BEGIN:DAYLIGHT
TZOFFSETFROM:+0100
TZOFFSETTO:+0200
TZNAME:CEST
DTSTART:20190331T010000
END:DAYLIGHT
BEGIN:STANDARD
TZOFFSETFROM:+0200
TZOFFSETTO:+0100
TZNAME:CET
DTSTART:20191027T010000
END:STANDARD
END:VTIMEZONE
BEGIN:VEVENT
DTSTART;VALUE=DATE:20180628
DTEND;VALUE=DATE:20180702
DTSTAMP:20260423T162956
CREATED:20170906T120731Z
LAST-MODIFIED:20180606T100453Z
UID:33889-1530144000-1530489599@www.ville-lunion.fr
SUMMARY:LE MARATHON DES MOTS
DESCRIPTION:14ème édition du « Marathon des mots » – Manifestation Métropolitaine du 28 juin au 1er juillet 2018 \nLes villes de Launaguet et Saint Jean ainsi que la librairie les Passantes de L’Union sont également associées à cet événement en proposant des lectures. \nJeudi 28 juin à 18h – Librairie Les Passantes – L’Union \nMarathon des idées – Masculin / Féminin  \nRencontre avec Léonor de Récondo autour de son dernier roman Point cardinal (éditions Sabine Wespieser). \nJeudi 28 juin – Launaguet  20h30 – Hôtel de ville \nLecture de Je vais bien ne t’en fais pas d’Olivier Adam \nLe premier roman d’Olivier Adam publié en 1999 et adapté au cinéma par Philippe Lioret en 2006\, traite des thèmes qui lui deviendront vite chers : la disparition et la filiation. \nLa lecture sera sonorisée en extérieur : venez avec votre coussin écouter dans l’herbe du parc de l’hôtel de ville. \nVendredi 29 juin 18h30 – St Jean  Médiathèque Les Granges  \nClément Carabédian lit Brasil (Le Passage) de Jean-Paul Delfino. \nUne fresque historique menée avec maestria et érudition \, suivie d’une rencontre avec l’auteur et du concert de Samba Résille à 21H00. \nSamedi 30 juin – Château Malpagat\, L’Union 15h – Rencontre avec Jean-Baptiste Andrea \nChaque année\, le Marathon des mots\, festival international de littérature de Toulouse Métropole\, met à l’honneur des écrivains et artistes du monde entier pour des lectures\, rencontres et concerts littéraires. Aux côtés des grandes figures de la littérature et de la scène\, venues du monde entier\, le Marathon des mots a toujours le souci de faire entendre la voix des nouveaux écrivains francophones. Nul doute que certains d’entre eux seront les grands écrivains de demain. \nL’Union est associée pour la 4ème année consécutive à cet événement métropolitain et reçoit cette année Jean-Baptiste Andrea pour une rencontre autour de son premier roman  Ma reine  publié aux Editions L’Iconoclaste. \nJean-Baptiste Andrea est né en 1971. Il est réalisateur et scénariste. Ma reine a reçu le Prix de La Poste 2017. Ode à l’imaginaire\, à l’enfance\, à la singularité\, l’auteur campe dans ce décor jalonné de vallées oubliées et de plateaux infinis\, des personnages cabossés\,anormaux ; ou plutôt des êtres tout à fait normaux\, mais dans un monde où les valeurs sont inversées\, et où rêve et réalité se confondent sans cesse. \nUn conte initiatique où tout est vrai\, tout est rêve\, tout est roman. \nDu 14 au 30 juin – L’Union \nExposition de l’association des arts plastiques AAPU toutes techniques à la bibliothèque\, en liaison avec le Marathon des mots\, sur les thèmes\, « Pays lusophones et Masculin\, Féminin ». \nProgramme complet \n 
URL:https://www.ville-lunion.fr/evenement/le-marathon-des-mots-2/
CATEGORIES:Associations,Mairie,Manifestations
ATTACH;FMTTYPE=image/jpeg:https://www.ville-lunion.fr/wp-content/uploads/2017/09/marathon-2018.jpg
END:VEVENT
BEGIN:VEVENT
DTSTART;TZID=Europe/Paris:20180704T183000
DTEND;TZID=Europe/Paris:20180704T183000
DTSTAMP:20260423T162956
CREATED:20180115T150723Z
LAST-MODIFIED:20180629T093428Z
UID:34876-1530729000-1530729000@www.ville-lunion.fr
SUMMARY:Conseil Municipal
DESCRIPTION:Ordre du jour\nDésignation d’un secrétaire de séance \n1- Informations du Maire \n2- Adoption du Procès-Verbal 2018-04 du Conseil Municipal du 30 mai 2018 \n3- Urbanisme et Travaux\n3.1. Agence d’Urbanisme et d’Aménagement de Toulouse Aire Urbaine – AUAT – Avenant 14 à la convention cadre du 13 avril 2005\n3.2. Syndicat Départemental d’Energie de la Haute-Garonne SDEHG – Enfouissement des réseaux chemin de la Violette – Approbation de l’avant-Projet sommaire – \n4- Culture\n4.1. Convention de partenariat culturel avec l’association Cléante\n4.2. Convention de partenariat « Partir en Livre »\n4.3. Lecture Publique – Conventions avec le Conseil Départemental de la Haute-Garonne et avec l’association Plaisir de Lire \n5- Ressources Humaines\n5.1. Détermination de la composition du Comité Technique en vue des élections du 06 décembre 2018 – Annule et remplace la délibération 2018-62\n5.2. Détermination de la composition du Comité d’Hygiène\, de Sécurité et des Conditions de Travail en vue des élections du 06 décembre 2018 – Annule et remplace la délibération 2018-63 \n6- Toulouse Métropole\n6.1. Toulouse Métropole – Ouvertures dominicales 2019 \n7- Citoy’enR\n7.1. Désignation d’un représentant au sein du Conseil d’Administration de Citoy’enR \n8- Proposition de motion du Conseil Municipal relative au déploiement des compteurs Linky par la société Enedis \n9- Arrêtés du Maire \n10- Questions diverses
URL:https://www.ville-lunion.fr/evenement/conseil-municipal-11/
LOCATION:Salle des fêtes de L’Union\, 6 Avenue des Pyrénées\, L'Union\, 31240\, France
CATEGORIES:Mairie
ATTACH;FMTTYPE=image/jpeg:https://www.ville-lunion.fr/wp-content/uploads/2016/12/mairie-8d61f-1.jpg
END:VEVENT
BEGIN:VEVENT
DTSTART;VALUE=DATE:20180707
DTEND;VALUE=DATE:20180709
DTSTAMP:20260423T162956
CREATED:20180604T142438Z
LAST-MODIFIED:20180604T142438Z
UID:36041-1530921600-1531094399@www.ville-lunion.fr
SUMMARY:ASTRONOMIE ET MODÉLISME NAVAL
DESCRIPTION:Après le succès des années précédentes l’Amicale Maquettiste et le club d’astronomie NEPTUNION 31 de L’UNION vous invitent au lac Saint-Caprais les 7 et 8 juillet\n2018 pour une initiation à l’astronomie et à la navigation de modèles réduits.\nSamedi 7 juillet 2016 de 17 heures à 23 heures : exposition puis à la nuit tombée : observation astronomique du ciel d’été au télescope et navigation de maquettes\néclairées\,\nDimanche 8 juillet de 10 à 17 heures : observations solaires\, exposition de maquettes et navigation de modèles réduits.\nEntrée gratuite.
URL:https://www.ville-lunion.fr/evenement/astronomie-et-modelisme-naval/
LOCATION:lac de St Caprais\, 79 Avenue de Bayonne\, L'UNION\, 31240\, France
CATEGORIES:Associations
ATTACH;FMTTYPE=image/jpeg:https://www.ville-lunion.fr/wp-content/uploads/2018/06/modelisme.jpg
END:VEVENT
BEGIN:VEVENT
DTSTART;TZID=Europe/Paris:20180709T210000
DTEND;TZID=Europe/Paris:20180709T210000
DTSTAMP:20260423T162956
CREATED:20180604T141244Z
LAST-MODIFIED:20180604T141244Z
UID:36034-1531170000-1531170000@www.ville-lunion.fr
SUMMARY:Gala folklorique
DESCRIPTION:Folklore Tchèque\nDans le cadre de leurs échanges avec nos voisins européens\, le Quadrille Occitan accueille le groupe tchèque : CTYRLISTEK de NOVE STRASECI\, sous la direction\nde Monsieur Tomas VAVRA.\nCe groupe vient de la ville de Nove Straseci et présente chants et danses de cette région. En leur compagnie\, l’association participera au Grand Fénétra de Toulouse\, après avoir animé les fêtes de la Saint Jean à Allauch (13) .\nToutes les personnes intéressées par la danse ou la musique peuvent venir rejoindre l’association et connaître le plaisir de rencontres enrichissantes. Contact : lequadrilleoccitan@gmail.com \nEntrée libre et gratuite.
URL:https://www.ville-lunion.fr/evenement/gala-folklorique-2/
LOCATION:Grande Halle de l’Union\, Rue du Somport\, L'Union\, 31240\, France
CATEGORIES:Associations
ATTACH;FMTTYPE=image/jpeg:https://www.ville-lunion.fr/wp-content/uploads/2018/06/folklore1.jpg
END:VEVENT
BEGIN:VEVENT
DTSTART;VALUE=DATE:20180711
DTEND;VALUE=DATE:20180712
DTSTAMP:20260423T162956
CREATED:20170906T132927Z
LAST-MODIFIED:20180604T075139Z
UID:33899-1531267200-1531353599@www.ville-lunion.fr
SUMMARY:PARTIR EN LIVRE
DESCRIPTION:Manifestation nationale gratuite\, populaire et festive\, organisée par le centre national du livre.\nL’ambition est de faire sortir le livre de ses lieux habituels pour aller à la rencontre des enfants et des jeunes\, et pour leur transmettre le plaisir de la lecture.\nLes lieux où se dérouleront ces animations seront définis en cours d’année. \nCette fête est organisée en partenariat avec la bibliothèque Plaisir de lire et la librairie Les passantes. \nJEUNE PUBLIC\nanimations littéraires destinées aux jeunes Unionais \n  \nATELIER DE FABRICATION D’UN LIVRE \nanimé par l’illustratrice Anaïs Barrachina \nMercredi 11 juillet • Centre de loisirs \nRéalisation d’un carnet accordéon avec sa couverture cartonnée. \nJeune public • Exclusivement pour les enfants inscrits au centre de loisirs \n  \nLECTURES D’ALBUMS DE JEUNESSE \nMercredi 11 juillet • Centre de loisirs \nLa bibliothèque Plaisir de lire de L’Union proposera aux enfants du centre de loisirs \ndes découvertes et des lectures d’albums jeunesse. \nJeune public • Exclusivement pour les enfants inscrits au centre de loisirs \nProgramme complet sur https://www.partir-en-livre.fr/ \n  \n 
URL:https://www.ville-lunion.fr/evenement/partir-en-livre-2/
LOCATION:Centre de loisirs
CATEGORIES:Mairie,Manifestations
ATTACH;FMTTYPE=image/jpeg:https://www.ville-lunion.fr/wp-content/uploads/2017/09/partir-en-livre1.jpg
END:VEVENT
BEGIN:VEVENT
DTSTART;TZID=Europe/Paris:20180713T190000
DTEND;TZID=Europe/Paris:20180713T190000
DTSTAMP:20260423T162956
CREATED:20180522T165535Z
LAST-MODIFIED:20180703T135125Z
UID:35897-1531508400-1531508400@www.ville-lunion.fr
SUMMARY:BANQUET RÉPUBLICAIN
DESCRIPTION:Le banquet républicain vous accueillera le vendredi 13 juillet sur la place San Biaggio dès 19h (à la grande halle dans le cas d’une météo défavorable) \nAu menu : salade jambon/melon\, gambas décortiqués avec pommes de terre printanière\, tarte normande \nAccompagnement musical pendant le repas suivi d’un bal populaire animé par l’orchestre Valery \nPour vous inscrire au repas déposez le coupon\, que vous trouverez dans L’Unionais de juin\, dans l’urne à l’accueil de la mairie \nTarif : 13 € par personne (6€ pour les enfants) \nDate limite d’inscription : 6 juillet 2018
URL:https://www.ville-lunion.fr/evenement/banquet-republicain-2/
LOCATION:Place San Biagio\, place San Biagio\, L'UNION\, 31240\, France
CATEGORIES:Mairie
ATTACH;FMTTYPE=image/jpeg:https://www.ville-lunion.fr/wp-content/uploads/2018/05/banquet2018.jpg
END:VEVENT
BEGIN:VEVENT
DTSTART;TZID=Europe/Paris:20180714T160000
DTEND;TZID=Europe/Paris:20180714T160000
DTSTAMP:20260423T162956
CREATED:20180206T174751Z
LAST-MODIFIED:20180206T174751Z
UID:35205-1531584000-1531584000@www.ville-lunion.fr
SUMMARY:Commémoration du 14 juillet
DESCRIPTION:
URL:https://www.ville-lunion.fr/evenement/commemoration-14-juillet-2/
LOCATION:Parvis du collège\, 9 bis avenue des Pyrénées\, l'union\, 31240
CATEGORIES:Mairie
ATTACH;FMTTYPE=image/jpeg:https://www.ville-lunion.fr/wp-content/uploads/2017/02/commemoration-e1650990052556.jpg
END:VEVENT
BEGIN:VEVENT
DTSTART;TZID=Europe/Paris:20180718T150000
DTEND;TZID=Europe/Paris:20180718T150000
DTSTAMP:20260423T162956
CREATED:20180604T074000Z
LAST-MODIFIED:20180604T074229Z
UID:35992-1531926000-1531926000@www.ville-lunion.fr
SUMMARY:PARTIR EN LIVRE
DESCRIPTION:Manifestation nationale gratuite\, populaire et festive\, organisée par le centre national du livre.\nL’ambition est de faire sortir le livre de ses lieux habituels pour aller à la rencontre des enfants et des jeunes\, et pour leur transmettre le plaisir de la lecture.\nLes lieux où se dérouleront ces animations seront définis en cours d’année. \nCette fête est organisée en partenariat avec la bibliothèque Plaisir de lire et la librairie Les passantes. \nJEUNE PUBLIC\nanimations littéraires destinées aux jeunes Unionais \nATELIER CARTE SURPRISE \nanimé par l’auteure-illustratrice Sophie Vissière \nMercredi 18 juillet > 15h00 -16h15 / lecture à 16h30 • Librairie Les Passantes \n(43\, avenue de Toulouse) \nViens fabriquer une carte avec un «flap» en imaginant ce qui pourrait bien se cacher dans le cadeau qui attend Andrée\, l’héroïne du dernier album de Sophie Vissière ! (durée 1h15) \nL’atelier sera suivi à 16h30 d’une lecture par l’auteure-illustratrice de son dernier album Pour Andrée\, Hélium\, 2018\, puis à 16h45 d’une séance de dédicace. \nDe 4 à 6 ans • Sur inscription au 05 67 08 52 36 \nProgramme complet sur https://www.partir-en-livre.fr/
URL:https://www.ville-lunion.fr/evenement/partir-en-livre-3/
LOCATION:Librairie les Passantes\, 43 Avenue de Toulouse\, L'UNION\, 31240
CATEGORIES:Manifestations
ATTACH;FMTTYPE=image/jpeg:https://www.ville-lunion.fr/wp-content/uploads/2017/09/partir-en-livre1.jpg
END:VEVENT
BEGIN:VEVENT
DTSTART;VALUE=DATE:20180723
DTEND;VALUE=DATE:20180726
DTSTAMP:20260423T162956
CREATED:20161221T090135Z
LAST-MODIFIED:20180115T153242Z
UID:30854-1532304000-1532563199@www.ville-lunion.fr
SUMMARY:Collecte du don du sang
DESCRIPTION:La collecte du don du sang aura lieu du 23 au 25 JUILLET de 14h à 19h.
URL:https://www.ville-lunion.fr/evenement/collecte-don-sang/
LOCATION:Salle des fêtes de L’Union\, 6 Avenue des Pyrénées\, L'Union\, 31240\, France
CATEGORIES:Associations
ATTACH;FMTTYPE=image/jpeg:https://www.ville-lunion.fr/wp-content/uploads/2016/12/don-du-sang.jpg
END:VEVENT
BEGIN:VEVENT
DTSTART;TZID=Europe/Paris:20180727T213000
DTEND;TZID=Europe/Paris:20180727T213000
DTSTAMP:20260423T162956
CREATED:20180727T073405Z
LAST-MODIFIED:20180727T073405Z
UID:36530-1532727000-1532727000@www.ville-lunion.fr
SUMMARY:Soirée Spéciale Eclipse de Lune
DESCRIPTION:
URL:https://www.ville-lunion.fr/evenement/soiree-speciale-eclipse-de-lune/
LOCATION:Place San Biagio\, place San Biagio\, L'UNION\, 31240\, France
CATEGORIES:Associations
ATTACH;FMTTYPE=image/jpeg:https://www.ville-lunion.fr/wp-content/uploads/2018/07/Soirée-spéciale-éclipse-lunaire-2-2.jpg
END:VEVENT
END:VCALENDAR