BEGIN:VCALENDAR
VERSION:2.0
PRODID:-//Ville de L&#039;Union - ECPv6.15.13//NONSGML v1.0//EN
CALSCALE:GREGORIAN
METHOD:PUBLISH
X-WR-CALNAME:Ville de L&#039;Union
X-ORIGINAL-URL:https://www.ville-lunion.fr
X-WR-CALDESC:Évènements pour Ville de L&#039;Union
REFRESH-INTERVAL;VALUE=DURATION:PT1H
X-Robots-Tag:noindex
X-PUBLISHED-TTL:PT1H
BEGIN:VTIMEZONE
TZID:Europe/Paris
BEGIN:DAYLIGHT
TZOFFSETFROM:+0100
TZOFFSETTO:+0200
TZNAME:CEST
DTSTART:20170326T010000
END:DAYLIGHT
BEGIN:STANDARD
TZOFFSETFROM:+0200
TZOFFSETTO:+0100
TZNAME:CET
DTSTART:20171029T010000
END:STANDARD
BEGIN:DAYLIGHT
TZOFFSETFROM:+0100
TZOFFSETTO:+0200
TZNAME:CEST
DTSTART:20180325T010000
END:DAYLIGHT
BEGIN:STANDARD
TZOFFSETFROM:+0200
TZOFFSETTO:+0100
TZNAME:CET
DTSTART:20181028T010000
END:STANDARD
BEGIN:DAYLIGHT
TZOFFSETFROM:+0100
TZOFFSETTO:+0200
TZNAME:CEST
DTSTART:20190331T010000
END:DAYLIGHT
BEGIN:STANDARD
TZOFFSETFROM:+0200
TZOFFSETTO:+0100
TZNAME:CET
DTSTART:20191027T010000
END:STANDARD
END:VTIMEZONE
BEGIN:VEVENT
DTSTART;TZID=Europe/Paris:20180601T203000
DTEND;TZID=Europe/Paris:20180602T203000
DTSTAMP:20260423T175503
CREATED:20170906T100344Z
LAST-MODIFIED:20180418T091308Z
UID:33880-1527885000-1527971400@www.ville-lunion.fr
SUMMARY:L’ÉTUDIANTE ET M. HENRI
DESCRIPTION:À 78 ans\, Monsieur Henri vit seul dans son appartement Parisien.\nParticulièrement bougon et solitaire\, il refuse tout placement en maison de retraite.\nIl est alors contraint par son fils de louer une chambre de son appartement à une étudiante\, Constance 21 ans jolie demoiselle pleine de fraicheur.\nLoin de tomber sous son charme\, Monsieur Henri va se servir de Constance pour créer un véritable chaos familial. \nDistribution : auteur : Ivan Calbérac • Avec : Alain Dumas\,\nClara Ginibre\, Guillaume Destrem\, Anne-Sophie Delahaye –\nMise en scène : Laurent Collombert – Décor : Olivier Hebert\net Annie Giral – Musique : Martial Bodnar et Jean-Pierre\nPichon Savoldelli – Régie : Erwan Guillou \nTOUT PUBLIC\ndurée : 1h45 \nTarifs :\nnormal : 19€\ngroupe (10) et + de 65 ans  : 15€\nréduit Étudiants de -25 ans\, demandeurs d’emploi\, -12 ans : 11€ \nRéservations : \nhttps://www.compagnie-cleante.com/letudiante-et-mr-henri/ \n 
URL:https://www.ville-lunion.fr/evenement/letudiante-m-henri/
LOCATION:Grande Halle de l’Union\, Rue du Somport\, L'Union\, 31240\, France
CATEGORIES:Spectacles
ATTACH;FMTTYPE=image/jpeg:https://www.ville-lunion.fr/wp-content/uploads/2017/09/henri.jpg
ORGANIZER;CN="compagnie-cleante":MAILTO:compagniecleante@gmail.com
END:VEVENT
BEGIN:VEVENT
DTSTART;TZID=Europe/Paris:20180601T210000
DTEND;TZID=Europe/Paris:20180601T210000
DTSTAMP:20260423T175503
CREATED:20180529T120439Z
LAST-MODIFIED:20180529T120439Z
UID:35947-1527886800-1527886800@www.ville-lunion.fr
SUMMARY:Concert Big Band
DESCRIPTION:
URL:https://www.ville-lunion.fr/evenement/concert-big-band/
LOCATION:Salle des fêtes de L’Union\, 6 Avenue des Pyrénées\, L'Union\, 31240\, France
CATEGORIES:Associations
ATTACH;FMTTYPE=image/jpeg:https://www.ville-lunion.fr/wp-content/uploads/2018/05/assoc-big-band.jpg
END:VEVENT
BEGIN:VEVENT
DTSTART;TZID=Europe/Paris:20180602T140000
DTEND;TZID=Europe/Paris:20180602T170000
DTSTAMP:20260423T175503
CREATED:20180115T155420Z
LAST-MODIFIED:20180601T071532Z
UID:34892-1527948000-1527958800@www.ville-lunion.fr
SUMMARY:RÉCRÉ O'LAC
DESCRIPTION:Maquillage\, châteaux gonflables\, jeux en bois et petit goûter\, voici les ingrédients que L’Union Festivités vous proposent un après-midi au parc de Malpagat en attendant les vacances. \nOuvert aux enfants à partir de 3 ans et leurs parents\, nous vous attendons au parc de Malpagat \nEntrée libre et gratuite
URL:https://www.ville-lunion.fr/evenement/recre-olac-2/
LOCATION:Parc de Malpagat\, L'UNION\, 31240
CATEGORIES:Associations
ATTACH;FMTTYPE=image/jpeg:https://www.ville-lunion.fr/wp-content/uploads/2018/05/recre.jpg
END:VEVENT
BEGIN:VEVENT
DTSTART;VALUE=DATE:20180604
DTEND;VALUE=DATE:20180605
DTSTAMP:20260423T175503
CREATED:20180302T131540Z
LAST-MODIFIED:20180507T072446Z
UID:35464-1528070400-1528156799@www.ville-lunion.fr
SUMMARY:Colloque « Y aura-t-il encore des petits Occitans en 2040 ? »
DESCRIPTION:| Téléchargez le programme complet du colloque. \nPrésident du Comité d’organisation : Gérard BAPT \nEquipe d’organisation : Nathalie FERRAND et Bernard PETIT (RES)\, Virginie RIO et Sandrine ROBERT (collectif BAMP) \nPrésident du Comité scientifique : Pr Charles SULTAN \nExposition PE RES et exposition photos Collectif BAMP. \n\nOuverture du colloque : Président du RES\, Pr SULTAN\, ARS\, représentants collectivités territoriales\, mairie de l’Union\nStratégie nationale PE +Plan environnement santé\, crise sanitaire: André CICOLELLA\nJoëlle LE MOAL (Paris) : étude sur la baisse de la qualité du sperme\, étude sur la baisse de l’âge de la puberté\nEtat des lieux des expositions en Occitanie : Dr CASSADOU (ORS)\nPrésentation de l’impact des PE sur la santé des enfants et des futurs parents\n\nMalformations génitales du garçon (Laura GASPARY\, Nicolas CALFIN et Françoise PARIS)\nPrécocité pubertaire chez la fille (Laura GASPARY\, Françoise PARIS\, Pr SULTAN)\nDr Maïté TAUBER (endocrino pédiatrique)\nInfertilité : Dr LEANDRI\, Pr BUJAU\nSubstances préoccupantes : Francelyne MARANO (Haut conseil de la Santé Publique)\n\n\nToxicité de l’alimentation : INRA (UMR AGIR). Mr DURU.\nLe Centre ARTEMIS : plateforme de prévention de la santé environnementale pour des patients présentant des troubles de la reproduction. Fleur DELVA\nLes attentes des citoyens : Virginie RIO (Collectif BAMP\, Association Pour la Santé de Tous (citoyens et santé)\, usagers/UNAAS\nLa position des institutions : ce qu’ils sont prêts à faire au vu de la situation. Table ronde avec Gérard BAPT (président du GSE ). ARS\, DREAL\, DRAFT\, HEAL (Genon JENSEN) \, collectivités locales\, PMI\, doyen de fac (institut fédératif universitaire) URPS ? CESE ? Parlementaires européens (Virginie Rosière et Eric Andrieu) ? français ?
URL:https://www.ville-lunion.fr/evenement/colloque-y-aura-t-petits-occitans-2040-2/
LOCATION:Grande Halle de l’Union\, Rue du Somport\, L'Union\, 31240\, France
CATEGORIES:Associations
ATTACH;FMTTYPE=image/jpeg:https://www.ville-lunion.fr/wp-content/uploads/2018/03/4-06-18.jpg
END:VEVENT
BEGIN:VEVENT
DTSTART;VALUE=DATE:20180604
DTEND;VALUE=DATE:20180609
DTSTAMP:20260423T175503
CREATED:20180604T132721Z
LAST-MODIFIED:20180604T132741Z
UID:36024-1528070400-1528502399@www.ville-lunion.fr
SUMMARY:Semaine du développement durable
DESCRIPTION:Pour la 5ème année consécutive\, les Mille Pattes de L’Union (association gérant le pédibus) organise\, en partenariat avec la mairie de L’Union\, le CHALLENGE\nÉCOMOBILITÉ pour la semaine du développement durable. \nLe challenge se déroulera pour les classes élémentaires du 4 au 8 juin.\nPendant toute la semaine\, les enfants sont encouragés à venir à l’école « autrement » : à pied\, en vélo\, en trottinette\, en bus\, en covoiturage ou … en pédibus bien sûr !\nCette année\, les trois groupes scolaires élémentaires participent à ce challenge et tous les enfants sont conviés à aller à l’école « autrement ».\nA cette occasion les 2 lignes de pedibus de l’école Belbèze fonctionneront tous les jours. Les départs du pédibus vers l’école Belbèze se font tous les mercredis à 8h35\nau rond-point de la piscine et 8h40 en haut des allées Roncevaux (et tous les jours pour la semaine du challenge) .\nN’hésitez pas à venir les rejoindre ! \nplus d’informations :\nhttp://les1000pattes.canalblog.com/\nlesmillepattesdelunion@yahoo.fr
URL:https://www.ville-lunion.fr/evenement/semaine-du-developpement-durable/
CATEGORIES:Associations,Mairie
ATTACH;FMTTYPE=image/jpeg:https://www.ville-lunion.fr/wp-content/uploads/2018/06/semaine-développement-durable.jpg
END:VEVENT
BEGIN:VEVENT
DTSTART;VALUE=DATE:20180608
DTEND;VALUE=DATE:20180609
DTSTAMP:20260423T175503
CREATED:20170906T101040Z
LAST-MODIFIED:20170906T115308Z
UID:33883-1528416000-1528502399@www.ville-lunion.fr
SUMMARY:DANSE À L’ÉCOLE
DESCRIPTION:L’accès à toutes les formes de culture est une volonté affirmée de la municipalité.\nDepuis 2015\, l’accent est mis sur le jeune public dans le cadre du programme « danse à l’école » avec la compagnie toulousaine La Baraque.\nDurant l’année\, les enfants des écoles découvrent l’art de la danse en suivant les enseignements des danseurs professionnels\nde la compagnie\, associant création et sensibilisation.\nUne restitution de ce travail-création est proposée en fin d’année\, lors d’une soirée exceptionnelle qui réunit plus de 400 spectateurs.\nA cette occasion\, la compagnie propose aussi son propre spectacle. \nTOUT PUBLIC\nspectacle gratuit\nouvert à tous.
URL:https://www.ville-lunion.fr/evenement/danse-a-lecole-2/
CATEGORIES:Mairie,Spectacles
ATTACH;FMTTYPE=image/jpeg:https://www.ville-lunion.fr/wp-content/uploads/2017/09/MG_9608-2.jpg
END:VEVENT
BEGIN:VEVENT
DTSTART;VALUE=DATE:20180609
DTEND;VALUE=DATE:20180611
DTSTAMP:20260423T175503
CREATED:20180604T142900Z
LAST-MODIFIED:20180604T142900Z
UID:36044-1528502400-1528675199@www.ville-lunion.fr
SUMMARY:Braderie du Secours Populaire
DESCRIPTION:POUR QUI : braderies ouvertes à tous. Venez faire de bonnes affaires. Votre visite sera un encouragement. \nQUOI : vêtements neufs ou en très bon état\, petit ménager\, vaisselle\, livres\, DVD …. provenant des dons de particuliers ou d’entreprises. \nCOMMENT : vous choississez\, vous versez la modeste contribution indiquée (toutes les recettes servent en totalité à faire reculer la pauvreté). \nET MIEUX : ramenez nous les biens ci-dessus dont vous n’avez plus l’usage. Après contrôle et tri\, vos dons pourront servir à d’autres personnes.        \nContact :  Secours Populaire Français Antenne de L’Union\, St Jean\, Castelmaurou\,Rouffiac\n9 avenue de Toulouse\, Zone Loubet\, local 54\,\n31240 L’ Union\nTel : 07 86 21 30 51 • Contact : spf.lunion@gmail.com                   
URL:https://www.ville-lunion.fr/evenement/braderie-du-secours-populaire/
LOCATION:Salle des fêtes de L’Union\, 6 Avenue des Pyrénées\, L'Union\, 31240\, France
CATEGORIES:Associations
ATTACH;FMTTYPE=image/jpeg:https://www.ville-lunion.fr/wp-content/uploads/2017/03/Secours-Populaire.jpg
ORGANIZER;CN="Secours Populaire Fran%C3%A7ais Antenne de l'Union":MAILTO:spf.lunion@gmail.com Horaires
END:VEVENT
BEGIN:VEVENT
DTSTART;TZID=Europe/Paris:20180615T203000
DTEND;TZID=Europe/Paris:20180615T203000
DTSTAMP:20260423T175503
CREATED:20180601T093226Z
LAST-MODIFIED:20180601T093226Z
UID:35967-1529094600-1529094600@www.ville-lunion.fr
SUMMARY:Ciné-débat sur les fermetures d'usine et délocalisation -  Film "en guerre"
DESCRIPTION:Projection du film ‘En Guerre’  de Stéphane Brizé avec Vincent Lindon\, présenté lors du dernier festival de Cannes . \n  \nLe sujet du film est la fermeture d’une usine  et sa délocalisation malgré les profits.  \n Le débat sera animé par Maitre Denjean l’avocat des ouvriers de chez Molex\,  \nIl a été le défenseur d’une cause semblable à celle exposé dans le film : la fermeture de l’usine de Villemur sur Tarn et sa délocalisation en Chine et aux Etats Unis malgré d’immenses profits. \n  \n 
URL:https://www.ville-lunion.fr/evenement/cine-debat-sur-les-fermetures-dusine-et-delocalisation-film-en-guerre/
LOCATION:Le Lumière\, 6 Rue du Pic du Midi\, L'Union\, 31240\, France
CATEGORIES:Cinéma
ATTACH;FMTTYPE=image/png:https://www.ville-lunion.fr/wp-content/uploads/2018/06/en-guerre.png
END:VEVENT
BEGIN:VEVENT
DTSTART;VALUE=DATE:20180616
DTEND;VALUE=DATE:20180617
DTSTAMP:20260423T175503
CREATED:20170906T115931Z
LAST-MODIFIED:20180502T082705Z
UID:33886-1529107200-1529193599@www.ville-lunion.fr
SUMMARY:LA FÊTE DU PARC
DESCRIPTION:La commune vous propose un programme varié autour de la musique et de la danse dans le parc de Malpagat\,\nen partenariat avec l’école de musique de L’Union\, la MJC\, L’Union Festivités et en collaboration avec la bibliothèque\, la ludothèque et d’autres d’associations. \nVous êtes invités à une multitude de concerts et animations dans le parc à partir de 14h.\nDurant toute la journée et jusqu’à minuit\, différents styles de musique et danse seront mis à l’honneur. \nTOUT PUBLIC\nentrée libre \nbuvette & restauration ambulante sur place en soirée. \nDe 10h à minuit
URL:https://www.ville-lunion.fr/evenement/la-fete-du-parc/
LOCATION:Parc de Malpagat\, L'UNION\, 31240
CATEGORIES:Associations,Mairie,Manifestations
ATTACH;FMTTYPE=image/jpeg:https://www.ville-lunion.fr/wp-content/uploads/2017/09/fete-parc-musique.jpg
END:VEVENT
BEGIN:VEVENT
DTSTART;TZID=Europe/Paris:20180616T193000
DTEND;TZID=Europe/Paris:20180616T193000
DTSTAMP:20260423T175503
CREATED:20180604T143843Z
LAST-MODIFIED:20180604T143843Z
UID:36046-1529177400-1529177400@www.ville-lunion.fr
SUMMARY:Souk Scénik - Théâtre de l'Olivier
DESCRIPTION:Par les Assidus lès de l’Olivier (ateliers Pitchous\, Mômes\, Adultes)\nEntrée libre\nRenseignements : 06.75.45.38.81
URL:https://www.ville-lunion.fr/evenement/souk-scenik-theatre-de-lolivier/
LOCATION:Salle des fêtes de L’Union\, 6 Avenue des Pyrénées\, L'Union\, 31240\, France
CATEGORIES:Associations
ATTACH;FMTTYPE=image/jpeg:https://www.ville-lunion.fr/wp-content/uploads/2018/06/souk-scenik.jpg
END:VEVENT
BEGIN:VEVENT
DTSTART;TZID=Europe/Paris:20180617T080000
DTEND;TZID=Europe/Paris:20180617T180000
DTSTAMP:20260423T175503
CREATED:20180301T154139Z
LAST-MODIFIED:20180301T154139Z
UID:35444-1529222400-1529258400@www.ville-lunion.fr
SUMMARY:VIDE GRENIER AS L’UNION FOOTBALL
DESCRIPTION:TARIF : 15 € LES 3 METRES LINEAIRES SOUS ABRIS ET 12 € LES 3 METRES LINEAIRES EN EXTERIEUR\nRENSEIGNEMENTS ET INSCRIPTIONS :\n07.67.48.80.73/06.67.64.44.72 ou asu-football.fr \nBuvette et restauration sur place \n 
URL:https://www.ville-lunion.fr/evenement/vide-grenier-as-lunion-football/
LOCATION:Halle St Caprais\, Route de Bayonne\, L'Union\, 31240
CATEGORIES:Associations
ATTACH;FMTTYPE=image/jpeg:https://www.ville-lunion.fr/wp-content/uploads/2018/03/vgfoot.jpg
END:VEVENT
BEGIN:VEVENT
DTSTART;TZID=Europe/Paris:20180618T203000
DTEND;TZID=Europe/Paris:20180618T203000
DTSTAMP:20260423T175503
CREATED:20180601T090406Z
LAST-MODIFIED:20180601T090406Z
UID:35964-1529353800-1529353800@www.ville-lunion.fr
SUMMARY:Ciné-débat sur l’accompagnement et la fin de vie - Hôtel Salvation
DESCRIPTION:Soirée spéciale au Lumière \nEn Inde \, Daya\, un vieil homme\, sent que son heure est venue et souhaite se rendre avec son fils\, au bord du Gange à Bénarès\, dans l’espoir d’y mourir et atteindre le salut. Sur place\, les deux hommes louent une chambre à l’Hôtel Salvation\, un endroit réservé aux personnes en fin de vie. Mais le temps passe et Daya ne montre pas de signe de fatigue. Or le directeur de l’établissement a été formel : au bout de quinze jours\, ils devront laisser la place aux nouveaux arrivants. Cette attente inopinée est enfin l’occasion pour le père et son fils de se connaître et de se comprendre \n« Hotel Salvation n’est pas une question de mort\, mais de vie et de relations qui font de nous ce que nous sommes. » S. Bhutiani – Réalisateur du film \nUn débat sur l’accompagnement et la fin de vie suivra la projection. \nIl sera animé par le Docteur Fréderique Ledourion\, la Psychologue Laurence Peres et l’infirmière en soins palliatifs Brigitte Sanou.
URL:https://www.ville-lunion.fr/evenement/cine-debat-sur-laccompagnement-et-la-fin-de-vie-hotel-salvation/
LOCATION:Le Lumière\, 6 Rue du Pic du Midi\, L'Union\, 31240\, France
CATEGORIES:Cinéma
ATTACH;FMTTYPE=image/jpeg:https://www.ville-lunion.fr/wp-content/uploads/2018/06/hotel-salvation.jpg
END:VEVENT
BEGIN:VEVENT
DTSTART;TZID=Europe/Paris:20180621T190000
DTEND;TZID=Europe/Paris:20180621T190000
DTSTAMP:20260423T175503
CREATED:20180115T155818Z
LAST-MODIFIED:20180618T130953Z
UID:34884-1529607600-1529607600@www.ville-lunion.fr
SUMMARY:Fête de la Musique
DESCRIPTION:A partir de 18h30 nombreuses animations musicales : rock\, jazz\, variétés\, de la bonne humeur pour fêter l’arrivée de l’été. Scène\nouverte sur place pour les musiciens volontaires. \nBuvette et petite restauration sur place.
URL:https://www.ville-lunion.fr/evenement/fete-de-musique-2/
LOCATION:Place San Biagio\, place San Biagio\, L'UNION\, 31240\, France
CATEGORIES:Associations,Manifestations
ATTACH;FMTTYPE=image/jpeg:https://www.ville-lunion.fr/wp-content/uploads/2017/09/fete-parc-musique.jpg
END:VEVENT
BEGIN:VEVENT
DTSTART;TZID=Europe/Paris:20180623T143000
DTEND;TZID=Europe/Paris:20180623T143000
DTSTAMP:20260423T175503
CREATED:20180604T142206Z
LAST-MODIFIED:20180604T142206Z
UID:36037-1529764200-1529764200@www.ville-lunion.fr
SUMMARY:J'y joue - grand jeu nature
DESCRIPTION:Le groupe Scouts et Guides de France de L’Union organise un grand jeu nature sous la forme d’Olympiades dans le parc de Malpagat pour tous les jeunes garçons et filles de 7 à 14 ans au profit du Secours Populaire Français. Cette activité est proposée au prix de 3 euros et permettra de découvrir le scoutisme et de partager un bon moment tous ensemble. \nLes sommes récoltées seront intégralement reversées à l’antenne de L’Union de l’association du Secours Populaire Français. Venez nombreux !\nContact : scout.union@gmail.com ou 06 14 61 87 99
URL:https://www.ville-lunion.fr/evenement/jy-joue-grand-jeu-nature/
LOCATION:Parc de Malpagat\, L'UNION\, 31240
CATEGORIES:Associations
ATTACH;FMTTYPE=image/jpeg:https://www.ville-lunion.fr/wp-content/uploads/2018/06/jy-joue.jpg
END:VEVENT
BEGIN:VEVENT
DTSTART;TZID=Europe/Paris:20180623T160000
DTEND;TZID=Europe/Paris:20180623T160000
DTSTAMP:20260423T175503
CREATED:20180620T070611Z
LAST-MODIFIED:20180620T070611Z
UID:36308-1529769600-1529769600@www.ville-lunion.fr
SUMMARY:Concert de l'école de Musique
DESCRIPTION:La classe de Chant Musique actuelle chante LA LA LAND \nAvec le Big Bang et l’orchestre école \nEntrée gratuite
URL:https://www.ville-lunion.fr/evenement/concert-de-lecole-de-musique-2/
LOCATION:Grande Halle de l’Union\, Rue du Somport\, L'Union\, 31240\, France
CATEGORIES:Associations
ATTACH;FMTTYPE=image/jpeg:https://www.ville-lunion.fr/wp-content/uploads/2018/06/ecole-de-musique.jpg
END:VEVENT
BEGIN:VEVENT
DTSTART;TZID=Europe/Paris:20180623T170000
DTEND;TZID=Europe/Paris:20180623T170000
DTSTAMP:20260423T175503
CREATED:20180604T131712Z
LAST-MODIFIED:20180604T131712Z
UID:36020-1529773200-1529773200@www.ville-lunion.fr
SUMMARY:inauguration première installation photovoltaïque de L’Union
DESCRIPTION:Après près de deux ans de travail en partenariat avec la commune de L’Union\, la coopérative toulousaine Citoy’enR a installé ses premiers panneaux solaires sur la toiture du gymnase Georges Beyney.\nCes panneaux ont été financés par la coopérative grâce aux parts sociales souscrites par des citoyens résidant principalement sur l’aire urbaine toulousaine\, mais aussi des collectivités\, dont la ville de L’Union\, et des acteurs locaux.\nCe premier projet sera inauguré le samedi 23 juin à partir de 17 h dans un cadre convivial (11 rue du Puy de Sancy). De nombreuses animations (visites de l’installation\, jeux\, spectacles\, buvette) sont prévues pour fêter l’événement.\nPour plus d’informations sur les activités de Citoy’enR et sur l’événement\, rendez-vous sur le site www.citoyenr.org.
URL:https://www.ville-lunion.fr/evenement/inauguration-premiere-installation-photovoltaique-de-lunion/
LOCATION:maison des sports\, rue du Puy de Sancy\, L'Union\, 31240
CATEGORIES:Mairie
ATTACH;FMTTYPE=image/png:https://www.ville-lunion.fr/wp-content/uploads/2016/12/CitoyenR_logo_HD.png
END:VEVENT
BEGIN:VEVENT
DTSTART;TZID=Europe/Paris:20180623T193000
DTEND;TZID=Europe/Paris:20180623T193000
DTSTAMP:20260423T175503
CREATED:20180522T152420Z
LAST-MODIFIED:20180522T152955Z
UID:35888-1529782200-1529782200@www.ville-lunion.fr
SUMMARY:Gala de l'Ecole de danse tahitienne
DESCRIPTION:L’école de danse tahitienne « Ori Heitiare Tahiti » organise son gala de fin d’année au Gymnase N°2 de la Maison des Sports – Rue du Puy Sancy \nBuvette et barbecue sur place. \nEntrée gratuite pour les – de 12 ans. \nINFORMATIONS :\n•06 25 63 76 76\n•06 25 61 80 92 \n Téléchargez la brochure\n 
URL:https://www.ville-lunion.fr/evenement/gala-de-lecole-de-danse-tahitienne-2/
LOCATION:maison des sports\, rue du Puy de Sancy\, L'Union\, 31240
CATEGORIES:Associations
ATTACH;FMTTYPE=image/jpeg:https://www.ville-lunion.fr/wp-content/uploads/2018/05/tahiti-23-06.jpg
END:VEVENT
BEGIN:VEVENT
DTSTART;TZID=Europe/Paris:20180625T203000
DTEND;TZID=Europe/Paris:20180625T203000
DTSTAMP:20260423T175503
CREATED:20180604T134813Z
LAST-MODIFIED:20180604T134813Z
UID:36031-1529958600-1529958600@www.ville-lunion.fr
SUMMARY:Ciné-débat « OCÉANS\, LE MYSTÈRE PLASTIQUE »
DESCRIPTION:En partenariat avec l’association FReDD (Film Recherche et Développement Durable\, association scientifique centrée sur les problématiques de développement durable.\nwww.festival-fredd.fr).\nFilm lauréat du Festival de cinéma environnemental FReDD de 2017.\nSeulement 1% des énormes quantités de plastique déversé dans la mer flotterait à sa surface. Où est passé le reste ?\nDes scientifiques se lancent à sa recherche et se focalisent sur les micro-plastiques. De petite taille\, pour la plupart invisibles\, toxiques\, ils abritent un nouvel éco-système : la\nplastisphère. Leurs effets sont méconnus mais menacent environnement et santé. Mais où sont-ils ? Ingérés par des organismes ? Au fond des océans ? Dégradés par des\nbactéries ? … \n 
URL:https://www.ville-lunion.fr/evenement/cine-debat-oceans-le-mystere-plastique/
LOCATION:Le Lumière\, 6 Rue du Pic du Midi\, L'Union\, 31240\, France
CATEGORIES:Cinéma
ATTACH;FMTTYPE=image/jpeg:https://www.ville-lunion.fr/wp-content/uploads/2018/06/mystere-plastiquemodifi.jpg
END:VEVENT
BEGIN:VEVENT
DTSTART;TZID=Europe/Paris:20180627T183000
DTEND;TZID=Europe/Paris:20180627T183000
DTSTAMP:20260423T175503
CREATED:20180604T100933Z
LAST-MODIFIED:20180604T100933Z
UID:36011-1530124200-1530124200@www.ville-lunion.fr
SUMMARY:Repas gourmand au marché bio
DESCRIPTION:AU MARCHÉ BIO DE L’UNION \nDans une ambiance conviviale\, les producteurs et les commerçants du Centre Commercial des Acacias vous proposeront un assortiment de produits gourmands issus de\nleur travail.\nAchetez et dégustez sur place !\nLa commune met à votre disposition tables et chaises. N’oubliez pas d’apporter assiettes\, verres et couverts.
URL:https://www.ville-lunion.fr/evenement/repas-gourmand-au-marche-bio/
LOCATION:Centre Commercial des Acacias\, Avenue des Acacias\, L'Union\, 31240
CATEGORIES:Manifestations
ATTACH;FMTTYPE=image/jpeg:https://www.ville-lunion.fr/wp-content/uploads/2016/12/marche-bio.jpg
END:VEVENT
BEGIN:VEVENT
DTSTART;VALUE=DATE:20180628
DTEND;VALUE=DATE:20180702
DTSTAMP:20260423T175503
CREATED:20170906T120731Z
LAST-MODIFIED:20180606T100453Z
UID:33889-1530144000-1530489599@www.ville-lunion.fr
SUMMARY:LE MARATHON DES MOTS
DESCRIPTION:14ème édition du « Marathon des mots » – Manifestation Métropolitaine du 28 juin au 1er juillet 2018 \nLes villes de Launaguet et Saint Jean ainsi que la librairie les Passantes de L’Union sont également associées à cet événement en proposant des lectures. \nJeudi 28 juin à 18h – Librairie Les Passantes – L’Union \nMarathon des idées – Masculin / Féminin  \nRencontre avec Léonor de Récondo autour de son dernier roman Point cardinal (éditions Sabine Wespieser). \nJeudi 28 juin – Launaguet  20h30 – Hôtel de ville \nLecture de Je vais bien ne t’en fais pas d’Olivier Adam \nLe premier roman d’Olivier Adam publié en 1999 et adapté au cinéma par Philippe Lioret en 2006\, traite des thèmes qui lui deviendront vite chers : la disparition et la filiation. \nLa lecture sera sonorisée en extérieur : venez avec votre coussin écouter dans l’herbe du parc de l’hôtel de ville. \nVendredi 29 juin 18h30 – St Jean  Médiathèque Les Granges  \nClément Carabédian lit Brasil (Le Passage) de Jean-Paul Delfino. \nUne fresque historique menée avec maestria et érudition \, suivie d’une rencontre avec l’auteur et du concert de Samba Résille à 21H00. \nSamedi 30 juin – Château Malpagat\, L’Union 15h – Rencontre avec Jean-Baptiste Andrea \nChaque année\, le Marathon des mots\, festival international de littérature de Toulouse Métropole\, met à l’honneur des écrivains et artistes du monde entier pour des lectures\, rencontres et concerts littéraires. Aux côtés des grandes figures de la littérature et de la scène\, venues du monde entier\, le Marathon des mots a toujours le souci de faire entendre la voix des nouveaux écrivains francophones. Nul doute que certains d’entre eux seront les grands écrivains de demain. \nL’Union est associée pour la 4ème année consécutive à cet événement métropolitain et reçoit cette année Jean-Baptiste Andrea pour une rencontre autour de son premier roman  Ma reine  publié aux Editions L’Iconoclaste. \nJean-Baptiste Andrea est né en 1971. Il est réalisateur et scénariste. Ma reine a reçu le Prix de La Poste 2017. Ode à l’imaginaire\, à l’enfance\, à la singularité\, l’auteur campe dans ce décor jalonné de vallées oubliées et de plateaux infinis\, des personnages cabossés\,anormaux ; ou plutôt des êtres tout à fait normaux\, mais dans un monde où les valeurs sont inversées\, et où rêve et réalité se confondent sans cesse. \nUn conte initiatique où tout est vrai\, tout est rêve\, tout est roman. \nDu 14 au 30 juin – L’Union \nExposition de l’association des arts plastiques AAPU toutes techniques à la bibliothèque\, en liaison avec le Marathon des mots\, sur les thèmes\, « Pays lusophones et Masculin\, Féminin ». \nProgramme complet \n 
URL:https://www.ville-lunion.fr/evenement/le-marathon-des-mots-2/
CATEGORIES:Associations,Mairie,Manifestations
ATTACH;FMTTYPE=image/jpeg:https://www.ville-lunion.fr/wp-content/uploads/2017/09/marathon-2018.jpg
END:VEVENT
END:VCALENDAR