BEGIN:VCALENDAR
VERSION:2.0
PRODID:-//Ville de L&#039;Union - ECPv6.15.13//NONSGML v1.0//EN
CALSCALE:GREGORIAN
METHOD:PUBLISH
X-WR-CALNAME:Ville de L&#039;Union
X-ORIGINAL-URL:https://www.ville-lunion.fr
X-WR-CALDESC:Évènements pour Ville de L&#039;Union
REFRESH-INTERVAL;VALUE=DURATION:PT1H
X-Robots-Tag:noindex
X-PUBLISHED-TTL:PT1H
BEGIN:VTIMEZONE
TZID:Europe/Paris
BEGIN:DAYLIGHT
TZOFFSETFROM:+0100
TZOFFSETTO:+0200
TZNAME:CEST
DTSTART:20170326T010000
END:DAYLIGHT
BEGIN:STANDARD
TZOFFSETFROM:+0200
TZOFFSETTO:+0100
TZNAME:CET
DTSTART:20171029T010000
END:STANDARD
BEGIN:DAYLIGHT
TZOFFSETFROM:+0100
TZOFFSETTO:+0200
TZNAME:CEST
DTSTART:20180325T010000
END:DAYLIGHT
BEGIN:STANDARD
TZOFFSETFROM:+0200
TZOFFSETTO:+0100
TZNAME:CET
DTSTART:20181028T010000
END:STANDARD
BEGIN:DAYLIGHT
TZOFFSETFROM:+0100
TZOFFSETTO:+0200
TZNAME:CEST
DTSTART:20190331T010000
END:DAYLIGHT
BEGIN:STANDARD
TZOFFSETFROM:+0200
TZOFFSETTO:+0100
TZNAME:CET
DTSTART:20191027T010000
END:STANDARD
END:VTIMEZONE
BEGIN:VEVENT
DTSTART;VALUE=DATE:20180502
DTEND;VALUE=DATE:20180519
DTSTAMP:20260423T192017
CREATED:20180426T123148Z
LAST-MODIFIED:20180503T100721Z
UID:35790-1525219200-1526687999@www.ville-lunion.fr
SUMMARY:Exposition "Arbres Remarquables de Haute-Garonne"
DESCRIPTION:Regarder\, préserver et protéger les arbres Remarquables… cette exposition donne au public l’occasion de poser un nouveau regard sur l’Arbre Patrimoine\, le temps qui passe et la nécessité de laisser aux générations futures les arbres remarquables de demain. \n350 arbres ont été recensés\, 100 ont été retenus.Les 14 plus remarquables font chacun l’objet d’un panneau présentant leur histoire\, leur particularité\, leur capacité d’accueil pour la biodiversité… et leur critère de remarquabilité : \n\nAge exceptionnel\nForme et architecture remarquable\nDimensions exceptionnelles\nParticularité botanique\nIntérêt historique\n\n4 autres panneaux présentent des arbres regroupés par thématiques : \n\nLes alignements remarquables\nLes arbres repères\nLes arbres rares\nLes arbres de village\n\nEnfin un panneau d’accueil replace les arbres sur la carte de la Haute-Garonne et un panneau fait un focus sur les éléments d’accueil de la biodiversité.
URL:https://www.ville-lunion.fr/evenement/exposition-arbres-remarquables-de-haute-garonne/
LOCATION:Bibliothèque de L’Union\, 6 Avenue de Toulouse\, 31240
CATEGORIES:Associations
ATTACH;FMTTYPE=image/png:https://www.ville-lunion.fr/wp-content/uploads/2018/04/ARREM_affiche_l_union_020518-page001.png
END:VEVENT
BEGIN:VEVENT
DTSTART;TZID=Europe/Paris:20180504T210000
DTEND;TZID=Europe/Paris:20180504T210000
DTSTAMP:20260423T192017
CREATED:20170906T123252Z
LAST-MODIFIED:20180410T095519Z
UID:33893-1525467600-1525467600@www.ville-lunion.fr
SUMMARY:RAVI PRASAD INDIAN SONG
DESCRIPTION:De l’Orient à l’Occident\, entre Gange et Garonne \, Ravi Prasad partage son parcours personnel. Il s’inspire des paysages le long de son chemin pour créer des tableaux sonores inattendus\, où gospels\, chants grégoriens ou médiévaux s’associent avec bonheur au chant carnatique de l’Inde. Comme au fil de l’eau \, on glisse imperceptiblement d’un paysage musical à un autre goûtant la résonance du son à travers la diversité et les rencontres imprévues. \n 
URL:https://www.ville-lunion.fr/evenement/ravi-prasad-indian-song/
LOCATION:Eglise de L’Union\, 67 Avenue de Toulouse\, L'UNION\, 31240
CATEGORIES:Associations,Manifestations
ATTACH;FMTTYPE=image/jpeg:https://www.ville-lunion.fr/wp-content/uploads/2017/09/RAVI.jpg
ORGANIZER;CN="RAVI PRASAD INDIAN SONG":MAILTO:contact@espaceraviprasad.com
END:VEVENT
BEGIN:VEVENT
DTSTART;VALUE=DATE:20180505
DTEND;VALUE=DATE:20180514
DTSTAMP:20260423T192017
CREATED:20180419T081709Z
LAST-MODIFIED:20180419T081812Z
UID:35719-1525478400-1526255999@www.ville-lunion.fr
SUMMARY:Salon des arts plastiques
DESCRIPTION:L’Association des Arts Plastiques de L’Union ouvre les portes du 36ème salon des Arts. \nArtistes amateurs et confirmés\, invités d’honneur\, présentent : peintures sculptures\, objets verre \nAvec la participation des associations : Union Image\, MJC\, Passiflore\, école de musique\, Les écoles de Bordes d’olivier et de Belbèze. \nVernissage musical\, samedi 5 mai à 18h30\, suivi d’un cocktail \nEntrée Libre \n 
URL:https://www.ville-lunion.fr/evenement/salon-des-arts-plastiques/
LOCATION:Grande Halle de l’Union\, Rue du Somport\, L'Union\, 31240\, France
CATEGORIES:Associations
ATTACH;FMTTYPE=image/jpeg:https://www.ville-lunion.fr/wp-content/uploads/2018/04/aapu-mai-2018.jpg
END:VEVENT
BEGIN:VEVENT
DTSTART;TZID=Europe/Paris:20180508T160000
DTEND;TZID=Europe/Paris:20180508T160000
DTSTAMP:20260423T192017
CREATED:20180206T170823Z
LAST-MODIFIED:20180206T171105Z
UID:35198-1525795200-1525795200@www.ville-lunion.fr
SUMMARY:Commémoration du 8 mai 1945
DESCRIPTION:
URL:https://www.ville-lunion.fr/evenement/commemoration-8-mai-1945/
LOCATION:Parvis du collège\, 9 bis avenue des Pyrénées\, l'union\, 31240
CATEGORIES:Mairie
ATTACH;FMTTYPE=image/jpeg:https://www.ville-lunion.fr/wp-content/uploads/2017/02/commemoration-e1650990052556.jpg
END:VEVENT
BEGIN:VEVENT
DTSTART;TZID=Europe/Paris:20180509T200000
DTEND;TZID=Europe/Paris:20180509T200000
DTSTAMP:20260423T192017
CREATED:20180504T121324Z
LAST-MODIFIED:20180504T121324Z
UID:35853-1525896000-1525896000@www.ville-lunion.fr
SUMMARY:Concert saxophones et percussions - école de Musique
DESCRIPTION:
URL:https://www.ville-lunion.fr/evenement/concert-saxophones-et-percussions-ecole-de-musique/
LOCATION:Salle des fêtes de L’Union\, 6 Avenue des Pyrénées\, L'Union\, 31240\, France
CATEGORIES:Associations
ATTACH;FMTTYPE=image/jpeg:https://www.ville-lunion.fr/wp-content/uploads/2018/05/9-MAI.jpg
END:VEVENT
BEGIN:VEVENT
DTSTART;TZID=Europe/Paris:20180511T210000
DTEND;TZID=Europe/Paris:20180511T210000
DTSTAMP:20260423T192017
CREATED:20180502T074850Z
LAST-MODIFIED:20180502T074850Z
UID:35806-1526072400-1526072400@www.ville-lunion.fr
SUMMARY:Soirée hommage Jeanne Moreau au Lumière
DESCRIPTION:Pour la semaine du FESTIVAL DE CANNES\, le Cinéma LE LUMIERE de L’Union rendra un Hommage à Mme Jeanne MOREAU les vendredi 11 mai à 21h et mardi 15 Mai à 18h \nLe film ASCENSEUR POUR L’ECHAFAUD de Louis MALLE\, en version remastérisé  sera projeté. \nA la suite de la soirée du vendredi 11 mai\, les bénévoles du Lumière vous serviront un cocktail. \nOuverture des portes une heure avant le film. \n 
URL:https://www.ville-lunion.fr/evenement/soiree-hommage-jeanne-moreau-au-lumiere/
LOCATION:Le Lumière\, 6 Rue du Pic du Midi\, L'Union\, 31240\, France
CATEGORIES:Associations
ATTACH;FMTTYPE=image/jpeg:https://www.ville-lunion.fr/wp-content/uploads/2018/05/jeanne-moreau.jpg
END:VEVENT
BEGIN:VEVENT
DTSTART;TZID=Europe/Paris:20180514T203000
DTEND;TZID=Europe/Paris:20180514T203000
DTSTAMP:20260423T192017
CREATED:20171226T175450Z
LAST-MODIFIED:20171226T175605Z
UID:34656-1526329800-1526329800@www.ville-lunion.fr
SUMMARY:RIGOLETTO de Verdi
DESCRIPTION:Retransmission d’Opéra \nDans votre cinéma Le Lumière\, vivez les plus grand spectacles classiques ! \n15 € tarif plein et de 12 € pour les – de 16 ans (Un service de prévente des places sera proposé)
URL:https://www.ville-lunion.fr/evenement/rigoletto-de-verdi/
LOCATION:Le Lumière\, 6 Rue du Pic du Midi\, L'Union\, 31240\, France
CATEGORIES:Cinéma
ATTACH;FMTTYPE=image/jpeg:https://www.ville-lunion.fr/wp-content/uploads/2017/12/rigoletto.jpg
END:VEVENT
BEGIN:VEVENT
DTSTART;VALUE=DATE:20180515
DTEND;VALUE=DATE:20180518
DTSTAMP:20260423T192017
CREATED:20180419T083618Z
LAST-MODIFIED:20180509T101507Z
UID:35722-1526342400-1526601599@www.ville-lunion.fr
SUMMARY:forum de la sécurité routière
DESCRIPTION:à la Grande Halle \nDans le cadre de la sécurité routière\, il est de notre devoir de sensibiliser toujours plus les usagers de la route. \nIl est mis en évidence que l’intérêt aujourd’hui est de former\, dès le plus jeune âge\, les enfants pour qu’ils soient de futurs piétons et conducteurs plus sûrs. La sécurité routière concernant tous les usagers de la route\, le forum aura pour but également de sensibiliser le plus grand nombre de personnes aux dangers liés à la route. \nC’est pour cela que la Mairie de L’UNION\, en partenariat avec le rectorat de la HAUTE GARONNE\, la sécurité routière et une trentaine d’exposants se mobilisent sur trois jours afin de proposer de nombreuses activités pédagogiques liées aux risques de la route pour les écoles primaires\, collégiens. Le forum sera également ouvert à toute personne désirant y participer. \nDestiné aux scolaires – ouvert au public mercredi 16 mai après-midi. \nEntrée libre \nEntrée libre
URL:https://www.ville-lunion.fr/evenement/forum-de-la-securite-routiere/
LOCATION:Grande Halle de l’Union\, Rue du Somport\, L'Union\, 31240\, France
CATEGORIES:Mairie
ATTACH;FMTTYPE=image/jpeg:https://www.ville-lunion.fr/wp-content/uploads/2018/04/sécu-routiere.jpg
END:VEVENT
BEGIN:VEVENT
DTSTART;TZID=Europe/Paris:20180515T180000
DTEND;TZID=Europe/Paris:20180515T180000
DTSTAMP:20260423T192017
CREATED:20180502T075002Z
LAST-MODIFIED:20180502T075002Z
UID:35809-1526407200-1526407200@www.ville-lunion.fr
SUMMARY:Soirée hommage à Jeanne Moreau
DESCRIPTION:Pour la semaine du FESTIVAL DE CANNES\, le Cinéma LE LUMIERE de L’Union rendra un Hommage à Mme Jeanne MOREAU les vendredi 11 mai à 21h et mardi 15 Mai à 18h \nLe film ASCENSEUR POUR L’ECHAFAUD de Louis MALLE\, en version remastérisé  sera projeté. \nA la suite de la soirée du vendredi 11 mai\, les bénévoles du Lumière vous serviront un cocktail. \nOuverture des portes une heure avant le film. \n 
URL:https://www.ville-lunion.fr/evenement/soiree-hommage-a-jeanne-moreau/
LOCATION:Le Lumière\, 6 Rue du Pic du Midi\, L'Union\, 31240\, France
CATEGORIES:Associations
ATTACH;FMTTYPE=image/jpeg:https://www.ville-lunion.fr/wp-content/uploads/2018/05/jeanne-moreau.jpg
END:VEVENT
BEGIN:VEVENT
DTSTART;TZID=Europe/Paris:20180517T100000
DTEND;TZID=Europe/Paris:20180517T120000
DTSTAMP:20260423T192017
CREATED:20180419T092239Z
LAST-MODIFIED:20180419T092330Z
UID:35725-1526551200-1526558400@www.ville-lunion.fr
SUMMARY:conférence histoire de l’Art « BILBAO »
DESCRIPTION:par l’AAPU. \nà l’auditorium \nouvert à tous. 8 euros pour les non-inscrits à l’histoire de l’Art.
URL:https://www.ville-lunion.fr/evenement/conference-histoire-de-lart-bilbao/
LOCATION:Salle des fêtes de L’Union\, 6 Avenue des Pyrénées\, L'Union\, 31240\, France
CATEGORIES:Associations
ATTACH;FMTTYPE=image/jpeg:https://www.ville-lunion.fr/wp-content/uploads/2018/04/bilbao.jpg
END:VEVENT
BEGIN:VEVENT
DTSTART;VALUE=DATE:20180519
DTEND;VALUE=DATE:20180520
DTSTAMP:20260423T192017
CREATED:20180419T092943Z
LAST-MODIFIED:20180502T090257Z
UID:35729-1526688000-1526774399@www.ville-lunion.fr
SUMMARY:Journée caritative de l’école de danse tahitienne
DESCRIPTION:12H00 : Ouverture de la journée et accueil du public\n12H30 : Repas «Maohibarbecue» accompagné d’une animation musicale\n13H30 : Conférence «débat» sur l’enfant d’adoption\n15H : Initiation Ukulele\, Toereet TamureMarathon\n16H : Accueil des élus de la Mairie de L’UNION\n16H : Activités diverses pour les enfants ( confections\, peintures «Pareo»…)\n16H30 : Présentation du projet «Festival des îles Polynésiennes» à la salle Laroussinie\n18H : Apéro «Punch» et film documentaire sur l’enfant adopté polynésien\n18H30 : Spectacle de danse par la troupe OriHeitiareTahiti\n19H30 : Repas polynésiens\n20H30 : Bal dansant animé par la Team JM jusqu’à minuit \nInscription repas au 06 75 76 82 42 ou 06 70 83 26 28 \n| Téléchargez le programme complet. \n 
URL:https://www.ville-lunion.fr/evenement/soiree-caritative-de-lecole-de-danse-tahitienne/
LOCATION:Halle St Caprais\, Route de Bayonne\, L'Union\, 31240
CATEGORIES:Associations
ATTACH;FMTTYPE=image/jpeg:https://www.ville-lunion.fr/wp-content/uploads/2018/04/tahiti-fa-a-mu.jpg
END:VEVENT
BEGIN:VEVENT
DTSTART;TZID=Europe/Paris:20180519T160000
DTEND;TZID=Europe/Paris:20180519T160000
DTSTAMP:20260423T192017
CREATED:20180419T093438Z
LAST-MODIFIED:20180419T093438Z
UID:35732-1526745600-1526745600@www.ville-lunion.fr
SUMMARY:Audition de trombones et Eveil musical école de musique
DESCRIPTION:
URL:https://www.ville-lunion.fr/evenement/audition-de-trombones-et-eveil-musical-ecole-de-musique/
LOCATION:Salle des fêtes de L’Union\, 6 Avenue des Pyrénées\, L'Union\, 31240\, France
CATEGORIES:Associations
ATTACH;FMTTYPE=image/jpeg:https://www.ville-lunion.fr/wp-content/uploads/2018/04/ecole-musique1.jpg
END:VEVENT
BEGIN:VEVENT
DTSTART;TZID=Europe/Paris:20180522T200000
DTEND;TZID=Europe/Paris:20180522T200000
DTSTAMP:20260423T192017
CREATED:20180419T093644Z
LAST-MODIFIED:20180419T093644Z
UID:35735-1527019200-1527019200@www.ville-lunion.fr
SUMMARY:Audition Guitare école de musique
DESCRIPTION:
URL:https://www.ville-lunion.fr/evenement/audition-guitare-ecole-de-musique/
LOCATION:Salle des fêtes de L’Union\, 6 Avenue des Pyrénées\, L'Union\, 31240\, France
CATEGORIES:Associations
ATTACH;FMTTYPE=image/jpeg:https://www.ville-lunion.fr/wp-content/uploads/2017/10/ecole-musique.jpg
END:VEVENT
BEGIN:VEVENT
DTSTART;TZID=Europe/Paris:20180523T200000
DTEND;TZID=Europe/Paris:20180523T200000
DTSTAMP:20260423T192017
CREATED:20180404T093111Z
LAST-MODIFIED:20180406T075503Z
UID:35591-1527105600-1527105600@www.ville-lunion.fr
SUMMARY:Conseil de quartier\, côté droit de la ville
DESCRIPTION:Côté droit de la ville (Côte Vermeille\, rues des Pyrénées\, Massif Central\, Côte d’Azur..). \nEntrée libre
URL:https://www.ville-lunion.fr/evenement/conseil-de-quartier-cote-droit-de-la-ville/
LOCATION:Salle des fêtes de L’Union\, 6 Avenue des Pyrénées\, L'Union\, 31240\, France
CATEGORIES:Mairie
ATTACH;FMTTYPE=image/jpeg:https://www.ville-lunion.fr/wp-content/uploads/2018/04/CONSEIL-QUARTIER.jpg
END:VEVENT
BEGIN:VEVENT
DTSTART;TZID=Europe/Paris:20180525T170000
DTEND;TZID=Europe/Paris:20180525T170000
DTSTAMP:20260423T192017
CREATED:20180523T095535Z
LAST-MODIFIED:20180523T095600Z
UID:35909-1527267600-1527267600@www.ville-lunion.fr
SUMMARY:Portes-ouvertes de l'association Arbres et Paysages d'Autan
DESCRIPTION:Visite guidée de l’exposition  « Arbres remarquables de Haute-Garonne »
URL:https://www.ville-lunion.fr/evenement/portes-ouvertes-de-lassociation-arbres-et-paysages-dautan/
LOCATION:salle Laroussinie\, route de Bayonne\, L'UNION\, 31240
CATEGORIES:Associations
END:VEVENT
BEGIN:VEVENT
DTSTART;TZID=Europe/Paris:20180526T113000
DTEND;TZID=Europe/Paris:20180526T113000
DTSTAMP:20260423T192017
CREATED:20180419T094001Z
LAST-MODIFIED:20180419T094001Z
UID:35737-1527334200-1527334200@www.ville-lunion.fr
SUMMARY:cérémonie des jeunes électeurs
DESCRIPTION:
URL:https://www.ville-lunion.fr/evenement/ceremonie-des-jeunes-electeurs/
LOCATION:salle des Mariages\, en Mairie 6 6BIS Av. des Pyrénées\, L'UNION CEDEX\, 31240\, France
CATEGORIES:Mairie
ATTACH;FMTTYPE=image/jpeg:https://www.ville-lunion.fr/wp-content/uploads/2018/04/Carte-electorale.jpg
END:VEVENT
BEGIN:VEVENT
DTSTART;TZID=Europe/Paris:20180526T150000
DTEND;TZID=Europe/Paris:20180526T180000
DTSTAMP:20260423T192017
CREATED:20180419T094349Z
LAST-MODIFIED:20180419T094349Z
UID:35740-1527346800-1527357600@www.ville-lunion.fr
SUMMARY:Festival Animakid
DESCRIPTION:Le Conseil Municipal de la Jeunesse organise sa deuxième édition du festival du court métrage d’animation et récompensera cette année le meilleur scénario dans cette catégorie. \nLes élus du CMJ auront le plaisir d’accueillir les jeunes Unionais de 6 à 11 ans au cinéma Le Lumière pour une projection de plusieurs courts métrages. \nDifférentes catégories de films seront présentées tout au long de l’après-midi et soumis au verdict du public qui décernera un olivier d’or au meilleur scénario de chaque catégorie. \nLes membres du jury\, élus du CMJ remettront le prix ‘coup de cœur’ au meilleur scénario toutes catégories confondues. \nUne diffusion surprise d’un épisode de série à découvrir sur grand écran clôturera le festival. \nGuillaume Mautalent\, scénariste sur les mystérieuses cités d’or 2\, galactic football\, les grandes grandes vacances sera présent tout au long de cet après-midi et répondra à toutes les questions des enfants à la suite des projections. \n  \nentrée gratuite \n1 adulte accompagnateur max par famille ou groupe d’enfants
URL:https://www.ville-lunion.fr/evenement/festival-animakid/
LOCATION:Le Lumière\, 6 Rue du Pic du Midi\, L'Union\, 31240\, France
CATEGORIES:Mairie
ATTACH;FMTTYPE=image/jpeg:https://www.ville-lunion.fr/wp-content/uploads/2018/04/animakid.jpg
END:VEVENT
BEGIN:VEVENT
DTSTART;TZID=Europe/Paris:20180526T203000
DTEND;TZID=Europe/Paris:20180526T203000
DTSTAMP:20260423T192017
CREATED:20170906T094554Z
LAST-MODIFIED:20180523T090119Z
UID:33874-1527366600-1527366600@www.ville-lunion.fr
SUMMARY:L’UNION REÇOIT PIANO AUX JACOBINS
DESCRIPTION:Piano aux Jacobins est à l’initiative du programme l’Europe du piano.\nCe programme présente de jeunes talents du piano européen et lauréats de nombreux concours.\nDans le cadre d’un partenariat artistique\, L’Union accueille ce récital pour la quatrième saison consécutive\, afin de permettre au public de la Grande Halle de découvrir cette jeune génération prometteuse et enthousiaste.\nAuréolée de son succès\, l’Europe du piano est désormais un rendez vous incontournable à L’Union. \nEloïse Bella Kohn est invitée depuis plusieurs années à se produire dans de prestigieux festivals et salles en France\, tels que la Salle Gaveau\, l’Auditorium du Musée d’Orsay\, le Festival de la Roque d’Anthéron\, Radio-France à Montpellier\, Pablo Casals à Prades\, le Festival de Salon\, le Lille Piano Festival\, les Flâneries Musicales de Reims\, les Chorégies d’Orange ou encore le Festival d’Art lyrique d’Aix-en-Provence. La jeune pianiste française est Jeune Talent du magazine musical Diapason de l’été 2016. \n \n© Balazs Borocz _ Pilvax Studio \nComme soliste et partenaire de musique de chambre recherchée\, elle se produit à travers l’Europe : au Stavanger Konserthus (Norvège)\, au Festival Classissimo à Bruxelles\, au Palais de l’Athénée de la Société des Arts de Genève\, ainsi que la saison prochaine 2017/18 à la Philharmonie de Berlin et aux côtés de Tamás Pálfalvi dans le cadre de la saison ECHO Rising Star au Konserthuset Stockholm\, au Sage Gateshead (Angleterre) et au Müpa – Palais des Arts de Budapest. Elle collabore avec le chef d’orchestre JeanClaude Casadesus lors d’une tournée avec l’Orchestre Philharmonique du Maroc. \nEn musique de chambre elle se produit régulièrement avec Bruno Delepelaire\, Silvia Careddu\, Sophie Dartigalongue et Félix Dervaux – solistes des Orchestres Philharmoniques de Berlin\, de Vienne et de l’Orchestre royal du Concertgebouw d’Amsterdam – ainsi qu’avec Nobuko Imai\, Michel Portal\, Eric Le Sage et Adam Laloum. \nNée en 1991 à Paris\, Eloïse Bella Kohn étudie au CNSM de Paris auprès de Michel Béroff\, Eric Le Sage\, David Fray et Pierre-Laurent Aimard. Au CNSM elle obtient également les Premiers Prix d’Harmonie et de Fugue dans la classe de Thierry Escaich. Elle poursuit ses études à la Hochschule für Musik de Freiburg en Allemagne\, et à l’Université de Musique de Vienne auprès de Lilya Zilberstein. Elle se perfectionne lors de masterclasses avec de grands pianistes tels Aldo Ciccolini\, Dmitri Bashkirov\, Robert Levin et Christian Zacharias. Nommée en 2014 « Révélation classique de l’ADAMI »\, elle est soutenue en 2015 par la Fondation Safran ainsi qu’en 2016/17 par la Fondation suisse Thyll-Dürr. \n  \nTOUT PUBLIC\ndurée : 1h30\nTarifs :\nnormal : 13 €\ntarif réduit : 7€ (enfants de – 16 ans\, demandeurs d’emplois) \nEn vente en mairie et dans les points de vente habituels \nEn ligne sur festik
URL:https://www.ville-lunion.fr/evenement/lunion-recoit-piano-aux-jacobins/
LOCATION:Grande Halle de l’Union\, Rue du Somport\, L'Union\, 31240\, France
CATEGORIES:Spectacles
ORGANIZER;CN="Mairie service Communication%2C Culture%2C Animation.":MAILTO:cca@mairie-lunion.fr
END:VEVENT
BEGIN:VEVENT
DTSTART;TZID=Europe/Paris:20180527T150000
DTEND;TZID=Europe/Paris:20180527T150000
DTSTAMP:20260423T192017
CREATED:20180206T171432Z
LAST-MODIFIED:20180518T140518Z
UID:35201-1527433200-1527433200@www.ville-lunion.fr
SUMMARY:commémoration de la journée nationale de la Résistance
DESCRIPTION:Le dimanche 27 mai à 15h à l’occasion de la journée nationale de la Résistance\, la mairie de L’Union en partenariat avec le Mémorial François Verdier vous propose une conférence à la Salle des fêtes de L’Union sur le rôle des femmes dans la Résistance à travers une série de portraits. Paulette Curvale\, Virginie Faure\, Elérika Leroy\, Greg Lamazères\, Pierre Lasry\, André Magne\, Pierre Petremann\, Edouard Raymondis présenteront l’engagement de ces femmes.(entrée libre) \nA 18h\, une cérémonie officielle d’hommage se déroulera place San Biagio en présence des autorités civiles et militaires\, des enfants du Conseil Municipal de la Jeunesse\, des\nassociations patriotiques et des familles. \nUn vin d’honneur servi sous l’olivier clôturera cette journée.
URL:https://www.ville-lunion.fr/evenement/commemoration-de-journee-nationale-de-resistance/
LOCATION:Salle des fêtes de L’Union\, 6 Avenue des Pyrénées\, L'Union\, 31240\, France
CATEGORIES:Mairie
ATTACH;FMTTYPE=image/jpeg:https://www.ville-lunion.fr/wp-content/uploads/2018/02/27-mai-2018.jpg
END:VEVENT
BEGIN:VEVENT
DTSTART;TZID=Europe/Paris:20180530T183000
DTEND;TZID=Europe/Paris:20180530T183000
DTSTAMP:20260423T192017
CREATED:20180115T150612Z
LAST-MODIFIED:20180525T141341Z
UID:34874-1527705000-1527705000@www.ville-lunion.fr
SUMMARY:Conseil Municipal
DESCRIPTION:Ordre du Jour \nDésignation d’un secrétaire de séance \n1- Informations du Maire \n2- Adoption du Procès-Verbal 2018-03 du Conseil Municipal du 11 avril 2018 \n3- Urbanisme et travaux\n3.1. Convention de partenariat 2018 avec l’association « Arbres et Paysages d’Autan »\n3.2. Dénomination du rond-point situé route de Bessières menant au chemin de la Violette\n3.3. Syndicat Départemental d’Energie de la Haute-Garonne SDEHG – Rénovation des projecteurs du terrain synthétique au Stade GEORGES BEYNEY – Annule et remplace la délibération N°2017-105 du Conseil Municipal du 8 novembre 2017 \n4- Enfance\, Jeunesse\, vie Scolaire\n4.1. Mise à disposition de deux agents municipaux auprès de la Maison des Jeunes et de la Culture (M.J.C.) pendant les vacances scolaires pour l’accueil des 11-14 ans. \n5- Sport\n5.1. Réhabilitation de la Piscine Municipale : Modification de la délibération 2017-79 portant sur la signature des conventions de cofinancement des travaux avec les communes concernées.\n5.2. Convention tripartite d’utilisation à titre onéreux des installations et équipements sportifs par le Collège ADRIENNE BOLLAND de Bessières \n6- Tirage au sort des jurés d’assises 2019 \n7- Finances\n7.1. Vente de la Maison sise 12\, avenue des Pyrénées\n7.2. Assistance à maîtrise d’ouvrage pour la mise en conformité du Règlement Général sur la Protection des Données – RGPD – Adhésion à un groupement de Commandes entre la Ville de Toulouse\, Toulouse Métropole et d’autres communes.\n7.3. Fixation des modalités de règlement des factures d’électricité à la Société TOTAL ENERGIE GAZ par prélèvement SEPA (Single Euro Payment Aera)\n7.4. Snack de la piscine municipale – Convention d’occupation temporaire du domaine public\n7.5. Taxe Locale sur la Publicité Extérieure – TLPE – 2019\n7.6. Prise en charge des frais occasionnés par le déplacement de Monsieur LAURENT ROUX au congrès de l’Association Nationale des élus en charge du Sport (ANDES)\, les 24 et 25 mai 2018\n7.7. Tarif des stands du Marché de Noël\n7.8. Admissions en non-valeur \n8- Ressources Humaines\n8.1. Création de postes saisonniers\n8.2. Détermination de la composition du Comité Technique en vue des élections du 06 décembre 2018\n8.3. Détermination de la composition du Comité d’Hygiène\, de Sécurité et des Conditions de Travail en vue des élections du 06 décembre 2018 \n9- Toulouse Métropole\n9.1. Toulouse Métropole – Enquête publique sur un projet de méthanisation des boues urbaines issues du traitement des eaux usées de la station de dépollution de Toulouse Ginestous-Garonne \n10- Syndicat du Bassin Hers Girou\n10.1. Adhésion de la Communauté de Communes Castelnaudary Lauragais Audois et de la Communauté de Communes Piège Lauragais Malepère au Syndicat Bassin Hers Girou \n11- Arrêtés du Maire \n12- Questions diverses
URL:https://www.ville-lunion.fr/evenement/conseil-municipal-10/
LOCATION:Salle des fêtes de L’Union\, 6 Avenue des Pyrénées\, L'Union\, 31240\, France
CATEGORIES:Mairie
ATTACH;FMTTYPE=image/jpeg:https://www.ville-lunion.fr/wp-content/uploads/2016/12/mairie-8d61f-1.jpg
END:VEVENT
END:VCALENDAR