BEGIN:VCALENDAR
VERSION:2.0
PRODID:-//Ville de L&#039;Union - ECPv6.15.13//NONSGML v1.0//EN
CALSCALE:GREGORIAN
METHOD:PUBLISH
X-ORIGINAL-URL:https://www.ville-lunion.fr
X-WR-CALDESC:Évènements pour Ville de L&#039;Union
REFRESH-INTERVAL;VALUE=DURATION:PT1H
X-Robots-Tag:noindex
X-PUBLISHED-TTL:PT1H
BEGIN:VTIMEZONE
TZID:Europe/Paris
BEGIN:DAYLIGHT
TZOFFSETFROM:+0100
TZOFFSETTO:+0200
TZNAME:CEST
DTSTART:20170326T010000
END:DAYLIGHT
BEGIN:STANDARD
TZOFFSETFROM:+0200
TZOFFSETTO:+0100
TZNAME:CET
DTSTART:20171029T010000
END:STANDARD
BEGIN:DAYLIGHT
TZOFFSETFROM:+0100
TZOFFSETTO:+0200
TZNAME:CEST
DTSTART:20180325T010000
END:DAYLIGHT
BEGIN:STANDARD
TZOFFSETFROM:+0200
TZOFFSETTO:+0100
TZNAME:CET
DTSTART:20181028T010000
END:STANDARD
BEGIN:DAYLIGHT
TZOFFSETFROM:+0100
TZOFFSETTO:+0200
TZNAME:CEST
DTSTART:20190331T010000
END:DAYLIGHT
BEGIN:STANDARD
TZOFFSETFROM:+0200
TZOFFSETTO:+0100
TZNAME:CET
DTSTART:20191027T010000
END:STANDARD
END:VTIMEZONE
BEGIN:VEVENT
DTSTART;VALUE=DATE:20180106
DTEND;VALUE=DATE:20180107
DTSTAMP:20260424T010015
CREATED:20171123T134356Z
LAST-MODIFIED:20171130T091116Z
UID:34349-1515196800-1515283199@www.ville-lunion.fr
SUMMARY:Concours Union Images
DESCRIPTION:Entrée libre
URL:https://www.ville-lunion.fr/evenement/exposition-union-images/
LOCATION:Foyer de la Grande Halle de l’Union\, Rue du Somport\, 31240
CATEGORIES:Associations
ATTACH;FMTTYPE=image/jpeg:https://www.ville-lunion.fr/wp-content/uploads/2017/04/union-images.jpg
END:VEVENT
BEGIN:VEVENT
DTSTART;TZID=Europe/Paris:20180111T100000
DTEND;TZID=Europe/Paris:20180111T100000
DTSTAMP:20260424T010015
CREATED:20171123T135321Z
LAST-MODIFIED:20171123T135321Z
UID:34354-1515664800-1515664800@www.ville-lunion.fr
SUMMARY:conférence de Histoire de l'Art
DESCRIPTION:proposé par l’AAPU à l’auditorium de la salle des fêtes. \nOuvert à tous\, 8 euros pour les non-inscrits à l’histoire de l’Art.
URL:https://www.ville-lunion.fr/evenement/conference-de-histoire-de-lart/
LOCATION:Salle des fêtes de L’Union\, 6 Avenue des Pyrénées\, L'Union\, 31240\, France
CATEGORIES:Associations
ATTACH;FMTTYPE=image/jpeg:https://www.ville-lunion.fr/wp-content/uploads/2016/12/arton156.jpg
END:VEVENT
BEGIN:VEVENT
DTSTART;TZID=Europe/Paris:20180112T203000
DTEND;TZID=Europe/Paris:20180112T203000
DTSTAMP:20260424T010015
CREATED:20171123T135857Z
LAST-MODIFIED:20171222T133910Z
UID:34360-1515789000-1515789000@www.ville-lunion.fr
SUMMARY:Loto groupe scolaire BO
DESCRIPTION:
URL:https://www.ville-lunion.fr/evenement/loto-groupe-scolaire-bo/
LOCATION:Grande Halle de l’Union\, Rue du Somport\, L'Union\, 31240\, France
CATEGORIES:Associations
ATTACH;FMTTYPE=image/jpeg:https://www.ville-lunion.fr/wp-content/uploads/2017/11/loto-bo.jpg
END:VEVENT
BEGIN:VEVENT
DTSTART;TZID=Europe/Paris:20180113T203000
DTEND;TZID=Europe/Paris:20180113T203000
DTSTAMP:20260424T010015
CREATED:20171123T140310Z
LAST-MODIFIED:20171123T140310Z
UID:34363-1515875400-1515875400@www.ville-lunion.fr
SUMMARY:Loto Foot
DESCRIPTION:Par l’ASUF \nSandwiches et restauration sur place
URL:https://www.ville-lunion.fr/evenement/loto-foot/
LOCATION:Grande Halle de l’Union\, Rue du Somport\, L'Union\, 31240\, France
CATEGORIES:Associations
ATTACH;FMTTYPE=image/jpeg:https://www.ville-lunion.fr/wp-content/uploads/2017/11/loto.jpg
END:VEVENT
BEGIN:VEVENT
DTSTART;TZID=Europe/Paris:20180114T150000
DTEND;TZID=Europe/Paris:20180114T150000
DTSTAMP:20260424T010015
CREATED:20171123T141028Z
LAST-MODIFIED:20171204T080340Z
UID:34365-1515942000-1515942000@www.ville-lunion.fr
SUMMARY:Loto de la FNACA
DESCRIPTION:Bons d’achats de 250€\, 100€\, 50€\nArticles ménagers – multimédia –  Canards Gras – Jambons – Longes de Porc –Champagne –  Paniers Gourmands et de nombreux autres lots ……. \nVente de cartons à l’entrée :\n1 carton : 4 €– 3 cartons : 10€– 10 cartons : 20€ \nBoissons\, café\, crêpes ….
URL:https://www.ville-lunion.fr/evenement/loto-de-fnaca/
LOCATION:Grande Halle de l’Union\, Rue du Somport\, L'Union\, 31240\, France
CATEGORIES:Associations
ATTACH;FMTTYPE=image/jpeg:https://www.ville-lunion.fr/wp-content/uploads/2017/11/loto.jpg
END:VEVENT
BEGIN:VEVENT
DTSTART;TZID=Europe/Paris:20180115T203000
DTEND;TZID=Europe/Paris:20180115T203000
DTSTAMP:20260424T010015
CREATED:20171226T171445Z
LAST-MODIFIED:20180110T101410Z
UID:34638-1516048200-1516048200@www.ville-lunion.fr
SUMMARY:Ciné-débat : BIENVENUS !
DESCRIPTION:Le CCFD-TERRE SOLIDAIRE vous propose dans le cadre du Festival Cinéma et Droits de l’Homme : BIENVENUS ! De Rune Denstad Langlo 1h 30min – 2016 –\nnorvégien\, suédois –\nComment rentabiliser un hôtel délabré\, et paumé au milieu de nulle part ? En le transformant en centre d’accueil pour réfugiés\, pour empocher les subventions. Magouilleur\,\nrâleur\, vaguement raciste\, l’antihéros de cette attachante comédie va pourtant trouver une autre richesse au contact de ses hôtes.\nUne comédie intelligente et tendre sur la tolérance \nCiné-débat : accueillir les migrants.\nA l’issue de la projection\, le débat portera sur l’accueil des migrants\, avec des témoignages d’associations engagées. \n 
URL:https://www.ville-lunion.fr/evenement/cine-debat-bienvenus/
LOCATION:Le Lumière\, 6 Rue du Pic du Midi\, L'Union\, 31240\, France
CATEGORIES:Associations
ATTACH;FMTTYPE=image/jpeg:https://www.ville-lunion.fr/wp-content/uploads/2017/12/bienvenus.jpg
END:VEVENT
BEGIN:VEVENT
DTSTART;TZID=Europe/Paris:20180118T183000
DTEND;TZID=Europe/Paris:20180118T183000
DTSTAMP:20260424T010015
CREATED:20171123T133715Z
LAST-MODIFIED:20180103T090810Z
UID:34326-1516300200-1516300200@www.ville-lunion.fr
SUMMARY:vœux de M. le Maire  aux Unionais
DESCRIPTION:
URL:https://www.ville-lunion.fr/evenement/voeux-de-m-maire-aux-unionais/
LOCATION:Salle des fêtes de L’Union\, 6 Avenue des Pyrénées\, L'Union\, 31240\, France
CATEGORIES:Mairie
ATTACH;FMTTYPE=image/jpeg:https://www.ville-lunion.fr/wp-content/uploads/2016/12/coeur_de_ville-9.jpg
END:VEVENT
BEGIN:VEVENT
DTSTART;VALUE=DATE:20180119
DTEND;VALUE=DATE:20180120
DTSTAMP:20260424T010015
CREATED:20171123T141256Z
LAST-MODIFIED:20171218T163028Z
UID:34367-1516320000-1516406399@www.ville-lunion.fr
SUMMARY:Soirée Théâtre du Zonta Club Toulouse Isatis
DESCRIPTION:« Les Hommes Préfèrent Mentir »\nEntre vaudeville et comédie de mœurs\, cette pièce hilarante d’Eric ASSOUS jouée par les comédiens des Couleurs de la Comédie va susciter l’enthousiasme du public. Le bénéfice de cette soirée permettra  au club de maintenir son soutien à des femmes victimes de violences et à des jeunes filles en difficulté. \nVous découvrirez une histoire amusante\, faite de mensonges et de quiproquos\, qui entraînent les protagonistes dans des situations invraisemblables dont on se demande bien quelle sera l’issue !… \nRejoignez-nous pour passer un excellent moment de détente ! \nTarif unique : 10€ –  Réservations 06 12 77 35 31                             
URL:https://www.ville-lunion.fr/evenement/spectacle-du-zonta/
LOCATION:Salle des fêtes de L’Union\, 6 Avenue des Pyrénées\, L'Union\, 31240\, France
CATEGORIES:Associations
ATTACH;FMTTYPE=image/jpeg:https://www.ville-lunion.fr/wp-content/uploads/2017/11/Zonta-t.jpg
END:VEVENT
BEGIN:VEVENT
DTSTART;VALUE=DATE:20180119
DTEND;VALUE=DATE:20180122
DTSTAMP:20260424T010015
CREATED:20171123T141813Z
LAST-MODIFIED:20171123T141813Z
UID:34369-1516320000-1516579199@www.ville-lunion.fr
SUMMARY:Tir à l'Arc - sport adapté et Handi sport & Championnat
DESCRIPTION:par l’association du Tir à l’arc de L’Union
URL:https://www.ville-lunion.fr/evenement/tir-a-larc-sport-adapte-handi-sport-championnat/
LOCATION:Grande Halle de l’Union\, Rue du Somport\, L'Union\, 31240\, France
CATEGORIES:Associations
ATTACH;FMTTYPE=image/jpeg:https://www.ville-lunion.fr/wp-content/uploads/2017/11/tir.jpg
END:VEVENT
BEGIN:VEVENT
DTSTART;TZID=Europe/Paris:20180120T103000
DTEND;TZID=Europe/Paris:20180120T103000
DTSTAMP:20260424T010015
CREATED:20170906T091504Z
LAST-MODIFIED:20180115T104617Z
UID:33861-1516444200-1516444200@www.ville-lunion.fr
SUMMARY:TROIS FRÈRES POUR UN SEUL TRÉSOR
DESCRIPTION:Performance dessinée et musicale avec Judith Gueyfier\, illustratrice\, et William Hountondji\, musicien.\nHistoire de partage entre trois frères\, et de notre rapport à notre environnement\, cette histoire nous offre de magnifiques images fortes\,\nque l’illustratrice va développer sur une grande fresque de papier\, accompagnée au fil des apparitions magiques de ce conte par le musicien.\nUne invitation au voyage et à la réflexion. L’histoire sera racontée par un conteur dont la voix sera préenregistrée et diffusée. \nTOUT PUBLIC\ndurée : 45 min.\nentrée libre \ninfos :\n16ème édition du Festival du Livre de Jeunesse Occitanie • contact@festival-livre-jeunesse.fr\n05 34 63 98 83 • www.festival-livre-jeunesse.fr
URL:https://www.ville-lunion.fr/evenement/trois-freres-seul-tresor/
LOCATION:Le Lumière\, 6 Rue du Pic du Midi\, L'Union\, 31240\, France
CATEGORIES:Cinéma,Spectacles
ATTACH;FMTTYPE=image/jpeg:https://www.ville-lunion.fr/wp-content/uploads/2017/09/Trois-freres-pour-un-seul-tresor-2.jpg
END:VEVENT
BEGIN:VEVENT
DTSTART;TZID=Europe/Paris:20180121T153000
DTEND;TZID=Europe/Paris:20180121T153000
DTSTAMP:20260424T010015
CREATED:20171226T172559Z
LAST-MODIFIED:20171226T173121Z
UID:34642-1516548600-1516548600@www.ville-lunion.fr
SUMMARY:Thé dansant
DESCRIPTION:Par l’orchestre d’accordéons de L’Union \nRendez-vous au prochain thé dansant pour danser\net bouger au rythme de paso-dobles\, valses\, javas et tango\, chachacha\, samba\, charleston\, et aussi rock\, twist\, madison et danses en ligne\, slow\, … \nL’entrée est libre et vous pourrez vous rafraîchir auprès de la buvette.
URL:https://www.ville-lunion.fr/evenement/the-dansant-4/
LOCATION:Salle des fêtes de L’Union\, 6 Avenue des Pyrénées\, L'Union\, 31240\, France
CATEGORIES:Associations
ATTACH;FMTTYPE=image/jpeg:https://www.ville-lunion.fr/wp-content/uploads/2017/12/thé2.jpg
END:VEVENT
BEGIN:VEVENT
DTSTART;TZID=Europe/Paris:20180122T160000
DTEND;TZID=Europe/Paris:20180122T160000
DTSTAMP:20260424T010015
CREATED:20171226T173832Z
LAST-MODIFIED:20171226T174216Z
UID:34646-1516636800-1516636800@www.ville-lunion.fr
SUMMARY:Ciné-débat RAJASTHAN
DESCRIPTION:Film de Gerald K. Aldridge \nEntrée libre
URL:https://www.ville-lunion.fr/evenement/cine-debat-rajasthan/
LOCATION:Le Lumière\, 6 Rue du Pic du Midi\, L'Union\, 31240\, France
CATEGORIES:Cinéma
ATTACH;FMTTYPE=image/jpeg:https://www.ville-lunion.fr/wp-content/uploads/2017/12/raj.jpg
END:VEVENT
BEGIN:VEVENT
DTSTART;TZID=Europe/Paris:20180124T183000
DTEND;TZID=Europe/Paris:20180124T183000
DTSTAMP:20260424T010015
CREATED:20171123T142120Z
LAST-MODIFIED:20180118T145613Z
UID:34373-1516818600-1516818600@www.ville-lunion.fr
SUMMARY:Conseil Municipal
DESCRIPTION:La séance sera précédée à 18h30 par les présentations : \n\nDu projet « Vélos Connectés » par Madame Isabelle Godéas et Monsieur Yvan Navarro\, assistés de Monsieur Michel Hollinger Directeur de la société Oxian\nDu Déploiement du Projet d’accompagnement des Personnes Agées fragiles sur les territoires de Toulouse Métropole (D2PA) par Madame Isabelle Godéas\n\n  \nOrdre du jour\n1 – Informations du Maire\n2 – Adoption du Procès-Verbal 2017-09 du Conseil Municipal du 13 décembre 2017\n3 – Urbanisme\, Travaux\n3.1. Mise en vente de la maison située 12\, avenue des Pyrénées\n3.2. Signature de la convention pour la création d’un service commun Système d’Information Géographique SIG entre Toulouse Métropole et la Commune de L’Union. \n4 – Finances\n4.1. Subventions en faveur de 10 associations sportives\n4.2. Subventions aux associations Plaisir de Lire\, Ludothèque\, l’Ecole de Musique\, L’Envol Les Lutins du Manoir\, L’Envol Les Moussaillons \n5 – Ressources Humaines\n5.1. Modification du tableau des effectifs : avancement de grade d’un agent.\n5.2. Modification du tableau des effectifs : augmentation du temps de travail d’un agent. \n6 – Accessibilité\n6.1. Rapport de la Commission Communale d’Accessibilité 2017 \n7- Toulouse Métropole\n7.1. Rapport sur le Prix et la Qualité des Services Publics de l’eau potable\, de l’assainissement collectif et non collectif 2016 \n8 – Syndicat Départemental d’Energie de la Haute-Garonne – SDEHG –\n8.1. Adoption du rapport d’activité 2016 du SDEHG \n9 – Arrêtés du Maire\n10 – Questions diverses\n  \n 
URL:https://www.ville-lunion.fr/evenement/conseil-municipal-24janv/
LOCATION:Salle des fêtes de L’Union\, 6 Avenue des Pyrénées\, L'Union\, 31240\, France
CATEGORIES:Mairie
ATTACH;FMTTYPE=image/jpeg:https://www.ville-lunion.fr/wp-content/uploads/2016/12/mairie-entree.jpg
END:VEVENT
BEGIN:VEVENT
DTSTART;TZID=Europe/Paris:20180127T090000
DTEND;TZID=Europe/Paris:20180127T123000
DTSTAMP:20260424T010015
CREATED:20171123T143105Z
LAST-MODIFIED:20171226T133020Z
UID:34375-1517043600-1517056200@www.ville-lunion.fr
SUMMARY:Forum des Métiers
DESCRIPTION:
URL:https://www.ville-lunion.fr/evenement/forum-des-metiers/
LOCATION:Grande Halle de l’Union\, Rue du Somport\, L'Union\, 31240\, France
CATEGORIES:Mairie
ATTACH;FMTTYPE=image/jpeg:https://www.ville-lunion.fr/wp-content/uploads/2017/11/forum-metiers.jpg
END:VEVENT
BEGIN:VEVENT
DTSTART;TZID=Europe/Paris:20180128T090000
DTEND;TZID=Europe/Paris:20180128T180000
DTSTAMP:20260424T010015
CREATED:20171123T143649Z
LAST-MODIFIED:20171123T143649Z
UID:34378-1517130000-1517162400@www.ville-lunion.fr
SUMMARY:Bourse BD LIRE
DESCRIPTION:Entrée libre
URL:https://www.ville-lunion.fr/evenement/bourse-bd-lire/
LOCATION:Grande Halle de l’Union\, Rue du Somport\, L'Union\, 31240\, France
CATEGORIES:Associations
ATTACH;FMTTYPE=image/jpeg:https://www.ville-lunion.fr/wp-content/uploads/2017/11/BDlire_affiche-2018.jpg
END:VEVENT
BEGIN:VEVENT
DTSTART;TZID=Europe/Paris:20180130T140000
DTEND;TZID=Europe/Paris:20180130T140000
DTSTAMP:20260424T010015
CREATED:20171226T135406Z
LAST-MODIFIED:20171226T135535Z
UID:34615-1517320800-1517320800@www.ville-lunion.fr
SUMMARY:Présentation du projet d’accompagnement des personnes âgées fragilisées
DESCRIPTION:A L’Union\, les personnes âgées de plus de 65 ans représentent environ 30% de la population.\nLe CCAS de la ville de L’Union\, en partenariat avec le gérontopole du CHU de Toulouse et Toulouse Métropole\, est soucieux de favoriser le « bien vieillir » des seniors. Des actions de repérage et d’évaluation vont être mises en place dès février 2018\, en collaboration avec une infirmière du gérontopole. Il s’agit de mettre en oeuvre des\nplans d’accompagnement de la personne âgée en lien avec son médecin traitant. Ces actions s’appuieront sur des dispositifs déjà existants mais parfois mal connus (Sport sur ordonnance\, Plus jamais seul…).\nAfin d’évaluer les besoins et les attentes de chacun\, des questionnaires vont être adressés dès le mois de février aux personnes de 75 ans et plus résidant sur la commune. \nNous vous proposons de vous présenter cette démarche le mardi 30 janvier à la salle des fêtes de L’Union avec le Professeur Nourhashemi du Gérontopole de Toulouse.
URL:https://www.ville-lunion.fr/evenement/presentation-projet-daccompagnement-personnes-agees-fragilisees/
LOCATION:Salle des fêtes de L’Union\, 6 Avenue des Pyrénées\, L'Union\, 31240\, France
CATEGORIES:Mairie
ATTACH;FMTTYPE=image/jpeg:https://www.ville-lunion.fr/wp-content/uploads/2017/12/réunion.jpg
END:VEVENT
BEGIN:VEVENT
DTSTART;TZID=Europe/Paris:20180131T193000
DTEND;TZID=Europe/Paris:20180131T193000
DTSTAMP:20260424T010015
CREATED:20171123T145846Z
LAST-MODIFIED:20171228T103737Z
UID:34381-1517427000-1517427000@www.ville-lunion.fr
SUMMARY:présentation de la Saison Théâtrale
DESCRIPTION:Soirée d’ouverture \nEntrée libre \nhttps://www.compagnie-cleante.com/programmation-grande-halle-union/ \n 
URL:https://www.ville-lunion.fr/evenement/presentation-de-saison-theatrale/
LOCATION:Grande Halle de l’Union\, Rue du Somport\, L'Union\, 31240\, France
CATEGORIES:Mairie
ATTACH;FMTTYPE=image/jpeg:https://www.ville-lunion.fr/wp-content/uploads/2017/11/cie-cleante.jpg
END:VEVENT
END:VCALENDAR