BEGIN:VCALENDAR
VERSION:2.0
PRODID:-//Ville de L&#039;Union - ECPv6.15.13//NONSGML v1.0//EN
CALSCALE:GREGORIAN
METHOD:PUBLISH
X-WR-CALNAME:Ville de L&#039;Union
X-ORIGINAL-URL:https://www.ville-lunion.fr
X-WR-CALDESC:Évènements pour Ville de L&#039;Union
REFRESH-INTERVAL;VALUE=DURATION:PT1H
X-Robots-Tag:noindex
X-PUBLISHED-TTL:PT1H
BEGIN:VTIMEZONE
TZID:Europe/Paris
BEGIN:DAYLIGHT
TZOFFSETFROM:+0100
TZOFFSETTO:+0200
TZNAME:CEST
DTSTART:20160327T010000
END:DAYLIGHT
BEGIN:STANDARD
TZOFFSETFROM:+0200
TZOFFSETTO:+0100
TZNAME:CET
DTSTART:20161030T010000
END:STANDARD
BEGIN:DAYLIGHT
TZOFFSETFROM:+0100
TZOFFSETTO:+0200
TZNAME:CEST
DTSTART:20170326T010000
END:DAYLIGHT
BEGIN:STANDARD
TZOFFSETFROM:+0200
TZOFFSETTO:+0100
TZNAME:CET
DTSTART:20171029T010000
END:STANDARD
BEGIN:DAYLIGHT
TZOFFSETFROM:+0100
TZOFFSETTO:+0200
TZNAME:CEST
DTSTART:20180325T010000
END:DAYLIGHT
BEGIN:STANDARD
TZOFFSETFROM:+0200
TZOFFSETTO:+0100
TZNAME:CET
DTSTART:20181028T010000
END:STANDARD
END:VTIMEZONE
BEGIN:VEVENT
DTSTART;VALUE=DATE:20170928
DTEND;VALUE=DATE:20171015
DTSTAMP:20260424T044918
CREATED:20170929T122557Z
LAST-MODIFIED:20170929T122557Z
UID:34049-1506556800-1508025599@www.ville-lunion.fr
SUMMARY:Exposition des Arts Plastiques
DESCRIPTION:Présentation des œuvres des professeurs et animateurs. Ouvert à tous.
URL:https://www.ville-lunion.fr/evenement/exposition-arts-plastiques/
LOCATION:Bibliothèque de L’Union\, 6 Avenue de Toulouse\, 31240
CATEGORIES:Associations
ATTACH;FMTTYPE=image/jpeg:https://www.ville-lunion.fr/wp-content/uploads/2017/09/aapu1.jpg
END:VEVENT
BEGIN:VEVENT
DTSTART;TZID=Europe/Paris:20171006T203000
DTEND;TZID=Europe/Paris:20171006T203000
DTSTAMP:20260424T044918
CREATED:20170522T151104Z
LAST-MODIFIED:20170926T072808Z
UID:32578-1507321800-1507321800@www.ville-lunion.fr
SUMMARY:Amaury Vassili en concert
DESCRIPTION:Amaury VASSILI\, longtemps reconnu comme « le plus jeune ténor du monde »\, démontre au fil de ses 4 albums qu’il n’est pas seulement un artiste lyrique impressionnant\, il est aussi un véritable chanteur de variété aux capacités vocales exceptionnelles. \nPour cette nouvelle tournée\, Amaury VASSILI sera accompagné de 8 musiciens et s’approprie les chansons incontournables d’artistes populaires devenus cultes qui ont marqué plusieurs générations. \nUn tour de chant hommage aux grands interprètes mais également à leurs auteurs et compositeurs. \nC’est un spectacle « best of » qui va du répertoire de Mike Brandt en passant par les standards de la variété française. \nAmaury VASSILI vous entraîne dans une heure 30 de tubes\, et rien que des tubes. \nTarif plein Carré Or : 35€ + frais de location – Tarif réduit : 32€ + frais de location \n Tarif plein Catégorie 1 : 28€ + frais de location – Tarif réduit : 25€ + frais de location \n En vente dans tous les centres habituels. \n \n \n \n 
URL:https://www.ville-lunion.fr/evenement/amaury-vassili/
LOCATION:Grande Halle de l’Union\, Rue du Somport\, L'Union\, 31240\, France
CATEGORIES:Spectacles
ATTACH;FMTTYPE=image/jpeg:https://www.ville-lunion.fr/wp-content/uploads/2017/05/av.jpg
END:VEVENT
BEGIN:VEVENT
DTSTART;TZID=Europe/Paris:20171009T200000
DTEND;TZID=Europe/Paris:20171009T200000
DTSTAMP:20260424T044918
CREATED:20170911T123321Z
LAST-MODIFIED:20170912T085843Z
UID:33937-1507579200-1507579200@www.ville-lunion.fr
SUMMARY:ciné-débat "La maladie alcoolique et une solution pour s’en rétablir".
DESCRIPTION:L’association des Alcooliques Anonymes de L’Union va fêter son 5ème anniversaire. et à cette occasion vous propose  un ciné-débat’ sur le thème : La maladie alcoolique et une solution pour s’en rétablir. \nLe film diffusé sera : Un singe sur le dos (2008) brillement interprété par Gilles Lellouche\, suivi d’un débat animé par Sabine Caze\, journaliste et des professionnels de la santé. \nCet événement ouvert à tous aura lieu au cinéma le Lumière. \nEntrée libre
URL:https://www.ville-lunion.fr/evenement/33937/
LOCATION:Le Lumière\, 6 Rue du Pic du Midi\, L'Union\, 31240\, France
CATEGORIES:Associations
ATTACH;FMTTYPE=image/jpeg:https://www.ville-lunion.fr/wp-content/uploads/2017/09/5.jpg
END:VEVENT
BEGIN:VEVENT
DTSTART;VALUE=DATE:20171013
DTEND;VALUE=DATE:20171016
DTSTAMP:20260424T044918
CREATED:20170929T095439Z
LAST-MODIFIED:20170929T095439Z
UID:34043-1507852800-1508111999@www.ville-lunion.fr
SUMMARY:Salon des fossiles et minéraux
DESCRIPTION:Les 13\, 14 et 15 octobre à la Grande Halle de L’Union aura lieu le Salon de Prestiges des Fossiles et Minéraux de L’Union. Depuis sa création en 2002\, ce salon\nremporte chaque année un très grand succès. Le vendredi 13 sera consacré aux enfants des écoles qui pourront assister à de nombreuses présentations pédagogiques.\nLe salon est ouvert aussi ce jour-là au public et l’entrée pour les 3 jours est gratuite. Vous trouverez des minéraux du monde entier\, Uruguay\, Pérou\, Congo\, Pakistan\, Brésil\, France\, Maroc\, Espagne et bien d’autres. De nombreux exposants deviennent intervenants pour vous informer sur les fossiles et les minéraux (la paléontologie\, la minéralogie\, les dinosaures\, les météorites\, les pierres de gemmes\, et la micro minéralogie).\nLe Stand sur la préhistoire « Flin ’t » est installé dans le foyer\, sa présence est financée par la municipalité\, au profit en particulier des enfants des écoles. A l’entrée du salon la sculpture d’un Tricératops\, échelle environ ¼ vous attend. L’entrée est gratuite\, buvette à l’intérieur tenue par le club des ainés.\nOuverture de 9h à 19h vendredi\, de 10h à 19 samedi et de 9h à 18h dimanche. \nEntrée libre
URL:https://www.ville-lunion.fr/evenement/salon-fossiles-mineraux/
LOCATION:Grande Halle de l’Union\, Rue du Somport\, L'Union\, 31240\, France
CATEGORIES:Associations
ATTACH;FMTTYPE=image/jpeg:https://www.ville-lunion.fr/wp-content/uploads/2017/09/fossiles-e1597737403463.jpg
END:VEVENT
BEGIN:VEVENT
DTSTART;TZID=Europe/Paris:20171015T150000
DTEND;TZID=Europe/Paris:20171015T150000
DTSTAMP:20260424T044918
CREATED:20170929T122834Z
LAST-MODIFIED:20170929T122834Z
UID:34052-1508079600-1508079600@www.ville-lunion.fr
SUMMARY:Thé dansant
DESCRIPTION:Proposé par l’orchestre d’accordéons de L’Union
URL:https://www.ville-lunion.fr/evenement/the-dansant-2/
LOCATION:Salle des fêtes de L’Union\, 6 Avenue des Pyrénées\, L'Union\, 31240\, France
CATEGORIES:Associations
ATTACH;FMTTYPE=image/jpeg:https://www.ville-lunion.fr/wp-content/uploads/2017/09/thé.jpg
END:VEVENT
BEGIN:VEVENT
DTSTART;VALUE=DATE:20171016
DTEND;VALUE=DATE:20171105
DTSTAMP:20260424T044918
CREATED:20171010T081132Z
LAST-MODIFIED:20171010T081254Z
UID:34098-1508112000-1509839999@www.ville-lunion.fr
SUMMARY:Exposition "de l'argentique au numérique"
DESCRIPTION:Proposé par M. Yves Gesta\, Union Images. \n 
URL:https://www.ville-lunion.fr/evenement/exposition-de-largentique-numerique/
LOCATION:Bibliothèque de L’Union\, 6 Avenue de Toulouse\, 31240
CATEGORIES:Associations
ATTACH;FMTTYPE=image/jpeg:https://www.ville-lunion.fr/wp-content/uploads/2017/10/union-image1.jpg
END:VEVENT
BEGIN:VEVENT
DTSTART;TZID=Europe/Paris:20171018T190000
DTEND;TZID=Europe/Paris:20171018T190000
DTSTAMP:20260424T044918
CREATED:20170928T100649Z
LAST-MODIFIED:20170928T145101Z
UID:34011-1508353200-1508353200@www.ville-lunion.fr
SUMMARY:Participation citoyenne - habitants du quartier « Côte vermeille »
DESCRIPTION:Réunion des habitants du quartier « Côte vermeille » avec la gendarmerie nationale pour expérimentation du dispositif « participation citoyenne » \n« DEVENEZ ACTEURS DE VOTRE SÉCURITÉ »\nLa démarche « Participation citoyenne » va très prochainement être mise en place progressivement dans notre ville. \nA titre expérimental le quartier de la côte Vermeille a été retenu pour cette opération\, tant par sa situation géographie que par le côté convivial de ce secteur où\nles habitants se connaissent. \nUne réunion d’information se tiendra le mercredi 18 octobre à 19 heures à la salle Laroussinie.\nSous l’égide de la Gendarmerie Nationale en étroite collaboration avec la Municipalité et la Police Municipale\, « Participation citoyenne » consiste pour le\ncitoyen à adopter une démarche solidaire\, désintéressée et vigilante dans son quartier.\nLa Gendarmerie Nationale sous le commandement du Lieutenant de Leseleuc ainsi que la municipalité vous présenteront ce dispositif lors de cette réunion à laquelle\nla population concernée est invitée à participer massivement. \nSi elle fait ses preuves dans ce quartier\, la démarche sera étendue à d’autres quartiers.
URL:https://www.ville-lunion.fr/evenement/participation-citoyenne-habitants-quartier-cote-vermeille/
LOCATION:salle Laroussinie\, route de Bayonne\, L'UNION\, 31240
CATEGORIES:Mairie
ATTACH;FMTTYPE=image/jpeg:https://www.ville-lunion.fr/wp-content/uploads/2017/09/participation-citoyenne.jpg
END:VEVENT
BEGIN:VEVENT
DTSTART;TZID=Europe/Paris:20171019T100000
DTEND;TZID=Europe/Paris:20171019T100000
DTSTAMP:20260424T044918
CREATED:20170929T123750Z
LAST-MODIFIED:20170929T123750Z
UID:34058-1508407200-1508407200@www.ville-lunion.fr
SUMMARY:Conférence - Histoire de l’Art
DESCRIPTION:« Centre Pompidou » proposé par l’AAPU à l’auditorium de la salle des fêtes. \nOuvert à tous\, 8 euros pour les non-inscrits à l’histoire de l’Art.
URL:https://www.ville-lunion.fr/evenement/conference-histoire-de-lart/
LOCATION:Salle des fêtes de L’Union\, 6 Avenue des Pyrénées\, L'Union\, 31240\, France
CATEGORIES:Associations
ATTACH;FMTTYPE=image/jpeg:https://www.ville-lunion.fr/wp-content/uploads/2017/09/pompidou.jpg
END:VEVENT
BEGIN:VEVENT
DTSTART;TZID=Europe/Paris:20171022T090000
DTEND;TZID=Europe/Paris:20171022T180000
DTSTAMP:20260424T044918
CREATED:20170929T121908Z
LAST-MODIFIED:20170929T121908Z
UID:34046-1508662800-1508695200@www.ville-lunion.fr
SUMMARY:Bourse Toutes Collections
DESCRIPTION:le Club Philatélique de L’Union organise sa grande Bourse Toutes Collections annuelle à la Grande Halle. \nL’entrée de 9h à 18h est gratuite. 90 Exposants présentent des curiosités très variées en Philatélie\, numismatique (monnaies) vieux papiers \, jouets anciens\, capsules de champagne\, pins… \nContact : gerardani.bayle@orange.fr\nTél. 05 61 84 37 97
URL:https://www.ville-lunion.fr/evenement/bourse-toutes-collections/
LOCATION:Grande Halle de l’Union\, Rue du Somport\, L'Union\, 31240\, France
CATEGORIES:Associations
ATTACH;FMTTYPE=image/jpeg:https://www.ville-lunion.fr/wp-content/uploads/2017/09/bourse.jpg
END:VEVENT
BEGIN:VEVENT
DTSTART;TZID=Europe/Paris:20171027T203000
DTEND;TZID=Europe/Paris:20171027T203000
DTSTAMP:20260424T044918
CREATED:20170929T093409Z
LAST-MODIFIED:20170929T094414Z
UID:34040-1509136200-1509136200@www.ville-lunion.fr
SUMMARY:Conférence de l'association Neptunion
DESCRIPTION:LES COULEURS DU CIEL\nLa composition de l’atmosphère des planètes\, la température des étoiles\, la distance des galaxies… Comment fait donc l’astronome pour caractériser l’Univers alors qu’il ne peut pas se rendre directement au contact des astres malheureusement trop lointains ou trop chauds? La seule possibilité est de profiter de l’unique cadeau que nous offrent les astres : leur lumière et plus particulièrement leurs couleurs. Après avoir défini ce que signifie « couleur » pour l’astronome\, nous verrons comment «Les couleurs du ciel» nous apprennent la nature des objets cosmiques mais aussi leur origine et leur devenir\, en partant du Jaune éclatant de notre Soleil jusqu’au noir intense des profondeurs intersidérales.\nFrançois Lahille\, astronome amateur\, professeur à la faculté de Toulouse. \nLES EXO PLANÈTES\nDepuis très longtemps\, l’Homme s’est posé la question : « Sommes-nous seuls dans l’univers ? »\nCette interrogation en sous-tend une autre : « Existet-il d’autres planètes pouvant accueillir la vie dans l’immensité de l’Univers ? ». Ce n’est que très récemment que nous avons la preuve qu’il existe d’autres planètes qui gravitent autour d’autres étoiles que le Soleil. L’annonce de la première découverte d’une exoplanète date d’à peine 15 ans et depuis d’autres se sont succédé. A ce jour\, des milliers d’exoplanètes ont été découvertes\, au moyen de télescopes terrestres ou d’observatoires spatiaux. En extrapolant à partir des découvertes déjà effectuées\, il existerait au moins 100 milliards de planètes rien que dans notre galaxie !\nCette quête représente\, à n’en pas douter\, une des plus grandes aventures scientifiques du XXIe siècle. A travers les travaux menés par une équipe d’astronomes amateurs du club Neptunion31\, dans ce domaine d’exploration\, au Pic du Midi\, nous vous proposons de découvrir ensemble les dernières avancées de cette quête aux exoplanètes et leurs\nméthodes de détection.\nFrancis Dauriac\, membre du club de L’Union \nEntrée libre
URL:https://www.ville-lunion.fr/evenement/conference-de-lassociation-neptunion/
LOCATION:Salle des fêtes de L’Union\, 6 Avenue des Pyrénées\, L'Union\, 31240\, France
CATEGORIES:Associations
ATTACH;FMTTYPE=image/jpeg:https://www.ville-lunion.fr/wp-content/uploads/2017/09/neptunion-conf.jpg
END:VEVENT
END:VCALENDAR