BEGIN:VCALENDAR
VERSION:2.0
PRODID:-//Ville de L&#039;Union - ECPv6.15.13//NONSGML v1.0//EN
CALSCALE:GREGORIAN
METHOD:PUBLISH
X-WR-CALNAME:Ville de L&#039;Union
X-ORIGINAL-URL:https://www.ville-lunion.fr
X-WR-CALDESC:Évènements pour Ville de L&#039;Union
REFRESH-INTERVAL;VALUE=DURATION:PT1H
X-Robots-Tag:noindex
X-PUBLISHED-TTL:PT1H
BEGIN:VTIMEZONE
TZID:Europe/Paris
BEGIN:DAYLIGHT
TZOFFSETFROM:+0100
TZOFFSETTO:+0200
TZNAME:CEST
DTSTART:20160327T010000
END:DAYLIGHT
BEGIN:STANDARD
TZOFFSETFROM:+0200
TZOFFSETTO:+0100
TZNAME:CET
DTSTART:20161030T010000
END:STANDARD
BEGIN:DAYLIGHT
TZOFFSETFROM:+0100
TZOFFSETTO:+0200
TZNAME:CEST
DTSTART:20170326T010000
END:DAYLIGHT
BEGIN:STANDARD
TZOFFSETFROM:+0200
TZOFFSETTO:+0100
TZNAME:CET
DTSTART:20171029T010000
END:STANDARD
BEGIN:DAYLIGHT
TZOFFSETFROM:+0100
TZOFFSETTO:+0200
TZNAME:CEST
DTSTART:20180325T010000
END:DAYLIGHT
BEGIN:STANDARD
TZOFFSETFROM:+0200
TZOFFSETTO:+0100
TZNAME:CET
DTSTART:20181028T010000
END:STANDARD
END:VTIMEZONE
BEGIN:VEVENT
DTSTART;VALUE=DATE:20170316
DTEND;VALUE=DATE:20170402
DTSTAMP:20260424T134525
CREATED:20170210T145527Z
LAST-MODIFIED:20170307T102845Z
UID:31433-1489622400-1491091199@www.ville-lunion.fr
SUMMARY:exposition "acrylique abstrait"
DESCRIPTION:Vernissage jeudi 16 Mars à 18h30
URL:https://www.ville-lunion.fr/evenement/exposition-acrylique-abstrait/
LOCATION:Bibliothèque de L’Union\, 6 Avenue de Toulouse\, 31240
CATEGORIES:Associations
ATTACH;FMTTYPE=image/jpeg:https://www.ville-lunion.fr/wp-content/uploads/2016/12/arton156.jpg
END:VEVENT
BEGIN:VEVENT
DTSTART;VALUE=DATE:20170401
DTEND;VALUE=DATE:20170410
DTSTAMP:20260424T134525
CREATED:20170202T145953Z
LAST-MODIFIED:20170202T150048Z
UID:31435-1491004800-1491782399@www.ville-lunion.fr
SUMMARY:Le Salon des Arts
DESCRIPTION:Entrée libre. Vernissage le samedi 1er avril à 18h. \nDepuis 1982\, ce salon s’impose comme un rendez-vous culturel incontournable en Midi-Pyrénées. Il se tient dans la Grande Halle de L’Union. Des artistes amateurs et professionnels de toute la région y exposent leurs œuvres.
URL:https://www.ville-lunion.fr/evenement/le-salon-des-arts/
LOCATION:Grande Halle de l’Union\, Rue du Somport\, L'Union\, 31240\, France
CATEGORIES:Associations
ATTACH;FMTTYPE=image/jpeg:https://www.ville-lunion.fr/wp-content/uploads/2016/12/arton156.jpg
ORGANIZER;CN="A.A.P.U":MAILTO:arts.plastiques.lunion@gmail.com
END:VEVENT
BEGIN:VEVENT
DTSTART;TZID=Europe/Paris:20170402T153000
DTEND;TZID=Europe/Paris:20170402T153000
DTSTAMP:20260424T134525
CREATED:20170327T152154Z
LAST-MODIFIED:20170327T152154Z
UID:31839-1491147000-1491147000@www.ville-lunion.fr
SUMMARY:Thé dansant
DESCRIPTION:Par l’orchestre d’accordéons de L’Union. \nEntrée libre \n 
URL:https://www.ville-lunion.fr/evenement/the-dansant/
LOCATION:Salle des fêtes de L’Union\, 6 Avenue des Pyrénées\, L'Union\, 31240\, France
CATEGORIES:Associations
ATTACH;FMTTYPE=image/jpeg:https://www.ville-lunion.fr/wp-content/uploads/2017/03/the-dansant.jpg
END:VEVENT
BEGIN:VEVENT
DTSTART;TZID=Europe/Paris:20170411T100000
DTEND;TZID=Europe/Paris:20170411T170000
DTSTAMP:20260424T134525
CREATED:20170323T102802Z
LAST-MODIFIED:20170323T104634Z
UID:31803-1491904800-1491930000@www.ville-lunion.fr
SUMMARY:FESTIVAL BUZZ Y SHOW
DESCRIPTION:Les jeunes de la MJC de L’Union organisent la troisième édition du festival Buzz Y Show le mardi 11 avril 2017 de 10h à 17h à L’Union.\nLe thème retenu cette année est «Jeux et expressions culturelles». \nLa matinée sera consacrée aux jeux (en bois ou en grands groupes)\, l’après midi est consacrée à l’expression culturelle des jeunes avec percus africaines\, théâtre d’impro\, concert. Un blind test et une animation surprise sont aussi prévus. \nLe goûter sera offert à tous les participants par la commune. \nNous vous attendons nombreux !!!
URL:https://www.ville-lunion.fr/evenement/festival-buzz-y-show/
LOCATION:Salle des fêtes de L’Union\, 6 Avenue des Pyrénées\, L'Union\, 31240\, France
CATEGORIES:Associations
ATTACH;FMTTYPE=image/jpeg:https://www.ville-lunion.fr/wp-content/uploads/2017/03/buzzyshow.jpg
ORGANIZER;CN="Maison des Jeunes et de la Culture":MAILTO:mjc.lunion@free.fr
END:VEVENT
BEGIN:VEVENT
DTSTART;TZID=Europe/Paris:20170414T203000
DTEND;TZID=Europe/Paris:20170414T203000
DTSTAMP:20260424T134525
CREATED:20170322T112341Z
LAST-MODIFIED:20170323T105342Z
UID:31772-1492201800-1492201800@www.ville-lunion.fr
SUMMARY:Concert SAX TOY'S
DESCRIPTION:Après une salle comble pour l’audition de chant actuel et le concert du Big Band de l’Ecole de Musique\, c’est au tour des Saxtoy’s de monter sur la scène de la salle des fêtes le vendredi 14 avril à 20h30. Une scène que les Saxtoy’s connaissent bien car c’est sur celle-ci qu’ils ont fêté l’an dernier leurs 5 ans\, ou encore qu’ils ont lancé la sortie de leur premier CD il y a 3 ans. Cette année\, ils vous proposent de venir (re)découvrir les plus grands standards de funk et de variété réarrangés à leur façon. Profitez-en car à l’issue de ce concert la formation du groupe va changer et vous n’aurez peut être plus l’occasion de réécouter ce programme. \nToujours dans le but de présenter sa grande diversité de formations et de promouvoir la musique d’ensemble\, l’Ecole de Musique offre à ces élèves l’opportunité de jouer dans de bonnes conditions. C’est pour cela qu’en première partie du concert vous pourrez découvrir un groupe de jeunes musiciens en partie issue de l’Ecole\, Stradline ! \nLaissez-vous embarquer par cette ambiance conviviale et partagez cette passion de la musique avec eux ! \nEntrée libre . « 
URL:https://www.ville-lunion.fr/evenement/concert-sax-toys/
LOCATION:Salle des fêtes de L’Union\, 6 Avenue des Pyrénées\, L'Union\, 31240\, France
CATEGORIES:Associations
ATTACH;FMTTYPE=image/jpeg:https://www.ville-lunion.fr/wp-content/uploads/2017/03/affiche-Sax-Toys-4.jpg
END:VEVENT
BEGIN:VEVENT
DTSTART;TZID=Europe/Paris:20170418T080000
DTEND;TZID=Europe/Paris:20170509T170000
DTSTAMP:20260424T134525
CREATED:20170322T113223Z
LAST-MODIFIED:20170322T113223Z
UID:31780-1492502400-1494349200@www.ville-lunion.fr
SUMMARY:Exposition La Birmanie
DESCRIPTION:Exposition « La Birmanie » \nBibliothèque Plaisir de Lire du 18 avril au 9 mai.\nAu cinéma le Lumière du 1er mai au 4 juin. \n 
URL:https://www.ville-lunion.fr/evenement/exposition-la-birmanie/
LOCATION:Bibliothèque de L’Union\, 6 Avenue de Toulouse\, 31240
CATEGORIES:Associations
ATTACH;FMTTYPE=image/jpeg:https://www.ville-lunion.fr/wp-content/uploads/2017/03/birmanie.jpg
END:VEVENT
BEGIN:VEVENT
DTSTART;VALUE=DATE:20170423
DTEND;VALUE=DATE:20170424
DTSTAMP:20260424T134525
CREATED:20170228T143922Z
LAST-MODIFIED:20170418T164222Z
UID:31607-1492905600-1492991999@www.ville-lunion.fr
SUMMARY:Election Présidentielle
DESCRIPTION:Ouverture des bureaux de vote :  8h – 20h
URL:https://www.ville-lunion.fr/evenement/elections-presidentielles/
LOCATION:Grande Halle de l’Union\, Rue du Somport\, L'Union\, 31240\, France
CATEGORIES:Mairie
ATTACH;FMTTYPE=image/jpeg:https://www.ville-lunion.fr/wp-content/uploads/2017/02/elections.jpg
END:VEVENT
BEGIN:VEVENT
DTSTART;TZID=Europe/Paris:20170427T203000
DTEND;TZID=Europe/Paris:20170427T203000
DTSTAMP:20260424T134525
CREATED:20170403T074740Z
LAST-MODIFIED:20170403T074740Z
UID:32138-1493325000-1493325000@www.ville-lunion.fr
SUMMARY:« Les oubliés de l’histoire » PROJECTION RENCONTRE ET DÉDICACE
DESCRIPTION:PROJECTION RENCONTRE ET DÉDICACE\n« Les oubliés de l’histoire » avec Jean-Yves LeNaour\nAUDITORIUM DE LA SALLE DES FÊTES\nJEUDI 27 AVRIL À 20H30\nLa librairie Les Passantes et la Ville de L’Union vous proposent une soirée exceptionnelle.Jean-Yves Le Naour\, historien spécialiste de la première guerre mondiale et du\nXXème siècle\, présentera son dernier livre « Les oubliés de l’histoire » : une histoire de l’Europe du XXème siècle à travers 20 portraits de personnes méconnues ou\noubliées.\nCes portraits ont été adaptés en 20 films documentaires diffusés sur Arte à partir de mars 2017.\nLa soirée débutera par la projection du film consacré à l’une de ces oubliées : « Jeannette MacDonald une lionne parmi les lions » (durée 26 minutes) et sera suivie d’une discussion avec l’auteur.\nEn présence de Joël Fauré\, biographe de Jeannette MacDonald et de Thomas Cirotteau\, réalisateur du film. \n 
URL:https://www.ville-lunion.fr/evenement/oublies-de-lhistoire-projection-rencontre-dedicace/
LOCATION:Salle des fêtes de L’Union\, 6 Avenue des Pyrénées\, L'Union\, 31240\, France
CATEGORIES:Mairie,Manifestations
ATTACH;FMTTYPE=image/jpeg:https://www.ville-lunion.fr/wp-content/uploads/2017/04/les-passantes.jpg
END:VEVENT
END:VCALENDAR