BEGIN:VCALENDAR
VERSION:2.0
PRODID:-//Ville de L&#039;Union - ECPv6.15.13//NONSGML v1.0//EN
CALSCALE:GREGORIAN
METHOD:PUBLISH
X-WR-CALNAME:Ville de L&#039;Union
X-ORIGINAL-URL:https://www.ville-lunion.fr
X-WR-CALDESC:Évènements pour Ville de L&#039;Union
REFRESH-INTERVAL;VALUE=DURATION:PT1H
X-Robots-Tag:noindex
X-PUBLISHED-TTL:PT1H
BEGIN:VTIMEZONE
TZID:Europe/Paris
BEGIN:DAYLIGHT
TZOFFSETFROM:+0100
TZOFFSETTO:+0200
TZNAME:CEST
DTSTART:20160327T010000
END:DAYLIGHT
BEGIN:STANDARD
TZOFFSETFROM:+0200
TZOFFSETTO:+0100
TZNAME:CET
DTSTART:20161030T010000
END:STANDARD
BEGIN:DAYLIGHT
TZOFFSETFROM:+0100
TZOFFSETTO:+0200
TZNAME:CEST
DTSTART:20170326T010000
END:DAYLIGHT
BEGIN:STANDARD
TZOFFSETFROM:+0200
TZOFFSETTO:+0100
TZNAME:CET
DTSTART:20171029T010000
END:STANDARD
BEGIN:DAYLIGHT
TZOFFSETFROM:+0100
TZOFFSETTO:+0200
TZNAME:CEST
DTSTART:20180325T010000
END:DAYLIGHT
BEGIN:STANDARD
TZOFFSETFROM:+0200
TZOFFSETTO:+0100
TZNAME:CET
DTSTART:20181028T010000
END:STANDARD
END:VTIMEZONE
BEGIN:VEVENT
DTSTART;VALUE=DATE:20170214
DTEND;VALUE=DATE:20170305
DTSTAMP:20260424T152147
CREATED:20170214T135153Z
LAST-MODIFIED:20170214T135559Z
UID:31508-1487030400-1488671999@www.ville-lunion.fr
SUMMARY:Exposition photos 'Mirages'
DESCRIPTION:Le désert est de longue date un lieu extraordinaire\, source d’inspiration pour les photographes nombreux qui ont offert à l’histoire leurs images grandioses. \nDanièle Boucon\, au cours de ses nombreux voyages\, s’est aussi laissée séduire par ces paysages de dune et de montagnes arides que sa vie d’aventurière lui a donné l’occasion de parcourir. \nSortant des chemins battus\, elle a associé des images concrètes de désert à des images symboliques et riches de sens\, invitant ainsi chacun à se laisser guider par ses propres sentiments. Solitude\, silence\, peur\, force et fragilité\, liberté\, autant de mots clés capables d’ouvrir les portes de l’imaginaire. Ces images là en sont peut-être une des voies. \n  \nl’auteur : Autodidacte\, Danièle Boucon a commencé la photo en 2005 par des travaux et expositions liés aux voyages\, aux expéditions en montagne\, et aux gens qui y vivent. Après une interruption de quelques années\, ses travaux sont dorénavant intimement liés aux voyages au cœur de l’intime\, entre l’imaginaire et le réel\, où le conte prend ses racines. \nVernissage : mardi 21 février à 18h30. \nPour + d’info : danieleboucon.monsite-orange.fr
URL:https://www.ville-lunion.fr/evenement/exposition-photos-mirages/
LOCATION:Bibliothèque de L’Union\, 6 Avenue de Toulouse\, 31240
CATEGORIES:Associations
ATTACH;FMTTYPE=image/jpeg:https://www.ville-lunion.fr/wp-content/uploads/2017/02/Affiche-D-Boucon.jpg
END:VEVENT
BEGIN:VEVENT
DTSTART;TZID=Europe/Paris:20170302T080000
DTEND;TZID=Europe/Paris:20170302T170000
DTSTAMP:20260424T152147
CREATED:20170104T113632Z
LAST-MODIFIED:20170104T134331Z
UID:31228-1488441600-1488474000@www.ville-lunion.fr
SUMMARY:Carnaval Petite Enfance
DESCRIPTION:
URL:https://www.ville-lunion.fr/evenement/carnaval-petite-enfance/
LOCATION:Salle des fêtes de L’Union\, 6 Avenue des Pyrénées\, L'Union\, 31240\, France
CATEGORIES:Manifestations
ATTACH;FMTTYPE=image/png:https://www.ville-lunion.fr/wp-content/uploads/2017/01/fete-de-carnaval.png
END:VEVENT
BEGIN:VEVENT
DTSTART;TZID=Europe/Paris:20170303T200000
DTEND;TZID=Europe/Paris:20170303T200000
DTSTAMP:20260424T152147
CREATED:20170105T153355Z
LAST-MODIFIED:20170222T103512Z
UID:31249-1488571200-1488571200@www.ville-lunion.fr
SUMMARY:Théâtre : l'apprenti
DESCRIPTION:Texte de Daniel Keene -Traduction Séverine Magois\nUne création de la compagnie Tabula Rasa\nTout public à partir de 8 ans\nDurée 1h10\nMise en scène : Sébastien Bournac\nAvec : François-Xavier Borrel et Laurent Pérez \nProduction : compagnie Tabula Rasa.\nCoproduction : Scène Nationale d’Albi \n\n					Plein tarif : 10€ / Tarif réduit : 6€ Billets en vente en mairie\, Festik et réseau Ticketnet.\nQuel gosse n’a pas un jour rêvé de remplacer ses parents parce qu’il estime que les siens ne sont pas assez bien ?\n L’Apprenti est l’histoire farfelue d’une rencontre entre un jeune garçon et un homme. Julien\, gamin culotté et impertinent à la recherche d’un père idéal\, déboule dans la sphère privée de Pascal\, la quarantaine solitaire\, grand amateur de mots croisés…\n Loin des clichés habituels sur les pères et les fils\, Daniel Keene s’attache avec légèreté et délicatesse à décrire la naissance et l’évolution sur une année entière d’une intimité particulière.\n Cette fable simple et heureuse pourrait bien être une définition de l’amour.
URL:https://www.ville-lunion.fr/evenement/theatre-lapprenti/
LOCATION:Grande Halle de l’Union\, Rue du Somport\, L'Union\, 31240\, France
CATEGORIES:Spectacles
ATTACH;FMTTYPE=image/jpeg:https://www.ville-lunion.fr/wp-content/uploads/2017/01/affiche.jpg
ORGANIZER;CN="Mairie%2C service billeterie":MAILTO:cca@mairie-lunion.fr
END:VEVENT
BEGIN:VEVENT
DTSTART;TZID=Europe/Paris:20170304T203000
DTEND;TZID=Europe/Paris:20170304T203000
DTSTAMP:20260424T152147
CREATED:20170117T110509Z
LAST-MODIFIED:20170117T111351Z
UID:31315-1488659400-1488659400@www.ville-lunion.fr
SUMMARY:BERNARD WERBER : "Histoires Extraordinaires Expériences Amusantes"
DESCRIPTION:Bernard Werber\, auteur notamment de la saga des « Fourmis »  (plus de 20 millions d’exemplaires vendus)\, monte sur scène pour un exercice inédit : un spectacle dans lequel il est seul face au public\, dans la peau d’un conteur. Mais pas seulement.Des histoires extraordinaires qui lui sont en fait réellement arrivées et qui lui servent de prétexte à nous éclairer sur les prises de conscience qu’elles ont opéré en lui et l’influence qu’elles ont sur son cheminement (l’importance de l’esprit sur le corps\, l’accomplissement personnel\, sortir de sa zone de confort\, le pouvoir des mots sur les maux\, les bienfaits du yoga et de la méditation de la pleine conscience…).\n \n Charisme\, forte présence scénique\, humour savoureux ! \n Bernard WERBER emporte les spectateurs sur des chemins aussi divers que fascinants et ajoute à ces contes des expériences humaines amusantes : hypnose de la salle\, projection mentale\, exaltation des sens. \n Un moment de partage très intense. \n\n					TARIF PLEIN : 23\,00€ + frais de location TARIF REDUIT : 20\,00€ + frais de location (Groupes\, CE\, Etudiant\, chômeur\, +60ans\, Rmistes) TARIF GUICHET SOIR : 25.00€\n Vente en ligne : www.abctalk.fr (Rubrique Bernard WERBER) et réseaux de vente habituels
URL:https://www.ville-lunion.fr/evenement/bernard-werber-histoires-extraordinaires-experiences-amusantes/
LOCATION:Grande Halle de l’Union\, Rue du Somport\, L'Union\, 31240\, France
CATEGORIES:Spectacles
ATTACH;FMTTYPE=image/jpeg:https://www.ville-lunion.fr/wp-content/uploads/2017/01/weber.jpg
ORGANIZER;CN="Mairie service Communication%2C Culture%2C Animation.":MAILTO:cca@mairie-lunion.fr
END:VEVENT
BEGIN:VEVENT
DTSTART;TZID=Europe/Paris:20170309T090000
DTEND;TZID=Europe/Paris:20170309T130000
DTSTAMP:20260424T152147
CREATED:20170202T134100Z
LAST-MODIFIED:20170202T134406Z
UID:31407-1489050000-1489064400@www.ville-lunion.fr
SUMMARY:L’UNION POUR L’EMPLOI - Forum de Recrutement
DESCRIPTION:Pour vous préparer à ce forum\, la commune vous propose les 6\, 7 et 8 mars des ateliers pour :\n• Optimiser votre CV\n• Préparer un entretien d’embauche\nPour vous inscrire\, contactez la Maison de l’Action Sociale et de l’Emploi au 9 rue du Vignemale 05 62 79 86 17
URL:https://www.ville-lunion.fr/evenement/lunion-lemploi-forum-de-recrutement/
LOCATION:Grande Halle de l’Union\, Rue du Somport\, L'Union\, 31240\, France
CATEGORIES:Manifestations
ATTACH;FMTTYPE=image/jpeg:https://www.ville-lunion.fr/wp-content/uploads/2017/02/forum.jpg
END:VEVENT
BEGIN:VEVENT
DTSTART;TZID=Europe/Paris:20170309T100000
DTEND;TZID=Europe/Paris:20170309T120000
DTSTAMP:20260424T152147
CREATED:20170202T144924Z
LAST-MODIFIED:20170202T144924Z
UID:31430-1489053600-1489060800@www.ville-lunion.fr
SUMMARY:conférence AAPU - Yves Klein\, du bleu et des poudres
DESCRIPTION:Auditorium \nOuvert à tous\, entrée 8 euros pour les non-inscrits à l’histoire de l’Art.
URL:https://www.ville-lunion.fr/evenement/conference-aapu-yves-klein-bleu-poudres/
LOCATION:Salle des fêtes de L’Union\, 6 Avenue des Pyrénées\, L'Union\, 31240\, France
CATEGORIES:Associations
ATTACH;FMTTYPE=image/jpeg:https://www.ville-lunion.fr/wp-content/uploads/2017/02/klein.jpg
END:VEVENT
BEGIN:VEVENT
DTSTART;TZID=Europe/Paris:20170309T140000
DTEND;TZID=Europe/Paris:20170309T170000
DTSTAMP:20260424T152147
CREATED:20170227T162407Z
LAST-MODIFIED:20170227T162407Z
UID:31598-1489068000-1489078800@www.ville-lunion.fr
SUMMARY:Conférence sur le sport adapté
DESCRIPTION:Dans le cadre du programme « Bien vieillir à L’Union\, la Mairie de L’Union vous invite à une conférence sur le sport adapté le jeudi 9 mars à 14h à la Salle des Fêtes. \nPOUR QUI ?\nLes seniors autonomes de plus de 60 ans résidant à leur domicile \nPOUR QUOI ?\nPour faire découvrir les bienfaits de l’activité physique adaptée : amélioration des capacités physiques\, amélioration des gestes du quotidien\, amélioration de la qualité de vie et poursuite d’activités physiques dans le temps. \nA l’issue de cette conférence\, vous aurez la possibilité de vous inscrire à 1 programme gratuit au choix :\n• 2 ateliers à votre domicile (activités physiques adaptées et nutrition)\n• 20 séances collectives d’activités physiques adaptées\, le vendredi à la Maison des Sports\, entre mars et juin : gymnastique douce\, équilibre\, parcours cardio training\,\naquagym\, balnéo\, gestion du stress\, jeux d’adresse….1ère séance le 17 mars.
URL:https://www.ville-lunion.fr/evenement/conference-sport-adapte/
LOCATION:Salle des fêtes de L’Union\, 6 Avenue des Pyrénées\, L'Union\, 31240\, France
CATEGORIES:Sport
ATTACH;FMTTYPE=image/jpeg:https://www.ville-lunion.fr/wp-content/uploads/2017/02/sport-1.jpg
END:VEVENT
BEGIN:VEVENT
DTSTART;TZID=Europe/Paris:20170310T203000
DTEND;TZID=Europe/Paris:20170310T203000
DTSTAMP:20260424T152147
CREATED:20170104T112101Z
LAST-MODIFIED:20170228T150322Z
UID:31220-1489177800-1489177800@www.ville-lunion.fr
SUMMARY:Conférence Neptunion
DESCRIPTION:Seront abordés les thèmes suivants :  \n\nChangement climatique\nConstat\, projections et enjeux\nQuelles sont les évolutions climatiques récentes ?\nQuelles sont les projections de l’évolution du climat ?\nQuelle est la part de l’action de l’homme et celle de la variabilité climatique ? \n\navec M. David Salas y Melia\, Ingénieur – Climatologue au Centre National de Recherches Météorologiques de Toulouse (Météo-France / CNRS)\n& Amélie PROUST Chargée de communication au sein de la Direction de la Communication de CLS (Collecte Localisation Satellite\, filiale du CNES \n 
URL:https://www.ville-lunion.fr/evenement/conference-neptunion/
LOCATION:Salle des fêtes de L’Union\, 6 Avenue des Pyrénées\, L'Union\, 31240\, France
CATEGORIES:Associations
ATTACH;FMTTYPE=image/jpeg:https://www.ville-lunion.fr/wp-content/uploads/2017/01/climat.jpg
END:VEVENT
BEGIN:VEVENT
DTSTART;TZID=Europe/Paris:20170310T210000
DTEND;TZID=Europe/Paris:20170310T210000
DTSTAMP:20260424T152147
CREATED:20170307T091249Z
LAST-MODIFIED:20170307T091430Z
UID:31688-1489179600-1489179600@www.ville-lunion.fr
SUMMARY:Loto association un Maillot pour la Vie
DESCRIPTION:Loto un maillot pour la vie. \ndébut des partie 21h \nnombreux lots
URL:https://www.ville-lunion.fr/evenement/loto-association-maillot-vie/
LOCATION:Grande Halle de l’Union\, Rue du Somport\, L'Union\, 31240\, France
CATEGORIES:Associations
ATTACH;FMTTYPE=image/jpeg:https://www.ville-lunion.fr/wp-content/uploads/2017/03/LUNION.jpg
END:VEVENT
BEGIN:VEVENT
DTSTART;VALUE=DATE:20170312
DTEND;VALUE=DATE:20170313
DTSTAMP:20260424T152147
CREATED:20170201T102158Z
LAST-MODIFIED:20170202T133247Z
UID:31363-1489276800-1489363199@www.ville-lunion.fr
SUMMARY:Vide grenier de printemps.
DESCRIPTION:L’Union festivités organise son 2ème vide grenier de printemps. \nIl est ouvert exclusivement aux particuliers. \nLes inscriptions se feront dans l’ancienne salle du conseil (sous la mairie) le samedi 25 février à partir de 9h par ordre d’arrivée et dans la limite des places\ndisponibles.\n15 € l’emplacement de 3 mètres linéaires (dans la limite d’un par dossier) \nSeuls les dossiers déposés complets seront enregistrés.\nPièces à fournir :\n• Copie recto verso d’une pièce d’identité\n• Bulletin d’inscription à remplir sur place\n• Règlement par espèce ou par chèque à l’ordre de L’Union Festivités \nAucune inscription ne sera prise en dehors de ces permanence\, ni par courrier\, ni auprès de la mairie. \nBuvette et restauration seront proposées sur place.
URL:https://www.ville-lunion.fr/evenement/vide-grenier-de-printemps/
LOCATION:Grande Halle de l’Union\, Rue du Somport\, L'Union\, 31240\, France
CATEGORIES:Associations
ATTACH;FMTTYPE=image/jpeg:https://www.ville-lunion.fr/wp-content/uploads/2017/02/VG.jpg
END:VEVENT
BEGIN:VEVENT
DTSTART;TZID=Europe/Paris:20170313T203000
DTEND;TZID=Europe/Paris:20170313T203000
DTSTAMP:20260424T152147
CREATED:20170228T173706Z
LAST-MODIFIED:20170228T173706Z
UID:31639-1489437000-1489437000@www.ville-lunion.fr
SUMMARY:CINÉ - DÉBAT La Buena Vida
DESCRIPTION:(Colombie\, Allemagne\, Suisse) Grand Prix 2016 du Festival FReDD de Toulouse \nEn Colombie les sociétés occidentales propriétaires d’une immense mine de charbon à ciel ouvert ont décidé de l’agrandir encore et se heurtent à la résistance farouche de la tribu des Wayuu\, habitants d’un village voisin\, adeptes d’une vie simple et proche de la nature et bien déterminés à ne pas se laisser expulser malgré l’attribution de maisons modernes qui leur sont proposées….. Confrontation de modes de vie radicalement différents.\nLa projection sera suivie d’un débat avec Yves ARDOUREL\, Président de l’Association toulousaine FReDD (Film\,Recherche et Développement Durable) et chercheur à l’Université Montaigne de Bordeaux. \n 
URL:https://www.ville-lunion.fr/evenement/cine-debat-buena-vida/
LOCATION:Le Lumière\, 6 Rue du Pic du Midi\, L'Union\, 31240\, France
CATEGORIES:Cinéma
ATTACH;FMTTYPE=image/jpeg:https://www.ville-lunion.fr/wp-content/uploads/2017/02/buena-vida.jpg
END:VEVENT
BEGIN:VEVENT
DTSTART;VALUE=DATE:20170316
DTEND;VALUE=DATE:20170402
DTSTAMP:20260424T152147
CREATED:20170210T145527Z
LAST-MODIFIED:20170307T102845Z
UID:31433-1489622400-1491091199@www.ville-lunion.fr
SUMMARY:exposition "acrylique abstrait"
DESCRIPTION:Vernissage jeudi 16 Mars à 18h30
URL:https://www.ville-lunion.fr/evenement/exposition-acrylique-abstrait/
LOCATION:Bibliothèque de L’Union\, 6 Avenue de Toulouse\, 31240
CATEGORIES:Associations
ATTACH;FMTTYPE=image/jpeg:https://www.ville-lunion.fr/wp-content/uploads/2016/12/arton156.jpg
END:VEVENT
BEGIN:VEVENT
DTSTART;VALUE=DATE:20170318
DTEND;VALUE=DATE:20170320
DTSTAMP:20260424T152147
CREATED:20170228T152254Z
LAST-MODIFIED:20170228T152301Z
UID:31623-1489795200-1489967999@www.ville-lunion.fr
SUMMARY:SALON DU LIVRE ANCIEN ET DU LIVRE PYRÉNÉEN
DESCRIPTION:Pour cette deuxième édition du Salon du livre ancien et du livre Pyrénéen seront présent 27 libraires en anciens et modernes venus de la France\nentière\, deux relieurs ainsi que cinq éditeurs pyrénéistes avec leurs auteurs qui dédicaceront leurs ouvrages. Le Musée du livre de Montolieu\nsera représenté par Lucille Gesta\, calligraphe et Laurent Mallard\, caricaturiste. L’association Union Reliure présentera ses plus belles\nreliures. \nLe samedi 18 mars à 15h Monsieur Michel Pérez libraire vous initiera à la bibliophilie ancienne et moderne. Le dimanche 19 mars à 15h l’Association\n« Air de rien » vous fera la lecture de la nouvelle « Numéro 11 » dont le sujet est le petit train qui reliait Castres à Murat dans les Monts de Lacaune. \nLe Vendredi : le salon réserve son accueil aux écoles de L’Union. \nL’association Union Reliure sera présente sur le salon (Stand de démonstration des techniques de réparation et de mise en valeur des livres). Ses membres accueilleront le\nvendredi après-midi les écoliers de L’Union.
URL:https://www.ville-lunion.fr/evenement/salon-livre-ancien-livre-pyreneen/
LOCATION:Grande Halle de l’Union\, Rue du Somport\, L'Union\, 31240\, France
CATEGORIES:Manifestations
ATTACH;FMTTYPE=image/jpeg:https://www.ville-lunion.fr/wp-content/uploads/2017/02/salon-du-livre.jpg
END:VEVENT
BEGIN:VEVENT
DTSTART;TZID=Europe/Paris:20170318T103000
DTEND;TZID=Europe/Paris:20170318T103000
DTSTAMP:20260424T152147
CREATED:20170202T160818Z
LAST-MODIFIED:20170223T153730Z
UID:31441-1489833000-1489833000@www.ville-lunion.fr
SUMMARY:Commémoration
DESCRIPTION:Commémoration journée nationale du souvenir et de recueillement en mémoire des victimes civiles et militaires de la guerre d’Algérie et des combats en Tunisie et au Maroc \nRassemblement devant le monument aux morts
URL:https://www.ville-lunion.fr/evenement/commemoration-19-mars/
LOCATION:Parvis du collège\, 9 bis avenue des Pyrénées\, l'union\, 31240
CATEGORIES:Manifestations
ATTACH;FMTTYPE=image/jpeg:https://www.ville-lunion.fr/wp-content/uploads/2017/02/commemoration-e1650990052556.jpg
END:VEVENT
BEGIN:VEVENT
DTSTART;TZID=Europe/Paris:20170318T180000
DTEND;TZID=Europe/Paris:20170318T180000
DTSTAMP:20260424T152147
CREATED:20170104T112410Z
LAST-MODIFIED:20170301T113458Z
UID:31223-1489860000-1489860000@www.ville-lunion.fr
SUMMARY:Concert Ecole de Musique
DESCRIPTION:L’Ecole de musique de L’Union poursuit sa série de concerts à la Salle des Fêtes. \nAu programme ce soir en vedettes : le BIG BAND de l’école\, créé récemment pour répondre aux demandes de plus en plus nombreuses des musiciens de l’école de jouer dans une formation de jazz. \nIls ont concocté un programme de Jazz classique\, spécialement écrit pour Big Band et accompagneront les chanteurs de la classe de Chant Actuel qui présentera son travail débuté et peaufiné depuis la rentrée de septembre.\nDe nombreux invités complèteront ce programme alléchant\, pour tous les âges et tous les gouts. \nEt comme toujours\, l’entrée est gratuite ce samedi 18 mars à 18h30 à la Salle des Fêtes à L’Union.
URL:https://www.ville-lunion.fr/evenement/concert-ecole-de-musique/
LOCATION:Salle des fêtes de L’Union\, 6 Avenue des Pyrénées\, L'Union\, 31240\, France
CATEGORIES:Associations
ATTACH;FMTTYPE=image/jpeg:https://www.ville-lunion.fr/wp-content/uploads/2017/01/affiche-big-band.jpg
END:VEVENT
BEGIN:VEVENT
DTSTART;VALUE=DATE:20170320
DTEND;VALUE=DATE:20170331
DTSTAMP:20260424T152147
CREATED:20170202T152912Z
LAST-MODIFIED:20170323T104724Z
UID:31438-1489968000-1490918399@www.ville-lunion.fr
SUMMARY:exposition « Dire Non à la haine »
DESCRIPTION:Dans le cadre de La Semaine d’éducation contre le racisme et l’antisémitisme la MJC en partenariat avec la municipalité propose du 20 au 30 mars à la salle des fêtes\nune exposition intitulée « non à la haine » en direction des jeunes mais aussi des adultes.\nCes 10 jours d’exposition seront émaillés d’événements (concerts\, lectures théâtralisées\, film et débats). \nL’exposition « Non à la haine »\nElle est composée de dix modules interactifs (panneaux\, Internet\, tablettes) et donne des clés de lecture associés à des temps de débats : pour ou contre\, le dessous des images\, mieux connaître nos médias\, frise historique\,…\nÀ travers cet outil\, l’idée est de créer un moment d’échange\, de dialogue et de prévention sur le thème du regard croisé et de la tolérance\, en amenant à comprendre et maîtriser les outils de communication. \nCela passe par plusieurs phases :\n• proposer des initiations aux regards critiques.\n• sensibiliser à la prévention de lecture d’images et à l’utilisation des médias.\n• aborder des univers d’expressions diverses\, en mettant en avant leurs aspects positifs et leurs pouvoirs communicants. \nVisite de l’exposition\nA destination des scolaires\, l’exposition sera présentée à tous les élèves de 4° et 3° du Collège G.Chaumeton de L’Union sur le temps scolaire\nVisite libre tout public du 20 au 29 mars.\nEn semaine de 17h à 20h\nOuverture le week end : Samedi 25 de 14h à 18h\nDimanche 26 de 10h à 13h.\nPossibilité de Visite interactive et commentée gratuite sur réservation au 05 61 74 75 75\nou direction@mjclunion.com \nTEMPS FORTS\n• Tombola organisée pour gagner des places de cinéma gratuites (12 hommes en colère • séance du 27 mars) \n• Lundi 20 Mars 2017 à 19h : Inauguration de l’Exposition à la Salle des Fêtes Démonstration de Hip-Hop des adhérents de la MJC de L’Union\nConcert du Groupe Pan’Gaya ( traduction : « toute la terre ») : musique participative qui véhicule des valeurs de partage\, d’entraide et de solidarité. Musique acoustique qui crée la proximité avec le public. \n• Mercredi 22 Mars à 19h : Café-Citoyen à la Salle des Fêtes pour tous. Thème : « Contre la haine : Liberté\, Egalité\, Fraternité ? »\nanimé par Thomas Brun de l’association la Nouvelle Arcadie \n• Samedi 25 mars à partir de 15h : à la salle des fêtes Lecture théâtralisée à plusieurs voix. 7 comédiens amateurs appartenant à 7 troupes affiliées à la FNCTA liront des extraits de pièces de théâtre en lien avec la thématique de l’exposition –  en direction d’un public adulte et jeunes \n• Lundi 27 Mars à 20h30 : projection « 12 hommes en Colère »\nau Cinéma Le Lumière . Film suivi d’un débat avec la salle. Tarif à 4€\nUSA – 1957 – de Sidney LUMET – 1h35 : Un jeune homme d’origine modeste est accusé du meurtre de son père et risque la peine de mort. Le jury composé de douze\nhommes se retire pour délibérer et procède immédiatement à un vote : onze votent coupable\, or la décision doit être prise à l’unanimité. Le juré qui a voté non-coupable\,\nsommé de se justifier\, explique qu’il a un doute et que la vie d’un homme mérite quelques heures de discussion. Il s’emploie alors à les convaincre un par un. \nPARTENAIRES\nMJC de L’Union\, Mairie de L’Union\, Fédération régionale des MJC Midi-Pyrénées\, Confédération Nationale des MJC de France\, Collège de L’Union\, Nouvelle ARCADIE\nd’Albi\, Cinéma Le Lumière de L’Union\, La troupe « l’oiseau Moqueur » et la FNCTA
URL:https://www.ville-lunion.fr/evenement/exposition-dire-non-a-haine/
LOCATION:Salle des fêtes de L’Union\, 6 Avenue des Pyrénées\, L'Union\, 31240\, France
CATEGORIES:Associations,Manifestations
ATTACH;FMTTYPE=image/jpeg:https://www.ville-lunion.fr/wp-content/uploads/2017/02/non-a-la-haine.jpg
END:VEVENT
BEGIN:VEVENT
DTSTART;TZID=Europe/Paris:20170320T080000
DTEND;TZID=Europe/Paris:20170320T170000
DTSTAMP:20260424T152147
CREATED:20170301T103901Z
LAST-MODIFIED:20170301T103901Z
UID:31642-1489996800-1490029200@www.ville-lunion.fr
SUMMARY:LE FESTIVAL ICARE AU LUMIÈRE
DESCRIPTION:FESTIVAL INTERNATIONAL DU FILM DE VOL LIBRE ET DES SPORTS AÉRIENS\nCe festival rassemble des productions cinématographiques variées autour des thèmes de l’air\, du vent\, du vol et de tous les sports aériens tels que parapente\, delta\, chute libre\, montgolfière\, planeur\, élastique\, base jump\, cerf-volant\, boomerang… Depuis 3 ans\, le cinéma « le Lumière » propose une projection « hors les murs » de certains films primés.
URL:https://www.ville-lunion.fr/evenement/festival-icare-lumiere/
CATEGORIES:Cinéma
END:VEVENT
BEGIN:VEVENT
DTSTART;VALUE=DATE:20170325
DTEND;VALUE=DATE:20170327
DTSTAMP:20260424T152147
CREATED:20170216T111312Z
LAST-MODIFIED:20170323T105518Z
UID:31534-1490400000-1490572799@www.ville-lunion.fr
SUMMARY:2017 en fleurs
DESCRIPTION:Comme chaque année\, le BONSAÏ CLUB UNIONAIS organise dans le parc de Château de MALPAGAT\, l’exposition de plantes et arbustes par des producteurs\, le samedi 25 de 10 h à 18 h et le dimanche 26 mars 2017 de 9 h à 18 h. Des animations sont prévues par certains exposants samedi et dimanche. \nL’entrée est gratuite. Restauration sur place. Venez nombreux ! \nContact : presidente@bonsai-unionais.fr
URL:https://www.ville-lunion.fr/evenement/2017-en-fleurs/
LOCATION:Parc de Malpagat\, L'UNION\, 31240
CATEGORIES:Associations
ATTACH;FMTTYPE=image/jpeg:https://www.ville-lunion.fr/wp-content/uploads/2017/02/2017-en-fleurs.jpg
END:VEVENT
BEGIN:VEVENT
DTSTART;VALUE=DATE:20170325
DTEND;VALUE=DATE:20170327
DTSTAMP:20260424T152147
CREATED:20170216T111640Z
LAST-MODIFIED:20170323T105443Z
UID:31537-1490400000-1490572799@www.ville-lunion.fr
SUMMARY:Salon du Modélisme et de la Maquette
DESCRIPTION:Le Salon du Modélisme et de la Maquette aura lieu les 25 et 26 mars 2017 à la Grande Halle. Il y aura des animations pour les enfants\, des évolutions de bateaux sur un bassin intérieur de 100m2\, un simulateur d’avions modèles réduits ainsi que des démonstrations de camions et engins de terrassement. De nombreux clubs régionaux et limitrophes exposeront leurs maquettes et modèles : avions\, bateaux\, drones\, trains miniatures\, dioramas\, LEGO\, architecture\, figurines\, wargames… Entrée adulte 4 euros\, gratuite aux moins de 10 ans accompagnés. Renseignements www.amu31.com.
URL:https://www.ville-lunion.fr/evenement/salon-modelisme-de-maquette/
LOCATION:Grande Halle de l’Union\, Rue du Somport\, L'Union\, 31240\, France
CATEGORIES:Associations
ATTACH;FMTTYPE=image/jpeg:https://www.ville-lunion.fr/wp-content/uploads/2017/02/amu.jpg
END:VEVENT
BEGIN:VEVENT
DTSTART;TZID=Europe/Paris:20170329T183000
DTEND;TZID=Europe/Paris:20170329T183000
DTSTAMP:20260424T152147
CREATED:20170201T143427Z
LAST-MODIFIED:20170324T150133Z
UID:31604-1490812200-1490812200@www.ville-lunion.fr
SUMMARY:Conseil Municipal
DESCRIPTION:Il sera précédé de la 2ème partie de la présentation du Plan Local de Déplacement (PLD). \nOrdre du Jour \n Désignation d’un secrétaire de séance \n\nInformations du Maire\n\n\n Adoption du Procès-verbal 2017-02 du 22 février 2017\n\n\nFinances Communales\n\n3.1.  Demande de subvention à la Fédération Française de Football\, au titre du Fonds d’Aide au Football Amateur\, pour l’opération de construction d’une salle de réception (Club House) et de locaux techniques aux vestiaires de football du stade de Saint-Caprais. \n3.2. Association sportive de L’Union. Perte de créance. \n3.3.  Renouvellement de la composition de la Commission d’Appel d’Offres à caractère permanent. \n3.4. Réhabilitation de la piscine municipale de la ville de L’Union – Concours restreint de Maîtrise d’Œuvre sur esquisse– Composition du Jury- Désignation des personnalités qualifiées. \n3.5. Modification de la composition de la Commission municipale « Finances et Budget ». \n3.6. Admission en non-valeur. \n3.7. Indemnités de fonction des élus – Modification de la délibération 2016-73 du Conseil Municipal du 6 juillet 2016. \n3.8. Taux des impôts communaux 2017. \n3.9. Budget Primitif 2017. \n\nVie scolaire \n\n4.1. Modification des circuits de transports scolaires. \n\nRessources Humaines \n\n5.1.  Modification du tableau des effectifs. \n5.2. Modification du régime indemnitaire de la filière médico-sociale. \n\n Arrêtés du Maire\n\n\nQuestions diverses
URL:https://www.ville-lunion.fr/evenement/conseil-municipal-4/
LOCATION:Salle des fêtes de L’Union\, 6 Avenue des Pyrénées\, L'Union\, 31240\, France
CATEGORIES:Mairie
ATTACH;FMTTYPE=image/jpeg:https://www.ville-lunion.fr/wp-content/uploads/2016/12/mairie-8d61f.jpg
END:VEVENT
END:VCALENDAR