BEGIN:VCALENDAR
VERSION:2.0
PRODID:-//Ville de L&#039;Union - ECPv6.15.13//NONSGML v1.0//EN
CALSCALE:GREGORIAN
METHOD:PUBLISH
X-ORIGINAL-URL:https://www.ville-lunion.fr
X-WR-CALDESC:Évènements pour Ville de L&#039;Union
REFRESH-INTERVAL;VALUE=DURATION:PT1H
X-Robots-Tag:noindex
X-PUBLISHED-TTL:PT1H
BEGIN:VTIMEZONE
TZID:Europe/Paris
BEGIN:DAYLIGHT
TZOFFSETFROM:+0100
TZOFFSETTO:+0200
TZNAME:CEST
DTSTART:20160327T010000
END:DAYLIGHT
BEGIN:STANDARD
TZOFFSETFROM:+0200
TZOFFSETTO:+0100
TZNAME:CET
DTSTART:20161030T010000
END:STANDARD
BEGIN:DAYLIGHT
TZOFFSETFROM:+0100
TZOFFSETTO:+0200
TZNAME:CEST
DTSTART:20170326T010000
END:DAYLIGHT
BEGIN:STANDARD
TZOFFSETFROM:+0200
TZOFFSETTO:+0100
TZNAME:CET
DTSTART:20171029T010000
END:STANDARD
BEGIN:DAYLIGHT
TZOFFSETFROM:+0100
TZOFFSETTO:+0200
TZNAME:CEST
DTSTART:20180325T010000
END:DAYLIGHT
BEGIN:STANDARD
TZOFFSETFROM:+0200
TZOFFSETTO:+0100
TZNAME:CET
DTSTART:20181028T010000
END:STANDARD
END:VTIMEZONE
BEGIN:VEVENT
DTSTART;TZID=Europe/Paris:20170126T183000
DTEND;TZID=Europe/Paris:20170126T183000
DTSTAMP:20260424T182011
CREATED:20161221T104229Z
LAST-MODIFIED:20161221T114639Z
UID:30927-1485455400-1485455400@www.ville-lunion.fr
SUMMARY:Remise de chèque du Téléthon
DESCRIPTION:Remise de chèque  du Téléthon le 26 janvier à 18h30
URL:https://www.ville-lunion.fr/evenement/remise-de-cheque-telethon/
LOCATION:Foyer de la Grande Halle de l’Union\, Rue du Somport\, 31240
CATEGORIES:Associations
ATTACH;FMTTYPE=image/jpeg:https://www.ville-lunion.fr/wp-content/uploads/2016/12/telethon-e1482320777840.jpg
END:VEVENT
BEGIN:VEVENT
DTSTART;TZID=Europe/Paris:20170126T183000
DTEND;TZID=Europe/Paris:20170211T183000
DTSTAMP:20260424T182011
CREATED:20161221T105413Z
LAST-MODIFIED:20161221T105539Z
UID:30938-1485455400-1486837800@www.ville-lunion.fr
SUMMARY:Exposition A.A.P.U
DESCRIPTION:AAPU organise une exposition à la bibliothèque « Plaisir de Lire » avec atelier : peinture chinoise\, calligraphie. Animation\, démonstrations par Mme LAO professeur le 28 janvier. \nVernissage le jeudi 26 janvier. \nEntrée Libre
URL:https://www.ville-lunion.fr/evenement/30938/
LOCATION:Bibliothèque de L’Union\, 6 Avenue de Toulouse\, 31240
CATEGORIES:Associations
ATTACH;FMTTYPE=image/jpeg:https://www.ville-lunion.fr/wp-content/uploads/2016/12/arton156.jpg
ORGANIZER;CN="A.A.P.U":MAILTO:arts.plastiques.lunion@gmail.com
END:VEVENT
BEGIN:VEVENT
DTSTART;TZID=Europe/Paris:20170129T153000
DTEND;TZID=Europe/Paris:20170129T153000
DTSTAMP:20260424T182011
CREATED:20161208T135154Z
LAST-MODIFIED:20161208T135326Z
UID:29105-1485703800-1485703800@www.ville-lunion.fr
SUMMARY:Concert Viennois Dansant
DESCRIPTION:La mairie de L’Union vous propose un Concert dansant\, à la viennoise\, avec des valses\njouées en direct par un orchestre symphonique\, l’Orchestre de l’Université de Toulouse.\nLors du concert\, L’Union Festivités vous proposera\, si vous le souhaitez\, un goûter constitué d’une boisson chaude\n(thé\, café\, chocolat) et d’un biscuit au tarif d’1\,50 ou 2€\, pendant que le public pourra valser sur la piste de danse. \nRenseignements\, réservations : 05 62 89 22 87 \nou achat en ligne sur : https://out-toulouse.festik.net
URL:https://www.ville-lunion.fr/evenement/concert-viennois-dansant/
LOCATION:Grande Halle de l’Union\, Rue du Somport\, L'Union\, 31240\, France
CATEGORIES:Spectacles
ATTACH;FMTTYPE=image/jpeg:https://www.ville-lunion.fr/wp-content/uploads/2016/12/capture-14-55fe0.jpg
ORGANIZER;CN="Mairie%2C service billeterie":MAILTO:cca@mairie-lunion.fr
END:VEVENT
END:VCALENDAR