BEGIN:VCALENDAR
VERSION:2.0
PRODID:-//Ville de L&#039;Union - ECPv6.15.13//NONSGML v1.0//EN
CALSCALE:GREGORIAN
METHOD:PUBLISH
X-WR-CALNAME:Ville de L&#039;Union
X-ORIGINAL-URL:https://www.ville-lunion.fr
X-WR-CALDESC:Évènements pour Ville de L&#039;Union
REFRESH-INTERVAL;VALUE=DURATION:PT1H
X-Robots-Tag:noindex
X-PUBLISHED-TTL:PT1H
BEGIN:VTIMEZONE
TZID:Europe/Paris
BEGIN:DAYLIGHT
TZOFFSETFROM:+0100
TZOFFSETTO:+0200
TZNAME:CEST
DTSTART:20250330T010000
END:DAYLIGHT
BEGIN:STANDARD
TZOFFSETFROM:+0200
TZOFFSETTO:+0100
TZNAME:CET
DTSTART:20251026T010000
END:STANDARD
BEGIN:DAYLIGHT
TZOFFSETFROM:+0100
TZOFFSETTO:+0200
TZNAME:CEST
DTSTART:20260329T010000
END:DAYLIGHT
BEGIN:STANDARD
TZOFFSETFROM:+0200
TZOFFSETTO:+0100
TZNAME:CET
DTSTART:20261025T010000
END:STANDARD
BEGIN:DAYLIGHT
TZOFFSETFROM:+0100
TZOFFSETTO:+0200
TZNAME:CEST
DTSTART:20270328T010000
END:DAYLIGHT
BEGIN:STANDARD
TZOFFSETFROM:+0200
TZOFFSETTO:+0100
TZNAME:CET
DTSTART:20271031T010000
END:STANDARD
END:VTIMEZONE
BEGIN:VEVENT
DTSTART;TZID=Europe/Paris:20260116T080000
DTEND;TZID=Europe/Paris:20260430T170000
DTSTAMP:20260420T012343
CREATED:20260116T154200Z
LAST-MODIFIED:20260116T154200Z
UID:66952-1768550400-1777568400@www.ville-lunion.fr
SUMMARY:LA POÉSIE S’EXPOSE AU PARC MALPAGAT
DESCRIPTION:De janvier à avril\, le parc Malpagat accueille une exposition mettant en lumière la créativité des enfants de L’Union à travers les poèmes qu’ils ont produit sur les thèmes de la liberté\, de la tolérance\, de l’accueil et de la fraternité. \nInstallées en plein air\, leurs créations invitent les visiteurs à ralentir\, à regarder autrement et à se laisser toucher par le regard que portent les plus\njeunes sur le monde\, et de se laisser inspirer par leur imaginaire.
URL:https://www.ville-lunion.fr/evenement/la-poesie-sexpose-au-parc-malpagat/
END:VEVENT
BEGIN:VEVENT
DTSTART;TZID=Europe/Paris:20260420T000000
DTEND;TZID=Europe/Paris:20260501T000000
DTSTAMP:20260420T012343
CREATED:20260410T135803Z
LAST-MODIFIED:20260410T140202Z
UID:67881-1776643200-1777593600@www.ville-lunion.fr
SUMMARY:Programme de la Maison des Familles
DESCRIPTION:Le programme de la Maison des Familles pour les vacances d’avril\, placées sous le thème du printemps🌷🌸. \n⚠️ Nouveauté : l’après-midi goûter se fait désormais sur inscription. Si vous souhaitez vous y inscrire\, flashez le QR code ou envoyez-nous un e-mail en indiquant le nombre de personnes. \nVous trouverez plus d’informations sur notre site internet : https://maisondesfamilles.ville-lunion.fr 🌐 ainsi que sur notre page Instagram : @maisondesfamilles_lunion31 📸 \nNous espérons vous retrouver nombreux pour partager ces moments festifs et conviviaux 🎊✨. \nAu plaisir de vous accueillir prochainement à la Maison des Familles 😊
URL:https://www.ville-lunion.fr/evenement/programme-de-la-maison-des-familles-2/
LOCATION:Maison des familles\, 1 bis rue du Pic du Midi\, L'Union\, 31240
CATEGORIES:Mairie
ATTACH;FMTTYPE=image/png:https://www.ville-lunion.fr/wp-content/uploads/2026/04/Programme_vacances_avril_2026.png
END:VEVENT
BEGIN:VEVENT
DTSTART;TZID=Europe/Paris:20260420T140000
DTEND;TZID=Europe/Paris:20260420T163000
DTSTAMP:20260420T012343
CREATED:20260402T132653Z
LAST-MODIFIED:20260402T132653Z
UID:67768-1776693600-1776702600@www.ville-lunion.fr
SUMMARY:Journée mondiale PARKINSON 2026
DESCRIPTION:L’occasion de rappeler que cette maladie\, neuro- évolutive\,  irréversible\, la plus inconnue à ce jour\, des maladies connues\, touche environ 10 millions de personnes à travers le monde (source :OMS) dont 300 000 en France\, plus de 3000 en Haute-Garonne\, et environ 300 au minimum sur Toulouse et sa périphérie. \nAvec une progression de +25% / an et des malades de plus en plus jeunes. Les causes réelles et scientifiquement irréfutables sont encore inconnues. Diverses pistes de recherches internationales sont en cours ainsi que diverses expérimentations. \nLes symptômes sont nombreux et divers. Chaque cas étant un cas particulier. \nEvelyne BARBAZANGES\, unionaise depuis 50 ans\, est à l’organisation de cette journée. \nRdv lundi  20 avril de 14h à 16h30 à TBS Education\, 20 boulevard Lascrosses\, 31000 Toulouse.
URL:https://www.ville-lunion.fr/evenement/journee-mondiale-parkinson-2026/
CATEGORIES:Conférence
ATTACH;FMTTYPE=application/pdf:https://www.ville-lunion.fr/wp-content/uploads/2026/04/Scan.pdf
END:VEVENT
END:VCALENDAR