BEGIN:VCALENDAR
VERSION:2.0
PRODID:-//Ville de L&#039;Union - ECPv6.15.13//NONSGML v1.0//EN
CALSCALE:GREGORIAN
METHOD:PUBLISH
X-WR-CALNAME:Ville de L&#039;Union
X-ORIGINAL-URL:https://www.ville-lunion.fr
X-WR-CALDESC:Évènements pour Ville de L&#039;Union
REFRESH-INTERVAL;VALUE=DURATION:PT1H
X-Robots-Tag:noindex
X-PUBLISHED-TTL:PT1H
BEGIN:VTIMEZONE
TZID:Europe/Paris
BEGIN:DAYLIGHT
TZOFFSETFROM:+0100
TZOFFSETTO:+0200
TZNAME:CEST
DTSTART:20230326T010000
END:DAYLIGHT
BEGIN:STANDARD
TZOFFSETFROM:+0200
TZOFFSETTO:+0100
TZNAME:CET
DTSTART:20231029T010000
END:STANDARD
BEGIN:DAYLIGHT
TZOFFSETFROM:+0100
TZOFFSETTO:+0200
TZNAME:CEST
DTSTART:20240331T010000
END:DAYLIGHT
BEGIN:STANDARD
TZOFFSETFROM:+0200
TZOFFSETTO:+0100
TZNAME:CET
DTSTART:20241027T010000
END:STANDARD
BEGIN:DAYLIGHT
TZOFFSETFROM:+0100
TZOFFSETTO:+0200
TZNAME:CEST
DTSTART:20250330T010000
END:DAYLIGHT
BEGIN:STANDARD
TZOFFSETFROM:+0200
TZOFFSETTO:+0100
TZNAME:CET
DTSTART:20251026T010000
END:STANDARD
END:VTIMEZONE
BEGIN:VEVENT
DTSTART;TZID=Europe/Paris:20240117T183000
DTEND;TZID=Europe/Paris:20240117T203000
DTSTAMP:20260422T002119
CREATED:20231219T102924Z
LAST-MODIFIED:20231219T102924Z
UID:58844-1705516200-1705523400@www.ville-lunion.fr
SUMMARY:Cérémonie des vœux aux Unionais
DESCRIPTION:La municipalité vous convie à la cérémonie des vœux 2024 aux Unionais qui aura lieu le mercredi 17 Janvier à 18h30\, à la Grande Halle. \nNous vous attendons nombreux!
URL:https://www.ville-lunion.fr/evenement/ceremonie-des-voeux-aux-unionais-2/
LOCATION:Grande Halle de l’Union\, Rue du Somport\, L'Union\, 31240\, France
CATEGORIES:Mairie
ATTACH;FMTTYPE=image/png:https://www.ville-lunion.fr/wp-content/uploads/2023/12/affiche-voeux-du-maire-2024.png
END:VEVENT
END:VCALENDAR