BEGIN:VCALENDAR
VERSION:2.0
PRODID:-//Ville de L&#039;Union - ECPv6.15.13//NONSGML v1.0//EN
CALSCALE:GREGORIAN
METHOD:PUBLISH
X-ORIGINAL-URL:https://www.ville-lunion.fr
X-WR-CALDESC:Évènements pour Ville de L&#039;Union
REFRESH-INTERVAL;VALUE=DURATION:PT1H
X-Robots-Tag:noindex
X-PUBLISHED-TTL:PT1H
BEGIN:VTIMEZONE
TZID:Europe/Paris
BEGIN:DAYLIGHT
TZOFFSETFROM:+0100
TZOFFSETTO:+0200
TZNAME:CEST
DTSTART:20220327T010000
END:DAYLIGHT
BEGIN:STANDARD
TZOFFSETFROM:+0200
TZOFFSETTO:+0100
TZNAME:CET
DTSTART:20221030T010000
END:STANDARD
BEGIN:DAYLIGHT
TZOFFSETFROM:+0100
TZOFFSETTO:+0200
TZNAME:CEST
DTSTART:20230326T010000
END:DAYLIGHT
BEGIN:STANDARD
TZOFFSETFROM:+0200
TZOFFSETTO:+0100
TZNAME:CET
DTSTART:20231029T010000
END:STANDARD
BEGIN:DAYLIGHT
TZOFFSETFROM:+0100
TZOFFSETTO:+0200
TZNAME:CEST
DTSTART:20240331T010000
END:DAYLIGHT
BEGIN:STANDARD
TZOFFSETFROM:+0200
TZOFFSETTO:+0100
TZNAME:CET
DTSTART:20241027T010000
END:STANDARD
END:VTIMEZONE
BEGIN:VEVENT
DTSTART;TZID=Europe/Paris:20230215T083000
DTEND;TZID=Europe/Paris:20230215T123000
DTSTAMP:20260421T154321
CREATED:20230104T105349Z
LAST-MODIFIED:20230104T111153Z
UID:54708-1676449800-1676464200@www.ville-lunion.fr
SUMMARY:Atelier de préparation au Forum de l'emploi
DESCRIPTION:“Dynamiser votre recherche d’emploi en utilisant un réseau social professionnel” \nLes réseaux sociaux professionnels\, tels que LinkedIn\, se sont imposés comme des ressources incontournables dans les processus de recrutement. \nQue vous soyez à la recherche de votre futur emploi\, en poste mais à l’affut d’une opportunité\, en quête d’une alternance ou d’un stage\, ils vous donnent la possibilité de vous faire remarquer et de vous démarquer. Une conseillère EGEE Occitanie anime un atelier à l’Union le 15 février de 8h30 à 12h 30\, salle de l’Olivier. \nIl vous permettra de mettre en pratique immédiatement les notions abordées. \nSur inscription en contactant la MASE soit par téléphone au 05 62 79 86 15 ou par mail emploi@mairie-lunion.fr
URL:https://www.ville-lunion.fr/evenement/atelier-de-preparation-au-forum-de-lemploi/
LOCATION:Mairie – Salle de l’Olivier\, 6bis avenue des Pyrénées\, L'UNION \, 31240\, France
CATEGORIES:Emploi
ATTACH;FMTTYPE=image/png:https://www.ville-lunion.fr/wp-content/uploads/2023/01/Affiche-FORUM.png
ORGANIZER;CN="MASE":MAILTO:emploi@mairie-lunion.fr
END:VEVENT
BEGIN:VEVENT
DTSTART;TZID=Europe/Paris:20230215T183000
DTEND;TZID=Europe/Paris:20230215T200000
DTSTAMP:20260421T154321
CREATED:20220826T145847Z
LAST-MODIFIED:20221220T143735Z
UID:53261-1676485800-1676491200@www.ville-lunion.fr
SUMMARY:Conseil Municipal du 15 février 2023
DESCRIPTION:Les séances du conseil municipal sont ouvertes au public. La prochaine aura lieu le mercredi 15 février 2023 à 18h30 à la salle des fêtes.\nVous pouvez également suivre la séance en direct sur la page Facebook de la ville de L’Union.
URL:https://www.ville-lunion.fr/evenement/conseil-municipal-du-15-fevrier-2023/
LOCATION:Salle des fêtes de L’Union\, 6 Avenue des Pyrénées\, L'Union\, 31240\, France
CATEGORIES:Mairie
ATTACH;FMTTYPE=image/png:https://www.ville-lunion.fr/wp-content/uploads/2016/12/CM-portrait-01.png
END:VEVENT
END:VCALENDAR