BEGIN:VCALENDAR
VERSION:2.0
PRODID:-//Ville de L&#039;Union - ECPv6.15.13//NONSGML v1.0//EN
CALSCALE:GREGORIAN
METHOD:PUBLISH
X-ORIGINAL-URL:https://www.ville-lunion.fr
X-WR-CALDESC:Évènements pour Ville de L&#039;Union
REFRESH-INTERVAL;VALUE=DURATION:PT1H
X-Robots-Tag:noindex
X-PUBLISHED-TTL:PT1H
BEGIN:VTIMEZONE
TZID:Europe/Paris
BEGIN:DAYLIGHT
TZOFFSETFROM:+0100
TZOFFSETTO:+0200
TZNAME:CEST
DTSTART:20200329T010000
END:DAYLIGHT
BEGIN:STANDARD
TZOFFSETFROM:+0200
TZOFFSETTO:+0100
TZNAME:CET
DTSTART:20201025T010000
END:STANDARD
BEGIN:DAYLIGHT
TZOFFSETFROM:+0100
TZOFFSETTO:+0200
TZNAME:CEST
DTSTART:20210328T010000
END:DAYLIGHT
BEGIN:STANDARD
TZOFFSETFROM:+0200
TZOFFSETTO:+0100
TZNAME:CET
DTSTART:20211031T010000
END:STANDARD
BEGIN:DAYLIGHT
TZOFFSETFROM:+0100
TZOFFSETTO:+0200
TZNAME:CEST
DTSTART:20220327T010000
END:DAYLIGHT
BEGIN:STANDARD
TZOFFSETFROM:+0200
TZOFFSETTO:+0100
TZNAME:CET
DTSTART:20221030T010000
END:STANDARD
END:VTIMEZONE
BEGIN:VEVENT
DTSTART;VALUE=DATE:20211125
DTEND;VALUE=DATE:20211128
DTSTAMP:20260421T104837
CREATED:20211012T072803Z
LAST-MODIFIED:20211115T095512Z
UID:48508-1637798400-1638057599@www.ville-lunion.fr
SUMMARY:Créa(c)trice - Théâtre
DESCRIPTION:CRÉA(C)TRICES – THÉÂTRE · RÉSIDENCE D’ARTISTES \nCRÉA(C)TRICES est un évènement qui rassemble 3 compagnies de théâtre autour de 3 femmes\, comédiennes et metteuses en scène : Delphine Alvado\, Anne Bourgès et Hélène Sarrazin. Du 23 au 27 novembre\, cet évènement vous propose 4 spectacles audacieux qui soulignent leur grande complicité artistique\, leurs regards tendres\, et le fort engagement social et humain qui les lie. \ntout public à partir de 6 ans placement libre\nTarifs : 8 € tarif plein\, 6 € – de 18 ans et petits revenus\, 4 € – de 12 ans \nmardi 23 Novembre \n14h30 • Petite Mine – Cie Les Cyranoïaques\nThéâtre I Tout public à partir de 12 ans I Durée 1h20 \n20h00 • Post-scriptum – Cie Une Petite Lueur\nCorrespondances d’hier et d’aujourd’hui I 1h I à partir de 12 ans \njeudi 25 novembre \n10h00 • La belle éveillée – Cie Anne\, ma soeur Anne\nConte musical familial I 35 min I à partir de 6 ans\n \n14h30 • Post-scriptum – Cie Une Petite Lueur\nCorrespondances d’hier et d’aujourd’hui I 1h I à partir de 12 ans\n \nvendredi 26 novembre \n14h30 • JOB – Cie Une Petite Lueur\nThéâtre I 1h15 I à partir de 12 ans \n20h00 • JOB – Cie Une Petite Lueur\nThéâtre I 1h15 I à partir de 12 ans\n \nsamedi 27 novembre \n14h30 • La belle éveillée – Cie Anne\, ma soeur Anne\nConte musical familial I 35 min I à partir de 6 ans\n \n20h00 • Petite Mine – Cie Les Cyranoïaques\nThéâtre I Tout public à partir de 12 ans I Durée 1h20\n \nDu 23 au 27 novembre à la salle des Fêtes \nInfos et réservations au 05 62 89 22 87 \n*** \n\n\nPour consulter la brochure culturelle cliquez ici. \n \n\n\n\n\n 
URL:https://www.ville-lunion.fr/evenement/creactrice-theatre-2/
LOCATION:Salle des fêtes de L’Union\, 6 Avenue des Pyrénées\, L'Union\, 31240\, France
CATEGORIES:Spectacles
ATTACH;FMTTYPE=image/png:https://www.ville-lunion.fr/wp-content/uploads/2021/09/creeactrices.png
END:VEVENT
BEGIN:VEVENT
DTSTART;VALUE=DATE:20211127
DTEND;VALUE=DATE:20211129
DTSTAMP:20260421T104837
CREATED:20210913T083252Z
LAST-MODIFIED:20220909T145441Z
UID:48188-1637971200-1638143999@www.ville-lunion.fr
SUMMARY:Marché de Noël
DESCRIPTION:Le marché de Noël de L’Union se déroulera le samedi 26 et le dimanche 27 novembre 2022 à la Grande Halle de L’Union. \nHoraires : samedi de 10h à 20h et dimanche de 9h à 18h. \nAu programme plus de 40 exposants artisans et producteurs locaux\, chocolats\, champagne\, foie gras\, jeux\, sauront vous ravir. Comme chaque année\, une animation sera proposée. \nEntrée gratuite \nRestauration et manège sur place \n  \n 
URL:https://www.ville-lunion.fr/evenement/marche-de-noel-2/
LOCATION:Grande Halle de l’Union\, Rue du Somport\, L'Union\, 31240\, France
CATEGORIES:Mairie
ATTACH;FMTTYPE=image/jpeg:https://www.ville-lunion.fr/wp-content/uploads/2021/09/Marche-de-noel-22-VDEF-e1669024816101.jpg
END:VEVENT
END:VCALENDAR