BEGIN:VCALENDAR
VERSION:2.0
PRODID:-//Ville de L&#039;Union - ECPv6.15.13//NONSGML v1.0//EN
CALSCALE:GREGORIAN
METHOD:PUBLISH
X-ORIGINAL-URL:https://www.ville-lunion.fr
X-WR-CALDESC:Évènements pour Ville de L&#039;Union
REFRESH-INTERVAL;VALUE=DURATION:PT1H
X-Robots-Tag:noindex
X-PUBLISHED-TTL:PT1H
BEGIN:VTIMEZONE
TZID:Europe/Paris
BEGIN:DAYLIGHT
TZOFFSETFROM:+0100
TZOFFSETTO:+0200
TZNAME:CEST
DTSTART:20200329T010000
END:DAYLIGHT
BEGIN:STANDARD
TZOFFSETFROM:+0200
TZOFFSETTO:+0100
TZNAME:CET
DTSTART:20201025T010000
END:STANDARD
BEGIN:DAYLIGHT
TZOFFSETFROM:+0100
TZOFFSETTO:+0200
TZNAME:CEST
DTSTART:20210328T010000
END:DAYLIGHT
BEGIN:STANDARD
TZOFFSETFROM:+0200
TZOFFSETTO:+0100
TZNAME:CET
DTSTART:20211031T010000
END:STANDARD
BEGIN:DAYLIGHT
TZOFFSETFROM:+0100
TZOFFSETTO:+0200
TZNAME:CEST
DTSTART:20220327T010000
END:DAYLIGHT
BEGIN:STANDARD
TZOFFSETFROM:+0200
TZOFFSETTO:+0100
TZNAME:CET
DTSTART:20221030T010000
END:STANDARD
END:VTIMEZONE
BEGIN:VEVENT
DTSTART;TZID=Europe/Paris:20211106T100000
DTEND;TZID=Europe/Paris:20211107T170000
DTSTAMP:20260421T103947
CREATED:20210907T084708Z
LAST-MODIFIED:20211102T101715Z
UID:48085-1636192800-1636304400@www.ville-lunion.fr
SUMMARY:Festival de Lectures à Haute voix
DESCRIPTION:FESTIVAL DE LECTURES À HAUTE-VOIX – FESTIVAL LITTÉRAIRE \nLe festival de lectures à haute voix a pour vocation de mettre à l’honneur les lectures publiques… et parfois musicales. Après une année blanche\, il revient au Château de Malpagat. Les auteurs invités pour l’édition 2020 ont tous accepté avec joie de se joindre à nous pour l’ édition 2021. La Commission Citoyenne Culture\, ainsi que la librairie Les Passantes œuvrent de concert pour préparer ce temps convivial dédié à la lecture publique. Vous êtes chaleureusement invités aux rencontres qui auront lieu au Château de Malpagat. Et en ouverture du festival\, nous vous proposons le samedi matin des extraits du roman écrit par les élèves de l’atelier d’écriture du collège Chaumeton\, lus par les collégiens. \nConsulter le programme : \n			\n				\n				\n				\n				\n				Festival de Lectures à Haute Voix 2021Lire plus de publications sur Calaméo\n			\n				\n				\n				\n				\n				Horaire des séances de lecture : \nsamedi 6 novembre à 10h30\, 11h30\, 15h\, 16hdimanche 7 novembre à 15h\, 16h. \n6 et 7 novembreTOUT PUBLIC au château de Malpagatplacement libre \n*** \n\nPour consulter la brochure culturelle cliquez ici. \n \n\n 
URL:https://www.ville-lunion.fr/evenement/festival-de-lectures-a-haute-voix-4/
LOCATION:chateau de Malpagat\, Allée Ronceveaux\, L'UNION\, 31240
CATEGORIES:Festival Littéraire
ATTACH;FMTTYPE=image/jpeg:https://www.ville-lunion.fr/wp-content/uploads/2021/09/affiche-2021.jpg
END:VEVENT
BEGIN:VEVENT
DTSTART;VALUE=DATE:20211107
DTEND;VALUE=DATE:20211108
DTSTAMP:20260421T103947
CREATED:20210312T140705Z
LAST-MODIFIED:20210312T152852Z
UID:45701-1636243200-1636329599@www.ville-lunion.fr
SUMMARY:Bourse aux jouets
DESCRIPTION:
URL:https://www.ville-lunion.fr/evenement/bourse-aux-jouets-2/
LOCATION:Grande Halle de l’Union\, Rue du Somport\, L'Union\, 31240\, France
CATEGORIES:Associations
END:VEVENT
BEGIN:VEVENT
DTSTART;TZID=Europe/Paris:20211107T110000
DTEND;TZID=Europe/Paris:20211107T160000
DTSTAMP:20260421T103947
CREATED:20210923T150114Z
LAST-MODIFIED:20211102T100951Z
UID:48338-1636282800-1636300800@www.ville-lunion.fr
SUMMARY:Évènement street art
DESCRIPTION:Venez déambuler autour du lac à la rencontre des artistes de street-art qui travailleront sur la réalisation de graff’ sur le mobilier urbain. \nBancs\, bornes\, poubelles seront leur terrain de jeu pour une après-midi. \nRendez-vous de 11h à 16h autour du lac Saint-caprais.
URL:https://www.ville-lunion.fr/evenement/evenement-street-art/
LOCATION:lac de St Caprais\, 79 Avenue de Bayonne\, L'UNION\, 31240\, France
CATEGORIES:Mairie
ATTACH;FMTTYPE=image/png:https://www.ville-lunion.fr/wp-content/uploads/2016/12/affiche-street-art_Plan-de-travail-1-copie.png
END:VEVENT
END:VCALENDAR