BEGIN:VCALENDAR
VERSION:2.0
PRODID:-//Ville de L&#039;Union - ECPv6.15.13//NONSGML v1.0//EN
CALSCALE:GREGORIAN
METHOD:PUBLISH
X-ORIGINAL-URL:https://www.ville-lunion.fr
X-WR-CALDESC:Évènements pour Ville de L&#039;Union
REFRESH-INTERVAL;VALUE=DURATION:PT1H
X-Robots-Tag:noindex
X-PUBLISHED-TTL:PT1H
BEGIN:VTIMEZONE
TZID:Europe/Paris
BEGIN:DAYLIGHT
TZOFFSETFROM:+0100
TZOFFSETTO:+0200
TZNAME:CEST
DTSTART:20200329T010000
END:DAYLIGHT
BEGIN:STANDARD
TZOFFSETFROM:+0200
TZOFFSETTO:+0100
TZNAME:CET
DTSTART:20201025T010000
END:STANDARD
BEGIN:DAYLIGHT
TZOFFSETFROM:+0100
TZOFFSETTO:+0200
TZNAME:CEST
DTSTART:20210328T010000
END:DAYLIGHT
BEGIN:STANDARD
TZOFFSETFROM:+0200
TZOFFSETTO:+0100
TZNAME:CET
DTSTART:20211031T010000
END:STANDARD
BEGIN:DAYLIGHT
TZOFFSETFROM:+0100
TZOFFSETTO:+0200
TZNAME:CEST
DTSTART:20220327T010000
END:DAYLIGHT
BEGIN:STANDARD
TZOFFSETFROM:+0200
TZOFFSETTO:+0100
TZNAME:CET
DTSTART:20221030T010000
END:STANDARD
END:VTIMEZONE
BEGIN:VEVENT
DTSTART;TZID=Europe/Paris:20211105T183000
DTEND;TZID=Europe/Paris:20211105T203000
DTSTAMP:20260421T095332
CREATED:20211018T123627Z
LAST-MODIFIED:20211018T123627Z
UID:48594-1636137000-1636144200@www.ville-lunion.fr
SUMMARY:Concert - Fédération Harmonies
DESCRIPTION:Après une semaine de stage intensif en internat\, 60 jeunes musiciens\, issus des villes et villages du Département vous invitent à leur concert de fin de stage. Issus des associations musicales de la Fédération des Sociétés Musicales de la Haute-Garonne (FSM31)\, ce concert est un moment fort pour vous présenter la qualité de la musique amateur dans le Département. \nLa FSM31 regroupe 58 associations : écoles de musique\, harmonies\, chorales\, big bands\, orchestre à plectre\, … soit 6500 musiciens amateurs. Ses activités sont axées sur la promotion de la musique à travers la formation des jeunes. Ce concert témoigne de la richesse et la qualité de l’enseignement musical dans notre Département. \nAu programme : des musiques de films\, les grands standards d’aujourd’hui\, les créations pour orchestres d’harmonie. Et bien sûr\, l’entrée est gratuite. \n5 NOVEMBRE à 18H30 à LA GANDE HALLE DE L’UNION. \nEntrée gratuite\, passe sanitaire exigé \n 
URL:https://www.ville-lunion.fr/evenement/concert-federation-harmonies/
LOCATION:Grande Halle de l’Union\, Rue du Somport\, L'Union\, 31240\, France
CATEGORIES:Spectacles
ATTACH;FMTTYPE=image/png:https://www.ville-lunion.fr/wp-content/uploads/2021/10/Concert-dharmonie.png
END:VEVENT
END:VCALENDAR