BEGIN:VCALENDAR
VERSION:2.0
PRODID:-//Ville de L&#039;Union - ECPv6.15.13//NONSGML v1.0//EN
CALSCALE:GREGORIAN
METHOD:PUBLISH
X-ORIGINAL-URL:https://www.ville-lunion.fr
X-WR-CALDESC:Évènements pour Ville de L&#039;Union
REFRESH-INTERVAL;VALUE=DURATION:PT1H
X-Robots-Tag:noindex
X-PUBLISHED-TTL:PT1H
BEGIN:VTIMEZONE
TZID:Europe/Paris
BEGIN:DAYLIGHT
TZOFFSETFROM:+0100
TZOFFSETTO:+0200
TZNAME:CEST
DTSTART:20200329T010000
END:DAYLIGHT
BEGIN:STANDARD
TZOFFSETFROM:+0200
TZOFFSETTO:+0100
TZNAME:CET
DTSTART:20201025T010000
END:STANDARD
BEGIN:DAYLIGHT
TZOFFSETFROM:+0100
TZOFFSETTO:+0200
TZNAME:CEST
DTSTART:20210328T010000
END:DAYLIGHT
BEGIN:STANDARD
TZOFFSETFROM:+0200
TZOFFSETTO:+0100
TZNAME:CET
DTSTART:20211031T010000
END:STANDARD
BEGIN:DAYLIGHT
TZOFFSETFROM:+0100
TZOFFSETTO:+0200
TZNAME:CEST
DTSTART:20220327T010000
END:DAYLIGHT
BEGIN:STANDARD
TZOFFSETFROM:+0200
TZOFFSETTO:+0100
TZNAME:CET
DTSTART:20221030T010000
END:STANDARD
END:VTIMEZONE
BEGIN:VEVENT
DTSTART;TZID=Europe/Paris:20211017T140000
DTEND;TZID=Europe/Paris:20211017T170000
DTSTAMP:20260421T110622
CREATED:20210907T083127Z
LAST-MODIFIED:20210907T083127Z
UID:48078-1634479200-1634490000@www.ville-lunion.fr
SUMMARY:La Rose Polynésienne - Course solidaire
DESCRIPTION: Pour octobre rose\, venez participez à LA ROSE POLYNESIENNE\, marche organisée dans le cadre de la prévention du cancer du sein. \nCette année\, Ori Heitiare Tahiti (www.oriheitiaretahiti.fr/)\, en partenariat avec la ligue contre le cancer et le Centre communal d’action sociale de la mairie de L’Union\, vous invite à une marche familiale dans une ambiance polynésienne\, ainsi qu’à découvrir d’autres animations. \nPour cette première édition\, rendez-vous sur la plaine verte de Saint-Caprais le Dimanche 17 Octobre 2021\, de 14h à 18h. Au programme : \n\nEchauffement/Danse polynésienne\nAnimation d’un parcours de marche pour les enfants (1km) et les adultes (5km)\nInitiation de tir à l’arc\nJeux pour enfants\nSensibilisation aux actions de la Ligue Contre le Cancer (LCC)\nConférence du Centre Régional de Coordination des Cancers d’Occitanie (CRCD OC) : « Prévention des cancers féminins : et si on en parlait ? »\n\nLa participation est libre mais afin de vous accueillir dans les meilleures conditions\, nous vous invitons à vous inscrire : \n\nSur le site helloasso jusqu’au samedi 16 octobre (https://www.helloasso.com/associations/la-ligue-contre-le-cancer-comite-de-la-haute-garonne/evenements/la-rose-polynesienne-2021)\nEn déposant votre inscription à l’accueil de la mairie avant le 15 octobre\nLe jour de la course sur le site de St Caprais entre 14 et 15H\nUn don peut être versé sur le site helloasso ou en flashant le QR code ci-dessous (site web sécurisé)\, ou en espèces/chèques dans les accueils municipaux et associatifs de la mairie de L’Union. Des urnes et des terminaux de paiement mobiles seront également disponibles le jour de l’évènement.\n\nLes fonds récoltés viendront soutenir ‘LA MAISON’ de la Ligue Contre le Cancer (http://www.liguecancer31.fr/actualites/82) \nCe projet\, unique en France\, a pour vocation d’offrir un soutien personnalisé aux malades atteints de cancer et leurs proches : hébergement temporaire à tarif social\, soutien psychologique\, activité physique adaptée\, accompagnement au retour à l’emploi… ‘La Maison’ accueillera également des espaces dédiés à la prévention :  sport santé\, alimentation équilibrée\, aide au sevrage tabagique mais également pour limiter les risques de récidive de cancer… \n‘La Maison’ a pour objectif de lutter contre l’inégalité d’accès aux soins\, l’isolement géographique et social\, pour permettre au patient de se concentrer sur sa guérison. Elle ouvrira ses portes en 2022 sur le campus santé Oncopole. \nN’hésitez pas à revêtir les couleurs de la Polynésie. Portez vos paréos\, chemises fleuries\, couronnes et colliers de fleurs\, et votre plus beau sourire ! \nUn dossard auto-collant vous sera remis sur place. \nCe programme est susceptible d’évoluer en fonction du contexte sanitaire des décisions gouvernementales. \n 
URL:https://www.ville-lunion.fr/evenement/la-rose-polynesienne-course-solidaire/
LOCATION:lac de St Caprais\, 79 Avenue de Bayonne\, L'UNION\, 31240\, France
CATEGORIES:Associations
ATTACH;FMTTYPE=image/png:https://www.ville-lunion.fr/wp-content/uploads/2021/09/Affiche-rose-polynesienne_Plan-de-travail-1.png
END:VEVENT
BEGIN:VEVENT
DTSTART;TZID=Europe/Paris:20211017T140000
DTEND;TZID=Europe/Paris:20211017T170000
DTSTAMP:20260421T110622
CREATED:20220920T165029Z
LAST-MODIFIED:20220920T165029Z
UID:53492-1634479200-1634490000@www.ville-lunion.fr
SUMMARY:La Rose Polynésienne - Course solidaire
DESCRIPTION:Pour octobre rose\, venez participez à LA ROSE POLYNÉSIENNE\, marche organisée dans le cadre de la prévention du cancer du sein. \nCette année encore\, Ori Heitiare Tahiti (www.oriheitiaretahiti.fr/)\, en partenariat avec la ligue contre le cancer et le Centre communal d’action sociale de la mairie de L’Union\, vous invite à une marche familiale dans une ambiance polynésienne\, ainsi qu’à découvrir d’autres animations. \nPour cette seconde édition\, rendez-vous sur la plaine verte de Saint-Caprais le Dimanche 16 Octobre 2022\, de 10h à 18h. \n\nAu programme :\n\n10h à 12h :  Ateliers de sensibilisation et éducatifs\, conférences\, débats…\n12h à 14h : Pause méridienne – buvette et restauration – animation musicale\n14h à 16h : Libre aux associations de proposer ce qu’elles souhaitent : initiation\, cours\, démonstration…. (l’association Tir à l’arc pratiquera sur son terrain)\n16h à 17h : Marche ou course autour du lac : 2 tours. L’association Union Team Triathlon accompagnera les participants.\n\n\n\nLa participation est libre mais afin de vous accueillir dans les meilleures conditions\, nous vous invitons à vous inscrire : \n\nSur le site helloasso jusqu’au samedi 16 octobre (https://www.helloasso.com/associations/la-ligue-contre-le-cancer-comite-de-la-haute-garonne/evenements/la-rose-polynesienne-2021)\nEn déposant votre inscription à l’accueil de la mairie avant le 15 octobre\nLe jour de la course sur le site de St Caprais entre 14 et 15H\nUn don peut être versé sur le site helloasso ou en flashant le QR code ci-dessous (site web sécurisé)\, ou en espèces/chèques dans les accueils municipaux et associatifs de la mairie de L’Union. Des urnes et des terminaux de paiement mobiles seront également disponibles le jour de l’évènement.\n\nN’hésitez pas à revêtir les couleurs de la Polynésie. Portez vos paréos\, chemises fleuries\, couronnes et colliers de fleurs\, et votre plus beau sourire ! \nUn dossard auto-collant vous sera remis sur place.
URL:https://www.ville-lunion.fr/evenement/la-rose-polynesienne-course-solidaire-2/
LOCATION:lac de St Caprais\, 79 Avenue de Bayonne\, L'UNION\, 31240\, France
CATEGORIES:Associations
ATTACH;FMTTYPE=image/jpeg:https://www.ville-lunion.fr/wp-content/uploads/2022/09/Affiche2eme-edition-final_Plan-de-travail-1-scaled.jpg
END:VEVENT
END:VCALENDAR