BEGIN:VCALENDAR
VERSION:2.0
PRODID:-//Ville de L&#039;Union - ECPv6.15.13//NONSGML v1.0//EN
CALSCALE:GREGORIAN
METHOD:PUBLISH
X-WR-CALNAME:Ville de L&#039;Union
X-ORIGINAL-URL:https://www.ville-lunion.fr
X-WR-CALDESC:Évènements pour Ville de L&#039;Union
REFRESH-INTERVAL;VALUE=DURATION:PT1H
X-Robots-Tag:noindex
X-PUBLISHED-TTL:PT1H
BEGIN:VTIMEZONE
TZID:Europe/Paris
BEGIN:DAYLIGHT
TZOFFSETFROM:+0100
TZOFFSETTO:+0200
TZNAME:CEST
DTSTART:20200329T010000
END:DAYLIGHT
BEGIN:STANDARD
TZOFFSETFROM:+0200
TZOFFSETTO:+0100
TZNAME:CET
DTSTART:20201025T010000
END:STANDARD
BEGIN:DAYLIGHT
TZOFFSETFROM:+0100
TZOFFSETTO:+0200
TZNAME:CEST
DTSTART:20210328T010000
END:DAYLIGHT
BEGIN:STANDARD
TZOFFSETFROM:+0200
TZOFFSETTO:+0100
TZNAME:CET
DTSTART:20211031T010000
END:STANDARD
BEGIN:DAYLIGHT
TZOFFSETFROM:+0100
TZOFFSETTO:+0200
TZNAME:CEST
DTSTART:20220327T010000
END:DAYLIGHT
BEGIN:STANDARD
TZOFFSETFROM:+0200
TZOFFSETTO:+0100
TZNAME:CET
DTSTART:20221030T010000
END:STANDARD
END:VTIMEZONE
BEGIN:VEVENT
DTSTART;TZID=Europe/Paris:20211016T203000
DTEND;TZID=Europe/Paris:20211016T220000
DTSTAMP:20260421T110616
CREATED:20210907T084127Z
LAST-MODIFIED:20210907T084127Z
UID:48082-1634416200-1634421600@www.ville-lunion.fr
SUMMARY:Les 10 ans des Saxtoys
DESCRIPTION:Les SaxToys c’est avant tout un groupe d’amis réunis autour d’une passion commune : la musique ! C’est en 2011 que l’aventure commence sur les bancs du Pôle Musical de l’Union. Entre deux\nrépétitions d’harmonie\, 4 jeunes saxophonistes décident de créer leur propre groupe  avec un but : se faire plaisir et faire plaisir aux autres ! Bien vite\, une batterie\, un piano et une basse se joignent à la formation. Aujourd’hui\, après avoir joué un peu partout dans le Sud-Ouest\, mais aussi en région Rhône-Alpes\, les SaxToys ont constitué un programme éclectique mélangeant le jazz\, le funk et la musique latine au travers d’arrangements originaux.\nLes SaxToys vous proposent de revenir sur ces 10 années de bonheur et de célébrer ensemble et événement à L’Union\, ville de cœur du groupe ! \n16 octobre à 20h30 à la Salle des Fêtes \nTOUT PUBLIC\,\nplacement libre\nGRATUIT \ndurée : 1h40\nCe spectacle est organisé en partenariat avec le Pôle Musical de L’Union \n*** \n\nPour consulter la brochure culturelle cliquez ici.
URL:https://www.ville-lunion.fr/evenement/les-10-ans-des-saxtoys-2/
LOCATION:Salle des fêtes de L’Union\, 6 Avenue des Pyrénées\, L'Union\, 31240\, France
CATEGORIES:Spectacles
ATTACH;FMTTYPE=image/jpeg:https://www.ville-lunion.fr/wp-content/uploads/2021/09/IMG_3855-scaled.jpeg
END:VEVENT
END:VCALENDAR