BEGIN:VCALENDAR
VERSION:2.0
PRODID:-//Ville de L&#039;Union - ECPv6.15.13//NONSGML v1.0//EN
CALSCALE:GREGORIAN
METHOD:PUBLISH
X-ORIGINAL-URL:https://www.ville-lunion.fr
X-WR-CALDESC:Évènements pour Ville de L&#039;Union
REFRESH-INTERVAL;VALUE=DURATION:PT1H
X-Robots-Tag:noindex
X-PUBLISHED-TTL:PT1H
BEGIN:VTIMEZONE
TZID:Europe/Paris
BEGIN:DAYLIGHT
TZOFFSETFROM:+0100
TZOFFSETTO:+0200
TZNAME:CEST
DTSTART:20200329T010000
END:DAYLIGHT
BEGIN:STANDARD
TZOFFSETFROM:+0200
TZOFFSETTO:+0100
TZNAME:CET
DTSTART:20201025T010000
END:STANDARD
BEGIN:DAYLIGHT
TZOFFSETFROM:+0100
TZOFFSETTO:+0200
TZNAME:CEST
DTSTART:20210328T010000
END:DAYLIGHT
BEGIN:STANDARD
TZOFFSETFROM:+0200
TZOFFSETTO:+0100
TZNAME:CET
DTSTART:20211031T010000
END:STANDARD
BEGIN:DAYLIGHT
TZOFFSETFROM:+0100
TZOFFSETTO:+0200
TZNAME:CEST
DTSTART:20220327T010000
END:DAYLIGHT
BEGIN:STANDARD
TZOFFSETFROM:+0200
TZOFFSETTO:+0100
TZNAME:CET
DTSTART:20221030T010000
END:STANDARD
END:VTIMEZONE
BEGIN:VEVENT
DTSTART;TZID=Europe/Paris:20211012T090000
DTEND;TZID=Europe/Paris:20211012T120000
DTSTAMP:20260421T110620
CREATED:20210708T124356Z
LAST-MODIFIED:20210708T124356Z
UID:47352-1634029200-1634040000@www.ville-lunion.fr
SUMMARY:Permanence Info-Energie
DESCRIPTION:4 Conseillers donnent des conseils – gratuits et indépendants – sur toutes les questions relatives aux économies d’énergie dans le logement. \n\nTravaux de rénovation thermique : priorités\, recommandations\, avis sur devis\nAides financières\nMieux comprendre sa facture\nCritères de choix d’un fournisseur d’électricité et de gaz naturel. Les modalités de changement.\nPetits équipements et les comportements économes\nChèque énergie\n\nPlus de renseignement sur le site info energie.
URL:https://www.ville-lunion.fr/evenement/permanence-info-energie-6/
LOCATION:mairie\, 6BIS AV. DES PYRENEES\, L'UNION\, 31240
CATEGORIES:Mairie
ATTACH;FMTTYPE=image/png:https://www.ville-lunion.fr/wp-content/uploads/2020/12/info-energie.png
END:VEVENT
END:VCALENDAR