BEGIN:VCALENDAR
VERSION:2.0
PRODID:-//Ville de L&#039;Union - ECPv6.15.13//NONSGML v1.0//EN
CALSCALE:GREGORIAN
METHOD:PUBLISH
X-ORIGINAL-URL:https://www.ville-lunion.fr
X-WR-CALDESC:Évènements pour Ville de L&#039;Union
REFRESH-INTERVAL;VALUE=DURATION:PT1H
X-Robots-Tag:noindex
X-PUBLISHED-TTL:PT1H
BEGIN:VTIMEZONE
TZID:Europe/Paris
BEGIN:DAYLIGHT
TZOFFSETFROM:+0100
TZOFFSETTO:+0200
TZNAME:CEST
DTSTART:20200329T010000
END:DAYLIGHT
BEGIN:STANDARD
TZOFFSETFROM:+0200
TZOFFSETTO:+0100
TZNAME:CET
DTSTART:20201025T010000
END:STANDARD
BEGIN:DAYLIGHT
TZOFFSETFROM:+0100
TZOFFSETTO:+0200
TZNAME:CEST
DTSTART:20210328T010000
END:DAYLIGHT
BEGIN:STANDARD
TZOFFSETFROM:+0200
TZOFFSETTO:+0100
TZNAME:CET
DTSTART:20211031T010000
END:STANDARD
BEGIN:DAYLIGHT
TZOFFSETFROM:+0100
TZOFFSETTO:+0200
TZNAME:CEST
DTSTART:20220327T010000
END:DAYLIGHT
BEGIN:STANDARD
TZOFFSETFROM:+0200
TZOFFSETTO:+0100
TZNAME:CET
DTSTART:20221030T010000
END:STANDARD
END:VTIMEZONE
BEGIN:VEVENT
DTSTART;TZID=Europe/Paris:20211009T103000
DTEND;TZID=Europe/Paris:20211010T190000
DTSTAMP:20260421T110620
CREATED:20210907T094050Z
LAST-MODIFIED:20210907T094050Z
UID:48088-1633775400-1633892400@www.ville-lunion.fr
SUMMARY:Salon des Minéraux et Fossiles
DESCRIPTION:18ème salon des Minéraux et Fossiles les 9 et 10 octobre \nEntrée Gratuite \nHoraires de 10h à 19h \nGrande Hallle
URL:https://www.ville-lunion.fr/evenement/salon-des-mineraux-et-fossiles/
LOCATION:Grande Halle de l’Union\, Rue du Somport\, L'Union\, 31240\, France
CATEGORIES:Associations
ATTACH;FMTTYPE=image/jpeg:https://www.ville-lunion.fr/wp-content/uploads/2021/09/20210827_190627-scaled.jpg
END:VEVENT
BEGIN:VEVENT
DTSTART;TZID=Europe/Paris:20211010T153000
DTEND;TZID=Europe/Paris:20211010T163000
DTSTAMP:20260421T110620
CREATED:20210907T080942Z
LAST-MODIFIED:20210922T100601Z
UID:48072-1633879800-1633883400@www.ville-lunion.fr
SUMMARY:Visite Urbotanique - Théâtre de Rue
DESCRIPTION:VISITE URBOTANIQUE – THÉÂTRE DE RUE · CIE FIGURE LIBRE \nAvez-vous remarqué comment certains éléments de la ville ressemblent à des fleurs\, à des arbres ou à des animaux ? Capsules de bière à la dentelure délicate\, véhicules à gueules de monstre\, chant du marteau-piqueur… tout un biotope se révèle ! C’est à la découverte de ces nouvelles espèces que Rosemonde Santo vous invite pour cette sortie naturaliste dans le biotope urbain.\nProjet accueilli en résidence par le pOlau – pôle des Arts Urbains\, avec le soutien de la MSH – Maison des Sciences et de l’Homme Val de Loire. \nDimanche 10 octobre à 15h30 \nà partir de 10 ans\nplacement libre durée : 50 min. \nGRATUIT SUR RÉSERVATION au 05 62 89 22 87\n(maxi 50 pers.)\nrendez-vous devant la résidence domitys à 15h (quartier des Violettes) \n 
URL:https://www.ville-lunion.fr/evenement/visite-urbotanique-theatre-de-rue/
LOCATION:quartier des Violettes\, L'UNION\, 31240
CATEGORIES:Spectacles
ATTACH;FMTTYPE=image/jpeg:https://www.ville-lunion.fr/wp-content/uploads/2021/09/affiche-vgu-cie-figure-libre.jpg
END:VEVENT
END:VCALENDAR