BEGIN:VCALENDAR
VERSION:2.0
PRODID:-//Ville de L&#039;Union - ECPv6.15.13//NONSGML v1.0//EN
CALSCALE:GREGORIAN
METHOD:PUBLISH
X-WR-CALNAME:Ville de L&#039;Union
X-ORIGINAL-URL:https://www.ville-lunion.fr
X-WR-CALDESC:Évènements pour Ville de L&#039;Union
REFRESH-INTERVAL;VALUE=DURATION:PT1H
X-Robots-Tag:noindex
X-PUBLISHED-TTL:PT1H
BEGIN:VTIMEZONE
TZID:Europe/Paris
BEGIN:DAYLIGHT
TZOFFSETFROM:+0100
TZOFFSETTO:+0200
TZNAME:CEST
DTSTART:20200329T010000
END:DAYLIGHT
BEGIN:STANDARD
TZOFFSETFROM:+0200
TZOFFSETTO:+0100
TZNAME:CET
DTSTART:20201025T010000
END:STANDARD
BEGIN:DAYLIGHT
TZOFFSETFROM:+0100
TZOFFSETTO:+0200
TZNAME:CEST
DTSTART:20210328T010000
END:DAYLIGHT
BEGIN:STANDARD
TZOFFSETFROM:+0200
TZOFFSETTO:+0100
TZNAME:CET
DTSTART:20211031T010000
END:STANDARD
BEGIN:DAYLIGHT
TZOFFSETFROM:+0100
TZOFFSETTO:+0200
TZNAME:CEST
DTSTART:20220327T010000
END:DAYLIGHT
BEGIN:STANDARD
TZOFFSETFROM:+0200
TZOFFSETTO:+0100
TZNAME:CET
DTSTART:20221030T010000
END:STANDARD
END:VTIMEZONE
BEGIN:VEVENT
DTSTART;TZID=Europe/Paris:20210929T183000
DTEND;TZID=Europe/Paris:20210929T230000
DTSTAMP:20260421T110613
CREATED:20210810T101744Z
LAST-MODIFIED:20210923T144918Z
UID:47856-1632940200-1632956400@www.ville-lunion.fr
SUMMARY:Conseil Municipal
DESCRIPTION:Cela faisait plus d’un an que les conseils municipaux étaient limités à une retransmission Facebook à cause du contexte sanitaire. Dorénavant\, et depuis le conseil de juin\, les séances du conseil municipal sont ouvertes au public. La prochaine aura lieu le mercredi 29 septembre à 18h30 à la salle des fêtes et sera ouverte au public (jauge 30 pers.). \nVous pouvez toujours le suivre en direct sur la page Facebook de la ville de L’Union.
URL:https://www.ville-lunion.fr/evenement/conseil-municipal-25/
LOCATION:Salle des fêtes de L’Union\, 6 Avenue des Pyrénées\, L'Union\, 31240\, France
CATEGORIES:Mairie
ATTACH;FMTTYPE=image/jpeg:https://www.ville-lunion.fr/wp-content/uploads/2020/11/DSC_0272-scaled.jpg
END:VEVENT
END:VCALENDAR