BEGIN:VCALENDAR
VERSION:2.0
PRODID:-//Ville de L&#039;Union - ECPv6.15.13//NONSGML v1.0//EN
CALSCALE:GREGORIAN
METHOD:PUBLISH
X-WR-CALNAME:Ville de L&#039;Union
X-ORIGINAL-URL:https://www.ville-lunion.fr
X-WR-CALDESC:Évènements pour Ville de L&#039;Union
REFRESH-INTERVAL;VALUE=DURATION:PT1H
X-Robots-Tag:noindex
X-PUBLISHED-TTL:PT1H
BEGIN:VTIMEZONE
TZID:Europe/Paris
BEGIN:DAYLIGHT
TZOFFSETFROM:+0100
TZOFFSETTO:+0200
TZNAME:CEST
DTSTART:20200329T010000
END:DAYLIGHT
BEGIN:STANDARD
TZOFFSETFROM:+0200
TZOFFSETTO:+0100
TZNAME:CET
DTSTART:20201025T010000
END:STANDARD
BEGIN:DAYLIGHT
TZOFFSETFROM:+0100
TZOFFSETTO:+0200
TZNAME:CEST
DTSTART:20210328T010000
END:DAYLIGHT
BEGIN:STANDARD
TZOFFSETFROM:+0200
TZOFFSETTO:+0100
TZNAME:CET
DTSTART:20211031T010000
END:STANDARD
BEGIN:DAYLIGHT
TZOFFSETFROM:+0100
TZOFFSETTO:+0200
TZNAME:CEST
DTSTART:20220327T010000
END:DAYLIGHT
BEGIN:STANDARD
TZOFFSETFROM:+0200
TZOFFSETTO:+0100
TZNAME:CET
DTSTART:20221030T010000
END:STANDARD
END:VTIMEZONE
BEGIN:VEVENT
DTSTART;TZID=Europe/Paris:20210919T080000
DTEND;TZID=Europe/Paris:20210919T180000
DTSTAMP:20260421T124632
CREATED:20210709T135626Z
LAST-MODIFIED:20210908T102051Z
UID:47409-1632038400-1632074400@www.ville-lunion.fr
SUMMARY:Vide Grenier de L'Union Festivités
DESCRIPTION:Le prochain vide grenier de L’Union Festivités aura lieu le dimanche 19 septembre de 8h à 18h place des Acacias. \nLes inscriptions se dérouleront le samedi 11 septembre à 14h à la salle de l’Olivier (Rue du pic du midi). \nPour télécharger l’attestation à remplir lors de l’inscription cliquez ici.
URL:https://www.ville-lunion.fr/evenement/vide-grenier-de-lunion-festivites-2/
LOCATION:CC des ACACIAS\, Avenue des Acacias\, L'UNION\, 31240\, France
CATEGORIES:Associations
ATTACH;FMTTYPE=image/jpeg:https://www.ville-lunion.fr/wp-content/uploads/2021/07/IMG_1723-scaled.jpg
END:VEVENT
BEGIN:VEVENT
DTSTART;TZID=Europe/Paris:20210919T100000
DTEND;TZID=Europe/Paris:20210919T120000
DTSTAMP:20260421T124632
CREATED:20210810T101346Z
LAST-MODIFIED:20210914T133559Z
UID:47852-1632045600-1632052800@www.ville-lunion.fr
SUMMARY:A la rencontre des arbres et arbustes de bord des eaux
DESCRIPTION:La Ville de L’Union travaille depuis plusieurs années en partenariat avec l’association Arbres et Paysages d’Autan\, dont l’objectif est de promouvoir le rôle de l’arbre de pays et de la haie champêtre. \nAfin de mieux connaître le patrimoine arboré naturel de la commune et d’appréhender le rôle des arbres et arbustes locaux dans l’environnement\, nous vous invitons à partir à leur rencontre lors d’une balade familiale au bord du lac et le long de la Sausse. \nArbres et Paysages prendra soin de vous apprendre à observer les détails qui vous permettront de reconnaître les arbres\, les « petites histoires » qui y sont liées\, les usages traditionnels ou actuels\, leur importance dans le renforcement de la Trame verte et bleue… \nPrenez date ! Rendez-vous le dimanche 19 septembre à 10h00 au niveau à l’entrée lac\, avenue de Bayonne pour un petit bol de Nature ludique et pédagogique ! \nSur inscription au 05 62 89 22 42 ou a susanna.darragi@mairie-lunion.fr
URL:https://www.ville-lunion.fr/evenement/a-la-rencontre-des-arbres-et-arbustes-de-bord-des-eaux/
LOCATION:Halle St Caprais\, Route de Bayonne\, L'Union\, 31240
CATEGORIES:Associations
ATTACH;FMTTYPE=image/jpeg:https://www.ville-lunion.fr/wp-content/uploads/2016/12/libellule_sur_sureau-scaled-1.jpg
END:VEVENT
END:VCALENDAR