BEGIN:VCALENDAR
VERSION:2.0
PRODID:-//Ville de L&#039;Union - ECPv6.15.13//NONSGML v1.0//EN
CALSCALE:GREGORIAN
METHOD:PUBLISH
X-ORIGINAL-URL:https://www.ville-lunion.fr
X-WR-CALDESC:Évènements pour Ville de L&#039;Union
REFRESH-INTERVAL;VALUE=DURATION:PT1H
X-Robots-Tag:noindex
X-PUBLISHED-TTL:PT1H
BEGIN:VTIMEZONE
TZID:Europe/Paris
BEGIN:DAYLIGHT
TZOFFSETFROM:+0100
TZOFFSETTO:+0200
TZNAME:CEST
DTSTART:20200329T010000
END:DAYLIGHT
BEGIN:STANDARD
TZOFFSETFROM:+0200
TZOFFSETTO:+0100
TZNAME:CET
DTSTART:20201025T010000
END:STANDARD
BEGIN:DAYLIGHT
TZOFFSETFROM:+0100
TZOFFSETTO:+0200
TZNAME:CEST
DTSTART:20210328T010000
END:DAYLIGHT
BEGIN:STANDARD
TZOFFSETFROM:+0200
TZOFFSETTO:+0100
TZNAME:CET
DTSTART:20211031T010000
END:STANDARD
BEGIN:DAYLIGHT
TZOFFSETFROM:+0100
TZOFFSETTO:+0200
TZNAME:CEST
DTSTART:20220327T010000
END:DAYLIGHT
BEGIN:STANDARD
TZOFFSETFROM:+0200
TZOFFSETTO:+0100
TZNAME:CET
DTSTART:20221030T010000
END:STANDARD
END:VTIMEZONE
BEGIN:VEVENT
DTSTART;TZID=Europe/Paris:20210911T143000
DTEND;TZID=Europe/Paris:20210911T170000
DTSTAMP:20260421T124819
CREATED:20210810T100230Z
LAST-MODIFIED:20210810T100619Z
UID:47845-1631370600-1631379600@www.ville-lunion.fr
SUMMARY:1518 L'épidémie
DESCRIPTION:Présenté dans le cadre de l’évènement EXIT à l’initiative de L’Usine\, Centre national des arts de la rue et de l’espace public par la Compagnie L’Etabli – Danse\n \nNous vous invitons dès la rentrée à venir explorer le parc Malpagat avec ce premier spectacle de la saison\, inspiré d’un fait réel. \nStrasbourg\, été 1518. Frau Troffea sort de chez elle et commence à danser. Des dizaines\, des centaines de personnes lui emboîtent le pas\, jusqu’à créer une épidémie. Une foule de personnes qui bougent\, sautent\, dansent\, ensemble\, jour et nuit. \nLe mystère qui entoure cette histoire intrigue. Qui peut dire avec certitude pourquoi cette femme s’est mise à danser ce jour-là ? Pourquoi d’autres l’ont suivie un mois durant ? \nEt aujourd’hui\, vous laisserez-vous emporter par cet élan du corps ? \nSpectacle sur réservation en suivant ce lien : https://www.billetweb.fr/1518-lepidemie-dansez-plus-fort-car-on-pourrait-bien-vous-entendre-letabli \n  \n 
URL:https://www.ville-lunion.fr/evenement/1518-lepidemie/
LOCATION:Parc de Malpagat\, L'UNION\, 31240
CATEGORIES:Spectacles
ATTACH;FMTTYPE=image/jpeg:https://www.ville-lunion.fr/wp-content/uploads/2021/08/exit.jpg
END:VEVENT
END:VCALENDAR