BEGIN:VCALENDAR
VERSION:2.0
PRODID:-//Ville de L&#039;Union - ECPv6.15.13//NONSGML v1.0//EN
CALSCALE:GREGORIAN
METHOD:PUBLISH
X-WR-CALNAME:Ville de L&#039;Union
X-ORIGINAL-URL:https://www.ville-lunion.fr
X-WR-CALDESC:Évènements pour Ville de L&#039;Union
REFRESH-INTERVAL;VALUE=DURATION:PT1H
X-Robots-Tag:noindex
X-PUBLISHED-TTL:PT1H
BEGIN:VTIMEZONE
TZID:Europe/Paris
BEGIN:DAYLIGHT
TZOFFSETFROM:+0100
TZOFFSETTO:+0200
TZNAME:CEST
DTSTART:20200329T010000
END:DAYLIGHT
BEGIN:STANDARD
TZOFFSETFROM:+0200
TZOFFSETTO:+0100
TZNAME:CET
DTSTART:20201025T010000
END:STANDARD
BEGIN:DAYLIGHT
TZOFFSETFROM:+0100
TZOFFSETTO:+0200
TZNAME:CEST
DTSTART:20210328T010000
END:DAYLIGHT
BEGIN:STANDARD
TZOFFSETFROM:+0200
TZOFFSETTO:+0100
TZNAME:CET
DTSTART:20211031T010000
END:STANDARD
BEGIN:DAYLIGHT
TZOFFSETFROM:+0100
TZOFFSETTO:+0200
TZNAME:CEST
DTSTART:20220327T010000
END:DAYLIGHT
BEGIN:STANDARD
TZOFFSETFROM:+0200
TZOFFSETTO:+0100
TZNAME:CET
DTSTART:20221030T010000
END:STANDARD
END:VTIMEZONE
BEGIN:VEVENT
DTSTART;VALUE=DATE:20210612
DTEND;VALUE=DATE:20210719
DTSTAMP:20260421T151105
CREATED:20210626T093133Z
LAST-MODIFIED:20210708T085348Z
UID:46196-1623456000-1626652799@www.ville-lunion.fr
SUMMARY:3 Jours sur la Lune - Exposition Neptunion
DESCRIPTION:Du 12 juin au 18 juillet\, Salle de l’Olivier\, Mairie de L’Union\nExposition de photographies de la NASA\, dont des images panoramiques\n« APOLLO 15 DANS LA PLAINE DE HADLEY » \nOuvert les week-end uniquement.
URL:https://www.ville-lunion.fr/evenement/exposition-neptunion/
LOCATION:Mairie – Salle de l’Olivier\, 6bis avenue des Pyrénées\, L'UNION \, 31240\, France
CATEGORIES:Associations
ATTACH;FMTTYPE=image/jpeg:https://www.ville-lunion.fr/wp-content/uploads/2021/03/Apollo-15-expo.jpg
END:VEVENT
BEGIN:VEVENT
DTSTART;VALUE=DATE:20210621
DTEND;VALUE=DATE:20210907
DTSTAMP:20260421T151105
CREATED:20210518T093515Z
LAST-MODIFIED:20210907T130523Z
UID:46852-1624233600-1630972799@www.ville-lunion.fr
SUMMARY:Exposition photo - La ville et ses habitants
DESCRIPTION:Le parc du château de Malpagat accueillera au mois de juin et pour tout l’été\,une exposition photos en extérieur avec un thème bien particulier : La ville et ses habitants. \nEntrée coté impasse du Lac Bleu
URL:https://www.ville-lunion.fr/evenement/exposition-photo-la-ville-et-ses-habitants/
LOCATION:Parc de Malpagat\, L'UNION\, 31240
CATEGORIES:Exposition
ATTACH;FMTTYPE=image/png:https://www.ville-lunion.fr/wp-content/uploads/2021/05/Affiche-expo-photo.png
ORGANIZER;CN="Mairie service Communication%2C Culture%2C Animation.":MAILTO:cca@mairie-lunion.fr
END:VEVENT
BEGIN:VEVENT
DTSTART;TZID=Europe/Paris:20210716T080000
DTEND;TZID=Europe/Paris:20210718T170000
DTSTAMP:20260421T151105
CREATED:20210518T093937Z
LAST-MODIFIED:20210712T081442Z
UID:46854-1626422400-1626627600@www.ville-lunion.fr
SUMMARY:Festival - 3 Jours sur la Lune
DESCRIPTION:Pour commémorer le 50ème anniversaire de la mission Apollo 15 (juillet 1971)\, le club Neptunion31\, avec le soutien de la mairie de L’Union\, vous invite à revivre les missions d’exploration de la Lune et à découvrir comment s’y fera l’implantation permanente des hommes\, une étape indispensable avant de réaliser l’exploration de Mars. \nDu 16 au 18 juillet\, venez admirer deux expositions photographiques exceptionnelles : “L’Odyssée Apollo” et “Apollo 15 dans la plaine de Hadley”. De grandes photos panoramiques pour une immersion sur la Lune aux côtés des astronautes\, des panneaux d’informations sur les missions Apollo\, des maquettes et des objets de collection vous seront présentés. Vous découvrirez l’endroit exact où a été prélevé le seul échantillon lunaire présenté en France\, visible à Toulouse. \nL’exposition de photographies “Apollo 15 dans la plaine de Hadley” sera présentée du 12 juin au 18 juillet 2021 dans la salle de l’Olivier (mairie) à L’Union. \nDans la salle des fêtes de L’Union\, vous seront proposées des conférences avec des invités exceptionnels (les 2\, 16\, 17 et 18 juillet 2021). Elles traiteront de la mission Apollo 15\, des vaisseaux spatiaux utilisés\, des astronautes qui ont marché sur la Lune il y a cinquante ans\, et aussi du prochain retour des hommes sur la Lune dans le cadre du programme ARTEMIS. \nSur la place San Biaggio\, des animations autour de la Lune pour petits et grands seront proposées ainsi que 3 grandes soirées avec des instruments d’observation astronomique (les 16\, 17 et 18 juillet) pour vous faire découvrir les sites d’alunissage des missions Apollo\, les sites caractéristiques de la Lune et beaucoup d’autres objets présents dans le ciel. \nManifestations entièrement gratuites. \nProgramme et réservations pour les conférences sur notre site internet : https://neptunion31.com/ à partir du 1er juin. \nRestauration sur place possible. \nLes manifestations seront soumises aux contraintes sanitaires en vigueur. \nLes soirées d’observations astronomiques seront proposées selon les conditions météorologiques du moment. \nManifestations organisées en partenariat avec l’IRAP (Institut de Recherche en Astrophysique et Planétologie)\, L’OMP (Observatoire Midi-Pyrénées) et l’Université Toulouse 3.
URL:https://www.ville-lunion.fr/evenement/festival-3-jours-sur-la-lune/
LOCATION:Salle des fêtes de L’Union\, 6 Avenue des Pyrénées\, L'Union\, 31240\, France
CATEGORIES:Associations
ATTACH;FMTTYPE=image/jpeg:https://www.ville-lunion.fr/wp-content/uploads/2021/05/Affche-finale-JPEG-80-scaled.jpg
END:VEVENT
END:VCALENDAR