BEGIN:VCALENDAR
VERSION:2.0
PRODID:-//Ville de L&#039;Union - ECPv6.15.13//NONSGML v1.0//EN
CALSCALE:GREGORIAN
METHOD:PUBLISH
X-ORIGINAL-URL:https://www.ville-lunion.fr
X-WR-CALDESC:Évènements pour Ville de L&#039;Union
REFRESH-INTERVAL;VALUE=DURATION:PT1H
X-Robots-Tag:noindex
X-PUBLISHED-TTL:PT1H
BEGIN:VTIMEZONE
TZID:Europe/Paris
BEGIN:DAYLIGHT
TZOFFSETFROM:+0100
TZOFFSETTO:+0200
TZNAME:CEST
DTSTART:20200329T010000
END:DAYLIGHT
BEGIN:STANDARD
TZOFFSETFROM:+0200
TZOFFSETTO:+0100
TZNAME:CET
DTSTART:20201025T010000
END:STANDARD
BEGIN:DAYLIGHT
TZOFFSETFROM:+0100
TZOFFSETTO:+0200
TZNAME:CEST
DTSTART:20210328T010000
END:DAYLIGHT
BEGIN:STANDARD
TZOFFSETFROM:+0200
TZOFFSETTO:+0100
TZNAME:CET
DTSTART:20211031T010000
END:STANDARD
BEGIN:DAYLIGHT
TZOFFSETFROM:+0100
TZOFFSETTO:+0200
TZNAME:CEST
DTSTART:20220327T010000
END:DAYLIGHT
BEGIN:STANDARD
TZOFFSETFROM:+0200
TZOFFSETTO:+0100
TZNAME:CET
DTSTART:20221030T010000
END:STANDARD
END:VTIMEZONE
BEGIN:VEVENT
DTSTART;TZID=Europe/Paris:20210609T140000
DTEND;TZID=Europe/Paris:20210609T180000
DTSTAMP:20260421T165035
CREATED:20210414T084348Z
LAST-MODIFIED:20210518T093704Z
UID:46572-1623247200-1623261600@www.ville-lunion.fr
SUMMARY:APRES MIDI EGALITE FILLES GARCONS
DESCRIPTION:Parce qu’il n’est pas d’activités réservées\, le CCAS de la commune de L’Union en partenariat avec les ALAE vous invite à participer à une après-midi d’activités sur l’égalité filles et garçons le mercredi 9 juin au stade Georges Beyney. \nLes Minimettes du stade Toulousains\, les cadettes rugby de l’EVG et les garçons de L’ASUR vous attendent pour vous faire partager les plaisirs du ballon ovale. Boxe\, danse\, rap se déclinent au masculin/féminin. \nL’après-midi sera animée par la Compagnie la Passante. Par des scénettes de théâtre tirée de la vie quotidienne\, le public est invité à vivre\, jouer et mettre en débat  concrètement ses idées. \nLe spectacle se construit ensemble au cours de l’après-midi pour aller au plus près des questionnements de chacun. \nNous vous attendons entre 14H et 18H pour partager ces temps avec vous. Tenue sportive conseillée.
URL:https://www.ville-lunion.fr/evenement/apres-midi-egalite-filles-garcons/
LOCATION:Stade Georges BEYNEY\, 11 rue du Puy de Sancy\, L'Union\, 31240\, France
CATEGORIES:Mairie
ATTACH;FMTTYPE=image/png:https://www.ville-lunion.fr/wp-content/uploads/2021/05/Journee-egalite.png
END:VEVENT
END:VCALENDAR