BEGIN:VCALENDAR
VERSION:2.0
PRODID:-//Ville de L&#039;Union - ECPv6.15.13//NONSGML v1.0//EN
CALSCALE:GREGORIAN
METHOD:PUBLISH
X-ORIGINAL-URL:https://www.ville-lunion.fr
X-WR-CALDESC:Évènements pour Ville de L&#039;Union
REFRESH-INTERVAL;VALUE=DURATION:PT1H
X-Robots-Tag:noindex
X-PUBLISHED-TTL:PT1H
BEGIN:VTIMEZONE
TZID:Europe/Paris
BEGIN:DAYLIGHT
TZOFFSETFROM:+0100
TZOFFSETTO:+0200
TZNAME:CEST
DTSTART:20200329T010000
END:DAYLIGHT
BEGIN:STANDARD
TZOFFSETFROM:+0200
TZOFFSETTO:+0100
TZNAME:CET
DTSTART:20201025T010000
END:STANDARD
BEGIN:DAYLIGHT
TZOFFSETFROM:+0100
TZOFFSETTO:+0200
TZNAME:CEST
DTSTART:20210328T010000
END:DAYLIGHT
BEGIN:STANDARD
TZOFFSETFROM:+0200
TZOFFSETTO:+0100
TZNAME:CET
DTSTART:20211031T010000
END:STANDARD
BEGIN:DAYLIGHT
TZOFFSETFROM:+0100
TZOFFSETTO:+0200
TZNAME:CEST
DTSTART:20220327T010000
END:DAYLIGHT
BEGIN:STANDARD
TZOFFSETFROM:+0200
TZOFFSETTO:+0100
TZNAME:CET
DTSTART:20221030T010000
END:STANDARD
END:VTIMEZONE
BEGIN:VEVENT
DTSTART;TZID=Europe/Paris:20210410T203000
DTEND;TZID=Europe/Paris:20210410T203000
DTSTAMP:20260421T194713
CREATED:20200814T130029Z
LAST-MODIFIED:20210205T160550Z
UID:41798-1618086600-1618086600@www.ville-lunion.fr
SUMMARY:SOIRÉE FLAMENCO - ANNULÉE
DESCRIPTION:Pour son 20ème anniversaire\, le festival flamenco de Toulouse en partenariat avec la ville de l’Union\, présente la bailaora Olga Llorente\, prix ‘Desplante’ au prestigieux concours de la Unión en 2019. ‘Así lo siento’ s’articule autour des sentiments de la vie\, qui s’entrelacent comme un livre ouvert sur un corps en mouvement. Par sa danse\, l’artiste vise la liberté absolue\, exprimant toute la palette des émotions\, la joie et la peine\, le doute et la peur\, la douleur et la colère… ‘Así lo siento’ \, un spectacle de facture classique qui comblera les aficionados et séduira les néophytes. \nTOUT PUBLIC\nPlacement libre \nDurée : 2H \nInformations et réservations :\nfestik.net/ et 05 62 89 22 86 (mairie)\nwww.festival-flamenco-toulouse.fr \n 
URL:https://www.ville-lunion.fr/evenement/soiree-flamenco/
LOCATION:Grande Halle de l’Union\, Rue du Somport\, L'Union\, 31240\, France
CATEGORIES:Spectacles
ATTACH;FMTTYPE=image/png:https://www.ville-lunion.fr/wp-content/uploads/2020/08/Flamenco.png
END:VEVENT
END:VCALENDAR