BEGIN:VCALENDAR
VERSION:2.0
PRODID:-//Ville de L&#039;Union - ECPv6.15.13//NONSGML v1.0//EN
CALSCALE:GREGORIAN
METHOD:PUBLISH
X-ORIGINAL-URL:https://www.ville-lunion.fr
X-WR-CALDESC:Évènements pour Ville de L&#039;Union
REFRESH-INTERVAL;VALUE=DURATION:PT1H
X-Robots-Tag:noindex
X-PUBLISHED-TTL:PT1H
BEGIN:VTIMEZONE
TZID:Europe/Paris
BEGIN:DAYLIGHT
TZOFFSETFROM:+0100
TZOFFSETTO:+0200
TZNAME:CEST
DTSTART:20200329T010000
END:DAYLIGHT
BEGIN:STANDARD
TZOFFSETFROM:+0200
TZOFFSETTO:+0100
TZNAME:CET
DTSTART:20201025T010000
END:STANDARD
BEGIN:DAYLIGHT
TZOFFSETFROM:+0100
TZOFFSETTO:+0200
TZNAME:CEST
DTSTART:20210328T010000
END:DAYLIGHT
BEGIN:STANDARD
TZOFFSETFROM:+0200
TZOFFSETTO:+0100
TZNAME:CET
DTSTART:20211031T010000
END:STANDARD
BEGIN:DAYLIGHT
TZOFFSETFROM:+0100
TZOFFSETTO:+0200
TZNAME:CEST
DTSTART:20220327T010000
END:DAYLIGHT
BEGIN:STANDARD
TZOFFSETFROM:+0200
TZOFFSETTO:+0100
TZNAME:CET
DTSTART:20221030T010000
END:STANDARD
END:VTIMEZONE
BEGIN:VEVENT
DTSTART;TZID=Europe/Paris:20210121T100000
DTEND;TZID=Europe/Paris:20210121T120000
DTSTAMP:20260421T235340
CREATED:20201208T092709Z
LAST-MODIFIED:20201208T092709Z
UID:42813-1611223200-1611230400@www.ville-lunion.fr
SUMMARY:Conférence AAPU\, histoire de l’Art - Berlin ville de contraste\, entre histoire et modernité
DESCRIPTION:Conférence AAPU\, histoire de l’Art\, à 10h auditorium de la salle des fêtes « Berlin ville de contraste\, entre histoire et modernité ». Entrée 8€ pour les non-inscrits à l’histoire de l’Art. (Sous réserve\, selon la réglementation sanitaire du moment)
URL:https://www.ville-lunion.fr/evenement/conference-aapu-histoire-de-lart-berlin-ville-de-contraste-entre-histoire-et-modernite/
LOCATION:Salle des fêtes de L’Union\, 6 Avenue des Pyrénées\, L'Union\, 31240\, France
CATEGORIES:Associations
ORGANIZER;CN="A.A.P.U":MAILTO:arts.plastiques.lunion@gmail.com
END:VEVENT
END:VCALENDAR