BEGIN:VCALENDAR
VERSION:2.0
PRODID:-//Ville de L&#039;Union - ECPv6.15.13//NONSGML v1.0//EN
CALSCALE:GREGORIAN
METHOD:PUBLISH
X-WR-CALNAME:Ville de L&#039;Union
X-ORIGINAL-URL:https://www.ville-lunion.fr
X-WR-CALDESC:Évènements pour Ville de L&#039;Union
REFRESH-INTERVAL;VALUE=DURATION:PT1H
X-Robots-Tag:noindex
X-PUBLISHED-TTL:PT1H
BEGIN:VTIMEZONE
TZID:Europe/Paris
BEGIN:DAYLIGHT
TZOFFSETFROM:+0100
TZOFFSETTO:+0200
TZNAME:CEST
DTSTART:20190331T010000
END:DAYLIGHT
BEGIN:STANDARD
TZOFFSETFROM:+0200
TZOFFSETTO:+0100
TZNAME:CET
DTSTART:20191027T010000
END:STANDARD
BEGIN:DAYLIGHT
TZOFFSETFROM:+0100
TZOFFSETTO:+0200
TZNAME:CEST
DTSTART:20200329T010000
END:DAYLIGHT
BEGIN:STANDARD
TZOFFSETFROM:+0200
TZOFFSETTO:+0100
TZNAME:CET
DTSTART:20201025T010000
END:STANDARD
BEGIN:DAYLIGHT
TZOFFSETFROM:+0100
TZOFFSETTO:+0200
TZNAME:CEST
DTSTART:20210328T010000
END:DAYLIGHT
BEGIN:STANDARD
TZOFFSETFROM:+0200
TZOFFSETTO:+0100
TZNAME:CET
DTSTART:20211031T010000
END:STANDARD
END:VTIMEZONE
BEGIN:VEVENT
DTSTART;VALUE=DATE:20201003
DTEND;VALUE=DATE:20201004
DTSTAMP:20260422T040306
CREATED:20200818T074813Z
LAST-MODIFIED:20200818T074813Z
UID:41887-1601683200-1601769599@www.ville-lunion.fr
SUMMARY:Présentation de la Saison Culturelle
DESCRIPTION:En préambule au spectacle « NOUGARO FAIT SON CINEMA »\, nous vous présentons les rendez-vous programmés dans l’agenda culturel municipal.
URL:https://www.ville-lunion.fr/evenement/presentation-de-la-saison-culturelle-3/
LOCATION:Grande Halle de l’Union\, Rue du Somport\, L'Union\, 31240\, France
CATEGORIES:Spectacles
ATTACH;FMTTYPE=application/pdf:https://www.ville-lunion.fr/wp-content/uploads/2020/08/PROGRAMME-CULTUREL-2020-2021.pdf
END:VEVENT
BEGIN:VEVENT
DTSTART;TZID=Europe/Paris:20201003T203000
DTEND;TZID=Europe/Paris:20201003T203000
DTSTAMP:20260422T040306
CREATED:20200804T171238Z
LAST-MODIFIED:20200907T122716Z
UID:41694-1601757000-1601757000@www.ville-lunion.fr
SUMMARY:CINÉ CONCERT NOUGARO FAIT SON CINÉMA
DESCRIPTION:Les «Nous»\, tribute à Claude Nougaro\, se sont déjà produits sur la scène de la Grande Halle. Ils reviennent cette année nous présenter leur nouveau spectacle\, Nougaro fait son cinéma.\nÀ Toulouse\, ils ont frôlé le grand Claude et croisé le piano de Maurice Vander. Parmi les nombreux hommages\, « Nous » fait exister Nougaro à chaque note\, chaque arrangement.\nChaque touche vocale chante fidèlement sa poésie gourmande et ses bulles de jazz\, sans limite et dans le pur respect de son oeuvre. Savourer Nougaro… Remettre le couvert… Sur l’écran noir de nos nuits blanches pour un concert. \nTOUT PUBLIC\nPlacement libre \nDurée : 2H \nTarifs : *17 € – **20 € – ***15 € (*Unionais ; ** Public extérieur ; ***Groupes\, étudiants\, demandeurs d’emploi). \nGratuit pour les moins de 12 ans. \n+ d’infos  : 05 62 89 22 86 \nBilletterie \nSOIRÉE DE PRÉSENTATION DE LA SAISON CULTURELLE\nEn préambule à ce premier spectacle de la saison 2020-2021\, nous vous présenterons les rendez-vous programmés dans l’agenda culturel municipal
URL:https://www.ville-lunion.fr/evenement/cine-concert-nougaro-fait-son-cinema/
LOCATION:Grande Halle de l’Union\, Rue du Somport\, L'Union\, 31240\, France
CATEGORIES:Spectacles
ATTACH;FMTTYPE=image/jpeg:https://www.ville-lunion.fr/wp-content/uploads/2020/08/nougaro2020.jpg
END:VEVENT
END:VCALENDAR