BEGIN:VCALENDAR
VERSION:2.0
PRODID:-//Ville de L&#039;Union - ECPv6.15.13//NONSGML v1.0//EN
CALSCALE:GREGORIAN
METHOD:PUBLISH
X-ORIGINAL-URL:https://www.ville-lunion.fr
X-WR-CALDESC:Évènements pour Ville de L&#039;Union
REFRESH-INTERVAL;VALUE=DURATION:PT1H
X-Robots-Tag:noindex
X-PUBLISHED-TTL:PT1H
BEGIN:VTIMEZONE
TZID:Europe/Paris
BEGIN:DAYLIGHT
TZOFFSETFROM:+0100
TZOFFSETTO:+0200
TZNAME:CEST
DTSTART:20190331T010000
END:DAYLIGHT
BEGIN:STANDARD
TZOFFSETFROM:+0200
TZOFFSETTO:+0100
TZNAME:CET
DTSTART:20191027T010000
END:STANDARD
BEGIN:DAYLIGHT
TZOFFSETFROM:+0100
TZOFFSETTO:+0200
TZNAME:CEST
DTSTART:20200329T010000
END:DAYLIGHT
BEGIN:STANDARD
TZOFFSETFROM:+0200
TZOFFSETTO:+0100
TZNAME:CET
DTSTART:20201025T010000
END:STANDARD
BEGIN:DAYLIGHT
TZOFFSETFROM:+0100
TZOFFSETTO:+0200
TZNAME:CEST
DTSTART:20210328T010000
END:DAYLIGHT
BEGIN:STANDARD
TZOFFSETFROM:+0200
TZOFFSETTO:+0100
TZNAME:CET
DTSTART:20211031T010000
END:STANDARD
END:VTIMEZONE
BEGIN:VEVENT
DTSTART;VALUE=DATE:20200905
DTEND;VALUE=DATE:20200906
DTSTAMP:20260422T053240
CREATED:20200804T171939Z
LAST-MODIFIED:20200831T123219Z
UID:41697-1599264000-1599350399@www.ville-lunion.fr
SUMMARY:Forum des associations
DESCRIPTION:En raison des mesures sanitaires\, la manifestation aura lieu uniquement de 9h à 12h à la Halle St Caprais et de 9h à 17h à la Maison des Sports.
URL:https://www.ville-lunion.fr/evenement/forum-des-associations-5/
LOCATION:Halle St Caprais\, Route de Bayonne\, L'Union\, 31240
CATEGORIES:Manifestations
ATTACH;FMTTYPE=image/jpeg:https://www.ville-lunion.fr/wp-content/uploads/2020/08/forum-associations-2020.jpg
END:VEVENT
END:VCALENDAR