BEGIN:VCALENDAR
VERSION:2.0
PRODID:-//Ville de L&#039;Union - ECPv6.15.13//NONSGML v1.0//EN
CALSCALE:GREGORIAN
METHOD:PUBLISH
X-ORIGINAL-URL:https://www.ville-lunion.fr
X-WR-CALDESC:Évènements pour Ville de L&#039;Union
REFRESH-INTERVAL;VALUE=DURATION:PT1H
X-Robots-Tag:noindex
X-PUBLISHED-TTL:PT1H
BEGIN:VTIMEZONE
TZID:Europe/Paris
BEGIN:DAYLIGHT
TZOFFSETFROM:+0100
TZOFFSETTO:+0200
TZNAME:CEST
DTSTART:20190331T010000
END:DAYLIGHT
BEGIN:STANDARD
TZOFFSETFROM:+0200
TZOFFSETTO:+0100
TZNAME:CET
DTSTART:20191027T010000
END:STANDARD
BEGIN:DAYLIGHT
TZOFFSETFROM:+0100
TZOFFSETTO:+0200
TZNAME:CEST
DTSTART:20200329T010000
END:DAYLIGHT
BEGIN:STANDARD
TZOFFSETFROM:+0200
TZOFFSETTO:+0100
TZNAME:CET
DTSTART:20201025T010000
END:STANDARD
BEGIN:DAYLIGHT
TZOFFSETFROM:+0100
TZOFFSETTO:+0200
TZNAME:CEST
DTSTART:20210328T010000
END:DAYLIGHT
BEGIN:STANDARD
TZOFFSETFROM:+0200
TZOFFSETTO:+0100
TZNAME:CET
DTSTART:20211031T010000
END:STANDARD
END:VTIMEZONE
BEGIN:VEVENT
DTSTART;VALUE=DATE:20200828
DTEND;VALUE=DATE:20200831
DTSTAMP:20260422T065948
CREATED:20200803T130900Z
LAST-MODIFIED:20200803T130900Z
UID:41671-1598572800-1598831999@www.ville-lunion.fr
SUMMARY:Fête de L'Union
DESCRIPTION:La traditionnelle fête de L’Union se tiendra les 28\, 29 et 30 août prochains\, devant la Grande Halle. Mais un important protocole sanitaire sera mis en œuvre\, et le feu d’artifices est annulé. Voici un point complet sur le dispositif. \nL’entrée à l’espace dédié à la fête foraine ne sera autorisé qu’en un seul point : au carrefour de la rue du Somport et de la rue du Mont Vallier. Les autres accès seront interdits\, et l’ensemble du périmètre de la fête sera délimité par des barrières infranchissables. Le site ouvrira ses portes au public chaque jour à partir de 16h. \nLes bals dansants ont dû être annulés. Il n’y aura pas non plus de buvette\, afin d’éviter de générer des regroupements. C’est malheureusement pour les mêmes raisons que le feu d’artifices a connu le même sort. Etant donné les mesures sanitaires qui s’imposent à ce jour\, et la typologie des lieux\, il était impossible d’assurer un dispositif adapté. La fête annuelle se tiendra bel et bien\, pour permettre quelques heures de jeu avant la rentrée des classes\, mais au prix de devoir annuler les animations qui donnaient plus de volume à l’enthousiasme qu’elle draine. \n 
URL:https://www.ville-lunion.fr/evenement/fete-de-lunion-2/
LOCATION:rue du Somport\, RUE DU SOMPORT\, L'UNION\, 31240\, France
CATEGORIES:Mairie
ATTACH;FMTTYPE=image/jpeg:https://www.ville-lunion.fr/wp-content/uploads/2020/08/fet2020.jpg
END:VEVENT
END:VCALENDAR