BEGIN:VCALENDAR
VERSION:2.0
PRODID:-//Ville de L&#039;Union - ECPv6.15.13//NONSGML v1.0//EN
CALSCALE:GREGORIAN
METHOD:PUBLISH
X-WR-CALNAME:Ville de L&#039;Union
X-ORIGINAL-URL:https://www.ville-lunion.fr
X-WR-CALDESC:Évènements pour Ville de L&#039;Union
REFRESH-INTERVAL;VALUE=DURATION:PT1H
X-Robots-Tag:noindex
X-PUBLISHED-TTL:PT1H
BEGIN:VTIMEZONE
TZID:Europe/Paris
BEGIN:DAYLIGHT
TZOFFSETFROM:+0100
TZOFFSETTO:+0200
TZNAME:CEST
DTSTART:20190331T010000
END:DAYLIGHT
BEGIN:STANDARD
TZOFFSETFROM:+0200
TZOFFSETTO:+0100
TZNAME:CET
DTSTART:20191027T010000
END:STANDARD
BEGIN:DAYLIGHT
TZOFFSETFROM:+0100
TZOFFSETTO:+0200
TZNAME:CEST
DTSTART:20200329T010000
END:DAYLIGHT
BEGIN:STANDARD
TZOFFSETFROM:+0200
TZOFFSETTO:+0100
TZNAME:CET
DTSTART:20201025T010000
END:STANDARD
BEGIN:DAYLIGHT
TZOFFSETFROM:+0100
TZOFFSETTO:+0200
TZNAME:CEST
DTSTART:20210328T010000
END:DAYLIGHT
BEGIN:STANDARD
TZOFFSETFROM:+0200
TZOFFSETTO:+0100
TZNAME:CET
DTSTART:20211031T010000
END:STANDARD
END:VTIMEZONE
BEGIN:VEVENT
DTSTART;TZID=Europe/Paris:20200528T200000
DTEND;TZID=Europe/Paris:20200528T200000
DTSTAMP:20260422T103530
CREATED:20200211T143057Z
LAST-MODIFIED:20200331T083629Z
UID:40019-1590696000-1590696000@www.ville-lunion.fr
SUMMARY:ANNULE - Conférence de Alexandre Jollien
DESCRIPTION:Slalomer dans l’amour par delà peur et avidité \n\n\n\nInscription\n\n\n\n\n\n\nPrix : 20 € (tarif unique\, placement libre).\n\n\n\nLes personnes à mobilité réduite doivent prendre contact par mail à l’adresse contact@rencontres-perspectives.fr avant d’acheter leurs billets\, afin qu’une place adaptée leur soit réservée.\n\n\n\n \n\n\n\nDéroulé de la soirée  \nAccueil à partir de 19h\, début de la conférence à 20h pour une durée de 1h30 environ\, avec un temps de questions-réponses.\nIl n’y aura pas de séance de dédicace.  \nLibrairie sur place.\n\n\n\nBilletterie https://www.weezevent.com/conference-alexandre-jollien-toulouse-2020 \n 
URL:https://www.ville-lunion.fr/evenement/conference-de-alexandre-jollien/
LOCATION:Grande Halle de l’Union\, Rue du Somport\, L'Union\, 31240\, France
CATEGORIES:Spectacles
ATTACH;FMTTYPE=image/jpeg:https://www.ville-lunion.fr/wp-content/uploads/2020/02/jollien.jpg
END:VEVENT
END:VCALENDAR