BEGIN:VCALENDAR
VERSION:2.0
PRODID:-//Ville de L&#039;Union - ECPv6.15.13//NONSGML v1.0//EN
CALSCALE:GREGORIAN
METHOD:PUBLISH
X-ORIGINAL-URL:https://www.ville-lunion.fr
X-WR-CALDESC:Évènements pour Ville de L&#039;Union
REFRESH-INTERVAL;VALUE=DURATION:PT1H
X-Robots-Tag:noindex
X-PUBLISHED-TTL:PT1H
BEGIN:VTIMEZONE
TZID:Europe/Paris
BEGIN:DAYLIGHT
TZOFFSETFROM:+0100
TZOFFSETTO:+0200
TZNAME:CEST
DTSTART:20190331T010000
END:DAYLIGHT
BEGIN:STANDARD
TZOFFSETFROM:+0200
TZOFFSETTO:+0100
TZNAME:CET
DTSTART:20191027T010000
END:STANDARD
BEGIN:DAYLIGHT
TZOFFSETFROM:+0100
TZOFFSETTO:+0200
TZNAME:CEST
DTSTART:20200329T010000
END:DAYLIGHT
BEGIN:STANDARD
TZOFFSETFROM:+0200
TZOFFSETTO:+0100
TZNAME:CET
DTSTART:20201025T010000
END:STANDARD
BEGIN:DAYLIGHT
TZOFFSETFROM:+0100
TZOFFSETTO:+0200
TZNAME:CEST
DTSTART:20210328T010000
END:DAYLIGHT
BEGIN:STANDARD
TZOFFSETFROM:+0200
TZOFFSETTO:+0100
TZNAME:CET
DTSTART:20211031T010000
END:STANDARD
END:VTIMEZONE
BEGIN:VEVENT
DTSTART;VALUE=DATE:20200509
DTEND;VALUE=DATE:20200518
DTSTAMP:20260422T103605
CREATED:20200313T154838Z
LAST-MODIFIED:20200331T091012Z
UID:40177-1588982400-1589759999@www.ville-lunion.fr
SUMMARY:ANNULE - Salon des Arts
DESCRIPTION:Organisé par l’AAPU. \nEntrée libre
URL:https://www.ville-lunion.fr/evenement/salon-des-arts/
LOCATION:Grande Halle de l’Union\, Rue du Somport\, L'Union\, 31240\, France
CATEGORIES:Associations
ATTACH;FMTTYPE=image/jpeg:https://www.ville-lunion.fr/wp-content/uploads/2018/03/17-expo-AAPU-et-Union-Images.jpg
END:VEVENT
BEGIN:VEVENT
DTSTART;VALUE=DATE:20200515
DTEND;VALUE=DATE:20200518
DTSTAMP:20260422T103605
CREATED:20190917T091149Z
LAST-MODIFIED:20200331T083414Z
UID:39174-1589500800-1589759999@www.ville-lunion.fr
SUMMARY:ANNULE - LES THÉÂTRALES DE L’UNION
DESCRIPTION:FESTIVAL DE THÉÂTRE AMATEUR \nCe festival de théâtre amateur est organisé par l’association « Les Théâtrales de l’Union »\, composée du Comité Départemental de la Fédération Nationale des Compagnies de Théâtre et d’Animation\n(FNCTA)\, du Théâtre de l’Olivier et de la troupe de l’Oiseau Moqueur avec l’aide et le soutien de la Mairie de L’Union. L’objectif est d’offrir au public un  festival de qualité qui reflète la vitalité et la diversité\ndu théâtre en amateur : comédie\, drame\, lecture\, sketchs\, spectacle pour enfants… Vive le théâtre !\nLe programme détaillé sera dévoilé dans le courant de la saison. \nTOUT PUBLIC\nplacement libre\nTarifs\n• plein : 8€/spectacle\n• réduit (étudiants\, adhérents FNCTA\, demandeurs d’emploi) : 6€ /spectacle\n• enfant + 12 ans : 4€ / spectacle\n• enfant – 12ans : gratuit\n• tarif matinée enfants : 4€ + un accompagnateur gratuit – Adultes : 4€ \ninformations et réservations : www.festik.net • lestheatralesdelunion@gmail.com\n06 40 73 63 09\, et avant chaque spectacle à l’entrée de la Salle des Fêtes\nUn bar est à votre disposition entre les spectacles
URL:https://www.ville-lunion.fr/evenement/les-theatrales-de-lunion/
LOCATION:Salle des fêtes de L’Union\, 6 Avenue des Pyrénées\, L'Union\, 31240\, France
CATEGORIES:Associations
ATTACH;FMTTYPE=image/jpeg:https://www.ville-lunion.fr/wp-content/uploads/2019/09/affiche-2020.jpg
END:VEVENT
END:VCALENDAR