BEGIN:VCALENDAR
VERSION:2.0
PRODID:-//Ville de L&#039;Union - ECPv6.15.13//NONSGML v1.0//EN
CALSCALE:GREGORIAN
METHOD:PUBLISH
X-WR-CALNAME:Ville de L&#039;Union
X-ORIGINAL-URL:https://www.ville-lunion.fr
X-WR-CALDESC:Évènements pour Ville de L&#039;Union
REFRESH-INTERVAL;VALUE=DURATION:PT1H
X-Robots-Tag:noindex
X-PUBLISHED-TTL:PT1H
BEGIN:VTIMEZONE
TZID:Europe/Paris
BEGIN:DAYLIGHT
TZOFFSETFROM:+0100
TZOFFSETTO:+0200
TZNAME:CEST
DTSTART:20190331T010000
END:DAYLIGHT
BEGIN:STANDARD
TZOFFSETFROM:+0200
TZOFFSETTO:+0100
TZNAME:CET
DTSTART:20191027T010000
END:STANDARD
BEGIN:DAYLIGHT
TZOFFSETFROM:+0100
TZOFFSETTO:+0200
TZNAME:CEST
DTSTART:20200329T010000
END:DAYLIGHT
BEGIN:STANDARD
TZOFFSETFROM:+0200
TZOFFSETTO:+0100
TZNAME:CET
DTSTART:20201025T010000
END:STANDARD
BEGIN:DAYLIGHT
TZOFFSETFROM:+0100
TZOFFSETTO:+0200
TZNAME:CEST
DTSTART:20210328T010000
END:DAYLIGHT
BEGIN:STANDARD
TZOFFSETFROM:+0200
TZOFFSETTO:+0100
TZNAME:CET
DTSTART:20211031T010000
END:STANDARD
END:VTIMEZONE
BEGIN:VEVENT
DTSTART;VALUE=DATE:20200327
DTEND;VALUE=DATE:20200330
DTSTAMP:20260422T131447
CREATED:20190917T085432Z
LAST-MODIFIED:20200331T075923Z
UID:39148-1585267200-1585526399@www.ville-lunion.fr
SUMMARY:ANNULE - Festival MUSICONVIVIAL
DESCRIPTION:Avec  l’arrivée du printemps\,  la musique se met en fête. Le Musiconvivial est de retour : événement exceptionnel\, trois jours de  musique organisés par le Pôle musical et la ville de l’Union\nIls se dérouleront\nvendredi   27 mars à 21h :concert de jazz \nsamedi 28 mars à  15h30 : concert d’ Orchestre d’harmonie et symphonique\ndimanche 29 mars   à 15h30 : concert  d’Ensembles Vocaux \nUn week-end où le public et les musiciens vont se retrouver pour partager des moments inoubliables et inédits\, où la musique sera présente sous toutes ses formes. Que du bonheur ! \nLe vendredi soir\, c’est le  Big Band du Pôle Musical sous la direction de Jean-Charles FROUX qui ouvrira  ce festival. Cet ensemble par son dynamisme et sa bonne humeur sera   l’illustration même de l’ambiance de toute cette fête. Suivra  Le Jazz  Orchestra Grisolles  (J.O.G.) Big Band élégant composé de 19 musiciens dont une chanteuse et un chanteur et dirigé avec talent par le trompettiste Frédéric COUSTOU. L’un et l’autre perpétuent la tradition des orchestres mythiques de jazz remontant aux années 30 et s’investissent dans leur passion pour nous offrir les célèbres morceaux de cette belle époque et nous faire vibrer dans leurs envoutantes improvisations. Ces deux ensembles vous entraîneront dans un univers de fougue et de charme. \nLe samedi après-midi prendront place trois orchestres : un orchestre symphonique et deux orchestres d’harmonie. Tout d’abord le très jeune orchestre symphonique  du Pôle musical\, conduit par Laurent ITIER qui permet aux musiciens  de  pratiquer leur  passion\,vous interpétera  des œuvres du répertoire cinématographique. Puis\, l’Orchestre d’Harmonie de Venerque- Le Vernet qui  réunit une cinquantaine de musiciens amateurs et passionnés\, sous la conduite de Cyril DEVAUX vous proposera un répertoire qui allie classique et modernité.\,  Enfin\, lui succèdera l’Harmonie du Pôle musical avec son chef Laurent ITIER\, déjà connu et apprécié du public. Les  quatre-vingts musiciens vous présenteront un programme riche et varié où chacun y trouvera son plaisir. \nLe dimanche sera le temps fort de ce week-end avec deux moments extraordinaires. En première partie : une centaine de choristes (adultes et enfants) réunis dans le cadre de l’Année Chorale « Il Faut Que ça EnvoiX » par l’Union Départementale des Ecoles de Musique et de Danse (UDEMD31) et la Fédération des Sociétés Musicales de la Haute-Garonne (FSM31) : \n\nles  Choeurs adultes et enfants du CRI d’Axe Sud\,\nle  Chœur adultes de l’école municipale de musique de Beauzelle.\nle chœur d’enfants  La Lauzeta de Toulouse\,\nl’Ensemble vocal de L’Union\,\n\nTous ces choristes\, sous la direction de Jean Guy OLIVE \, accompagnés au piano par Sandrine  MASSICOT vous feront découvrir « Dogora» une œuvre musicale unique en son genre d’Etienne PERRUCHON (1958-2019)  Une œuvre contemporaine magistrale et populaire écrite en dogorien\, langage imaginaire aux sonorités slaves qui raconte la vie d’un peuple imaginaire les  » Dogoriens. \nSi Dogora vous touche au plus profond de vous-mêmes\, vous serez  aussi fortement émus dans  la seconde  partie de ce concert par le Chœur Gospel Moody Blue. Créé en 1997 par Gérard MUNOZ\, le chef de chœur\, Moody Blues Gospel à vocation humanitaire est composé d’une quarantaine de chanteurs amateurs. Basée sur des valeurs de convivialité\, d’échange et autour de la passion du chant\, la chorale n’hésite pas à faire participer le public dans la joie et la bonne humeur. Vous voyagerez au travers de chants empreints de spiritualité\,  d’émotion mais aussi beaucoup d’énergie. \nLe Festival « Musiconvivial »\, trois jours d’une grande qualité artistique\, de rencontres entre musiciens et d’échanges avec le public\, riches en émotions ….. \nVenez  profiter de ce festival !!! Entrée gratuite les 3 jours
URL:https://www.ville-lunion.fr/evenement/festival-musiconvivial-2/
LOCATION:Grande Halle de l’Union\, Rue du Somport\, L'Union\, 31240\, France
CATEGORIES:Associations
ATTACH;FMTTYPE=image/jpeg:https://www.ville-lunion.fr/wp-content/uploads/2019/09/musiconvivial2020.jpg
END:VEVENT
END:VCALENDAR