BEGIN:VCALENDAR
VERSION:2.0
PRODID:-//Ville de L&#039;Union - ECPv6.15.13//NONSGML v1.0//EN
CALSCALE:GREGORIAN
METHOD:PUBLISH
X-ORIGINAL-URL:https://www.ville-lunion.fr
X-WR-CALDESC:Évènements pour Ville de L&#039;Union
REFRESH-INTERVAL;VALUE=DURATION:PT1H
X-Robots-Tag:noindex
X-PUBLISHED-TTL:PT1H
BEGIN:VTIMEZONE
TZID:Europe/Paris
BEGIN:DAYLIGHT
TZOFFSETFROM:+0100
TZOFFSETTO:+0200
TZNAME:CEST
DTSTART:20190331T010000
END:DAYLIGHT
BEGIN:STANDARD
TZOFFSETFROM:+0200
TZOFFSETTO:+0100
TZNAME:CET
DTSTART:20191027T010000
END:STANDARD
BEGIN:DAYLIGHT
TZOFFSETFROM:+0100
TZOFFSETTO:+0200
TZNAME:CEST
DTSTART:20200329T010000
END:DAYLIGHT
BEGIN:STANDARD
TZOFFSETFROM:+0200
TZOFFSETTO:+0100
TZNAME:CET
DTSTART:20201025T010000
END:STANDARD
BEGIN:DAYLIGHT
TZOFFSETFROM:+0100
TZOFFSETTO:+0200
TZNAME:CEST
DTSTART:20210328T010000
END:DAYLIGHT
BEGIN:STANDARD
TZOFFSETFROM:+0200
TZOFFSETTO:+0100
TZNAME:CET
DTSTART:20211031T010000
END:STANDARD
END:VTIMEZONE
BEGIN:VEVENT
DTSTART;VALUE=DATE:20200123
DTEND;VALUE=DATE:20200214
DTSTAMP:20260422T155501
CREATED:20191125T140602Z
LAST-MODIFIED:20191125T140849Z
UID:39570-1579737600-1581638399@www.ville-lunion.fr
SUMMARY:exposition AAPU « peinture chinoise » dans le cadre du Nouvel An chinois.
DESCRIPTION:Vernissage chinois\, le jeudi à 18h30. Entrée libre
URL:https://www.ville-lunion.fr/evenement/exposition-aapu-peinture-chinoise-dans-le-cadre-du-nouvel-an-chinois/
LOCATION:Bibliothèque de L’Union\, 6 Avenue de Toulouse\, 31240
CATEGORIES:Associations
ATTACH;FMTTYPE=image/jpeg:https://www.ville-lunion.fr/wp-content/uploads/2018/11/aapu.jpg
END:VEVENT
BEGIN:VEVENT
DTSTART;TZID=Europe/Paris:20200125T090000
DTEND;TZID=Europe/Paris:20200125T123000
DTSTAMP:20260422T155501
CREATED:20191125T140726Z
LAST-MODIFIED:20191224T092229Z
UID:39573-1579942800-1579955400@www.ville-lunion.fr
SUMMARY:Forum des métiers
DESCRIPTION:Il y a 20 ans\, le premier Forum des Métiers voyait le jour à l’Union\, né d’une collaboration entre la mairie de l’Union\, le comité local Ecole Entreprise Toulouse Nord et plusieurs clubs Rotary : Toulouse Terre d’Envol\, Toulouse Frontonnais\, Toulouse\, Toulouse Lauragais. \nOBJECTIFS : Permettre aux collégiens et lycéens ainsi qu’a leurs parents de découvrir plus de 60 métiers\, tous réunis en un seul lieu de 1 500 mètres carrés : l’agriculture\, le bâtiment\, l’industrie\, l’informatique\, la production alimentaire\, le travail du bois\, l’aéronautique\, l’hôtellerie\, les techniques graphiques et la communication\, la santé et le bien-être\, le commerce et la distribution\, le juridique et les finances\, les transports\, l’éducation nationale et la défense\, etc… \nMOYENS : \n\nDes stands et des professionnels à la disposition des jeunes et de leurs parents pour répondre à toutes leurs questions (chefs d’entreprises\, ouvriers\, cadres\, salariés\, consultants\, ingénieurs\, techniciens\, forces de l’ordre\, etc .)\nUne conférence  : métiers de l’industrie\, jouons à casser les stéréotypes.\n\nPour fêter les 20 ans\, le Forum des Métiers organise un grand jeu du parcours visiteurs avec des lots à gagner : coaching d’orientation\, entrées à Aeroscopia…) \n 
URL:https://www.ville-lunion.fr/evenement/forum-des-metiers-3/
LOCATION:Grande Halle de l’Union\, Rue du Somport\, L'Union\, 31240\, France
CATEGORIES:Mairie
ATTACH;FMTTYPE=image/jpeg:https://www.ville-lunion.fr/wp-content/uploads/2019/11/FORUM-METIERS-2020.jpg
END:VEVENT
BEGIN:VEVENT
DTSTART;TZID=Europe/Paris:20200125T203000
DTEND;TZID=Europe/Paris:20200125T203000
DTSTAMP:20260422T155501
CREATED:20191126T073915Z
LAST-MODIFIED:20191126T073915Z
UID:39577-1579984200-1579984200@www.ville-lunion.fr
SUMMARY:Concert quatuor «CORDES ET ÂMES » & la chorale « SI TOUS ENSEMBLE »
DESCRIPTION:Concert organisé par le ZONTA ISATIS L’UNION avec le quatuor «CORDES ET ÂMES » (musiciens du Capitole) et la chorale « SI TOUS ENSEMBLE » de Castemaurou. \nParticipation libre.
URL:https://www.ville-lunion.fr/evenement/concert-quatuor-cordes-et-ames-la-chorale-si-tous-ensemble/
LOCATION:Eglise de L’Union\, 67 Avenue de Toulouse\, L'UNION\, 31240
CATEGORIES:Associations
ATTACH;FMTTYPE=image/jpeg:https://www.ville-lunion.fr/wp-content/uploads/2018/01/TOUS-ENSEMBLE.jpg
END:VEVENT
END:VCALENDAR