BEGIN:VCALENDAR
VERSION:2.0
PRODID:-//Ville de L&#039;Union - ECPv6.15.13//NONSGML v1.0//EN
CALSCALE:GREGORIAN
METHOD:PUBLISH
X-WR-CALNAME:Ville de L&#039;Union
X-ORIGINAL-URL:https://www.ville-lunion.fr
X-WR-CALDESC:Évènements pour Ville de L&#039;Union
REFRESH-INTERVAL;VALUE=DURATION:PT1H
X-Robots-Tag:noindex
X-PUBLISHED-TTL:PT1H
BEGIN:VTIMEZONE
TZID:Europe/Paris
BEGIN:DAYLIGHT
TZOFFSETFROM:+0100
TZOFFSETTO:+0200
TZNAME:CEST
DTSTART:20190331T010000
END:DAYLIGHT
BEGIN:STANDARD
TZOFFSETFROM:+0200
TZOFFSETTO:+0100
TZNAME:CET
DTSTART:20191027T010000
END:STANDARD
BEGIN:DAYLIGHT
TZOFFSETFROM:+0100
TZOFFSETTO:+0200
TZNAME:CEST
DTSTART:20200329T010000
END:DAYLIGHT
BEGIN:STANDARD
TZOFFSETFROM:+0200
TZOFFSETTO:+0100
TZNAME:CET
DTSTART:20201025T010000
END:STANDARD
BEGIN:DAYLIGHT
TZOFFSETFROM:+0100
TZOFFSETTO:+0200
TZNAME:CEST
DTSTART:20210328T010000
END:DAYLIGHT
BEGIN:STANDARD
TZOFFSETFROM:+0200
TZOFFSETTO:+0100
TZNAME:CET
DTSTART:20211031T010000
END:STANDARD
END:VTIMEZONE
BEGIN:VEVENT
DTSTART;VALUE=DATE:20200107
DTEND;VALUE=DATE:20200122
DTSTAMP:20260422T155255
CREATED:20200106T140415Z
LAST-MODIFIED:20200106T140415Z
UID:39737-1578355200-1579651199@www.ville-lunion.fr
SUMMARY:Exposition photos  de Wilfried IVANES et Union images
DESCRIPTION:Thème Lumière sur L’union
URL:https://www.ville-lunion.fr/evenement/exposition-photos-de-wilfried-ivanes-et-union-images/
LOCATION:Bibliothèque de L’Union\, 6 Avenue de Toulouse\, 31240
CATEGORIES:Associations
ATTACH;FMTTYPE=image/jpeg:https://www.ville-lunion.fr/wp-content/uploads/2020/01/affiche-expo-02-1.jpg
END:VEVENT
BEGIN:VEVENT
DTSTART;TZID=Europe/Paris:20200120T203000
DTEND;TZID=Europe/Paris:20200120T203000
DTSTAMP:20260422T155255
CREATED:20191224T103405Z
LAST-MODIFIED:20191224T103405Z
UID:39703-1579552200-1579552200@www.ville-lunion.fr
SUMMARY:FILM DOCUMENTAIRE L’EUROPE AU PIED DES MURS
DESCRIPTION:proposé par le CCFD \nCe film est une enquête pour découvrir et comprendre la face cachée de ces murs que nous\, citoyens européens\, ne soupçonnons pas. Il montre\nd’une part le périlleux parcours des migrants pour atteindre les frontières de l’Europe\, et d’autre part il enquête sur les enjeux politiques et économiques de ces murs.\nLa projection sera suivie d’un débat animé par Madame Annalisa Lendaro de l’Université Jean Jaurès\, chargée de recherche au CNRS en sociologie politique des migrations. \n 
URL:https://www.ville-lunion.fr/evenement/film-documentaire-leurope-au-pied-des-murs/
LOCATION:Le Lumière\, 6 Rue du Pic du Midi\, L'Union\, 31240\, France
CATEGORIES:Associations,Cinéma
ATTACH;FMTTYPE=image/jpeg:https://www.ville-lunion.fr/wp-content/uploads/2019/12/europe.jpg
END:VEVENT
END:VCALENDAR