BEGIN:VCALENDAR
VERSION:2.0
PRODID:-//Ville de L&#039;Union - ECPv6.15.13//NONSGML v1.0//EN
CALSCALE:GREGORIAN
METHOD:PUBLISH
X-WR-CALNAME:Ville de L&#039;Union
X-ORIGINAL-URL:https://www.ville-lunion.fr
X-WR-CALDESC:Évènements pour Ville de L&#039;Union
REFRESH-INTERVAL;VALUE=DURATION:PT1H
X-Robots-Tag:noindex
X-PUBLISHED-TTL:PT1H
BEGIN:VTIMEZONE
TZID:Europe/Paris
BEGIN:DAYLIGHT
TZOFFSETFROM:+0100
TZOFFSETTO:+0200
TZNAME:CEST
DTSTART:20190331T010000
END:DAYLIGHT
BEGIN:STANDARD
TZOFFSETFROM:+0200
TZOFFSETTO:+0100
TZNAME:CET
DTSTART:20191027T010000
END:STANDARD
BEGIN:DAYLIGHT
TZOFFSETFROM:+0100
TZOFFSETTO:+0200
TZNAME:CEST
DTSTART:20200329T010000
END:DAYLIGHT
BEGIN:STANDARD
TZOFFSETFROM:+0200
TZOFFSETTO:+0100
TZNAME:CET
DTSTART:20201025T010000
END:STANDARD
BEGIN:DAYLIGHT
TZOFFSETFROM:+0100
TZOFFSETTO:+0200
TZNAME:CEST
DTSTART:20210328T010000
END:DAYLIGHT
BEGIN:STANDARD
TZOFFSETFROM:+0200
TZOFFSETTO:+0100
TZNAME:CET
DTSTART:20211031T010000
END:STANDARD
END:VTIMEZONE
BEGIN:VEVENT
DTSTART;VALUE=DATE:20200107
DTEND;VALUE=DATE:20200122
DTSTAMP:20260422T155321
CREATED:20200106T140415Z
LAST-MODIFIED:20200106T140415Z
UID:39737-1578355200-1579651199@www.ville-lunion.fr
SUMMARY:Exposition photos  de Wilfried IVANES et Union images
DESCRIPTION:Thème Lumière sur L’union
URL:https://www.ville-lunion.fr/evenement/exposition-photos-de-wilfried-ivanes-et-union-images/
LOCATION:Bibliothèque de L’Union\, 6 Avenue de Toulouse\, 31240
CATEGORIES:Associations
ATTACH;FMTTYPE=image/jpeg:https://www.ville-lunion.fr/wp-content/uploads/2020/01/affiche-expo-02-1.jpg
END:VEVENT
BEGIN:VEVENT
DTSTART;VALUE=DATE:20200117
DTEND;VALUE=DATE:20200120
DTSTAMP:20260422T155321
CREATED:20191125T135745Z
LAST-MODIFIED:20191125T135745Z
UID:39566-1579219200-1579478399@www.ville-lunion.fr
SUMMARY:Tournoi tir à l’Arc
DESCRIPTION:
URL:https://www.ville-lunion.fr/evenement/tournoi-tir-a-larc/
LOCATION:Grande Halle de l’Union\, Rue du Somport\, L'Union\, 31240\, France
CATEGORIES:Sport
ATTACH;FMTTYPE=image/jpeg:https://www.ville-lunion.fr/wp-content/uploads/2017/11/tir.jpg
END:VEVENT
BEGIN:VEVENT
DTSTART;VALUE=DATE:20200119
DTEND;VALUE=DATE:20200120
DTSTAMP:20260422T155321
CREATED:20191224T104858Z
LAST-MODIFIED:20191224T104858Z
UID:39716-1579392000-1579478399@www.ville-lunion.fr
SUMMARY:Challenge France VOLLEY ASSIS
DESCRIPTION:Pour la troisième édition du Challenge France Volley Assis\, le club de l’Association Sportive de L’Union a le plaisir d’accueillir\, à la demande de la Fédération Française de Volley\, la seconde étape le dimanche 19 Janvier 2020 au gymnase C300 – Stade Beyney.\nCe Challenge est un championnat dédié à 100% au Volley Assis\, discipline Paralympique depuis 1980.\nDes joueurs et joueuses du Collectif France de Volley Assis seront présents.\nSoyez nombreux à venir découvrir cette activité sportive méconnue en France ! \nGYMNASE C3 – STADE G.BEYNEY
URL:https://www.ville-lunion.fr/evenement/challenge-france-volley-assis/
LOCATION:Stade Georges BEYNEY\, 11 rue du Puy de Sancy\, L'Union\, 31240\, France
CATEGORIES:Sport
ATTACH;FMTTYPE=image/jpeg:https://www.ville-lunion.fr/wp-content/uploads/2019/12/volley2020.jpg
END:VEVENT
BEGIN:VEVENT
DTSTART;TZID=Europe/Paris:20200119T110000
DTEND;TZID=Europe/Paris:20200119T110000
DTSTAMP:20260422T155321
CREATED:20191224T104610Z
LAST-MODIFIED:20191224T104610Z
UID:39712-1579431600-1579431600@www.ville-lunion.fr
SUMMARY:Dégustation d’huîtres
DESCRIPTION:FRAÎCHES ET DÉLICIEUSES AVEC UN PETIT VERRE DE VIN BLANC SUR LE MARCHÉ DE PLEIN VENT À L’ESPACE « MANGE-DEBOUT » \nVous avez apprécié ce moment de dégustation en 2019 ? Vous attendiez la date pour 2020 ?\nSi vous ne voulez pas manquer ce moment\, notez dans votre agenda : dimanche 19 janvier 2020* à partir de 11 h\nL’équipe sympathique et dynamique de l’Union Festivités sera à la tâche pour vous préparer les assiettes.\n* En cas de météo défavorable\, la dégustation sera reportée au dimanche 26 janvier
URL:https://www.ville-lunion.fr/evenement/degustation-dhuitres/
LOCATION:marché de plein vent\, Rue du pic du midi\, L'Union\, France
CATEGORIES:Mairie
ATTACH;FMTTYPE=image/jpeg:https://www.ville-lunion.fr/wp-content/uploads/2019/12/huitres.jpg
END:VEVENT
BEGIN:VEVENT
DTSTART;TZID=Europe/Paris:20200119T150000
DTEND;TZID=Europe/Paris:20200119T150000
DTSTAMP:20260422T155321
CREATED:20191224T103823Z
LAST-MODIFIED:20191224T103823Z
UID:39706-1579446000-1579446000@www.ville-lunion.fr
SUMMARY:GRAND THÉÂTRE SUR GRAND ÉCRAN LES FOURBERIES DE SCAPIN
DESCRIPTION:de Molière à la Comédie Française\nMise en scène de Denis Podalydes\n(entrée 16€) \n\nOctave et Léandre voient leurs amours contrariées face à deux pères autoritaires qui rentrent de voyage avec la ferme intention de les marier à des inconnues. Ils remettent leur destin entre les mains du rusé Scapin pour les aider… \n\nCoups de bâton\, avalanche de stratagèmes et autres fourberies rythment cette comédie de Molière qui a fini par s’imposer comme une œuvre incontournable du dramaturge.
URL:https://www.ville-lunion.fr/evenement/grand-theatre-sur-grand-ecran-les-fourberies-de-scapin/
LOCATION:Le Lumière\, 6 Rue du Pic du Midi\, L'Union\, 31240\, France
CATEGORIES:Cinéma
ATTACH;FMTTYPE=image/jpeg:https://www.ville-lunion.fr/wp-content/uploads/2019/12/scapin.jpg
END:VEVENT
END:VCALENDAR