BEGIN:VCALENDAR
VERSION:2.0
PRODID:-//Ville de L&#039;Union - ECPv6.15.13//NONSGML v1.0//EN
CALSCALE:GREGORIAN
METHOD:PUBLISH
X-ORIGINAL-URL:https://www.ville-lunion.fr
X-WR-CALDESC:Évènements pour Ville de L&#039;Union
REFRESH-INTERVAL;VALUE=DURATION:PT1H
X-Robots-Tag:noindex
X-PUBLISHED-TTL:PT1H
BEGIN:VTIMEZONE
TZID:Europe/Paris
BEGIN:DAYLIGHT
TZOFFSETFROM:+0100
TZOFFSETTO:+0200
TZNAME:CEST
DTSTART:20180325T010000
END:DAYLIGHT
BEGIN:STANDARD
TZOFFSETFROM:+0200
TZOFFSETTO:+0100
TZNAME:CET
DTSTART:20181028T010000
END:STANDARD
BEGIN:DAYLIGHT
TZOFFSETFROM:+0100
TZOFFSETTO:+0200
TZNAME:CEST
DTSTART:20190331T010000
END:DAYLIGHT
BEGIN:STANDARD
TZOFFSETFROM:+0200
TZOFFSETTO:+0100
TZNAME:CET
DTSTART:20191027T010000
END:STANDARD
BEGIN:DAYLIGHT
TZOFFSETFROM:+0100
TZOFFSETTO:+0200
TZNAME:CEST
DTSTART:20200329T010000
END:DAYLIGHT
BEGIN:STANDARD
TZOFFSETFROM:+0200
TZOFFSETTO:+0100
TZNAME:CET
DTSTART:20201025T010000
END:STANDARD
END:VTIMEZONE
BEGIN:VEVENT
DTSTART;VALUE=DATE:20191128
DTEND;VALUE=DATE:20191220
DTSTAMP:20260422T173359
CREATED:20191001T145523Z
LAST-MODIFIED:20191001T145637Z
UID:39276-1574899200-1576799999@www.ville-lunion.fr
SUMMARY:exposition AAPU - « Ombre et lumière »
DESCRIPTION:
URL:https://www.ville-lunion.fr/evenement/exposition-aapu-ombre-et-lumiere/
LOCATION:Bibliothèque de L’Union\, 6 Avenue de Toulouse\, 31240
CATEGORIES:Associations
ATTACH;FMTTYPE=image/jpeg:https://www.ville-lunion.fr/wp-content/uploads/2018/11/aapu.jpg
END:VEVENT
BEGIN:VEVENT
DTSTART;TZID=Europe/Paris:20191209T203000
DTEND;TZID=Europe/Paris:20191209T203000
DTSTAMP:20260422T173359
CREATED:20191125T131332Z
LAST-MODIFIED:20191125T131332Z
UID:39533-1575923400-1575923400@www.ville-lunion.fr
SUMMARY:Cinéma - BIKES VS CARS (vélos contre voitures) du Suédois Fredrik GERTTEN
DESCRIPTION:Film documentaire en partenariat avec l’association FREDD\nUn excellent documentaire qui\, chiffres\, statistiques et images frappantes à l’appui\, démontre l’absurdité du tout-voiture\, véritable fléau pour l’environnement et pour notre santé\, mais en dépit duquel la vente d’automobiles explose dans le monde.\nDénonçant les lobbies industriels de l’automobile et la complicité de certains politiques\, il nous présente ceux et celles qui\, de Sao Paulo à Los Angeles en passant par Toronto et autres mégalopoles\, se sont engagés\, non sans succès\, dans le combat contre l’hégémonie de la voiture avec comme arme leur vélo.\nA travers cette bataille pour la mobilité douce ils invitent le spectateur à changer son mode de déplacement…le modèle danois de Copenhague où plus de 40% des déplacements professionnels s’effectuent à vélo est montré en contreexemple.\nProjection suivie d’un débat avec le réalisateur
URL:https://www.ville-lunion.fr/evenement/cinema-bikes-vs-cars-velos-contre-voitures-du-suedois-fredrik-gertten/
LOCATION:Le Lumière\, 6 Rue du Pic du Midi\, L'Union\, 31240\, France
CATEGORIES:Cinéma
ATTACH;FMTTYPE=image/jpeg:https://www.ville-lunion.fr/wp-content/uploads/2019/11/bikes.jpg
END:VEVENT
END:VCALENDAR