BEGIN:VCALENDAR
VERSION:2.0
PRODID:-//Ville de L&#039;Union - ECPv6.15.13//NONSGML v1.0//EN
CALSCALE:GREGORIAN
METHOD:PUBLISH
X-WR-CALNAME:Ville de L&#039;Union
X-ORIGINAL-URL:https://www.ville-lunion.fr
X-WR-CALDESC:Évènements pour Ville de L&#039;Union
REFRESH-INTERVAL;VALUE=DURATION:PT1H
X-Robots-Tag:noindex
X-PUBLISHED-TTL:PT1H
BEGIN:VTIMEZONE
TZID:Europe/Paris
BEGIN:DAYLIGHT
TZOFFSETFROM:+0100
TZOFFSETTO:+0200
TZNAME:CEST
DTSTART:20180325T010000
END:DAYLIGHT
BEGIN:STANDARD
TZOFFSETFROM:+0200
TZOFFSETTO:+0100
TZNAME:CET
DTSTART:20181028T010000
END:STANDARD
BEGIN:DAYLIGHT
TZOFFSETFROM:+0100
TZOFFSETTO:+0200
TZNAME:CEST
DTSTART:20190331T010000
END:DAYLIGHT
BEGIN:STANDARD
TZOFFSETFROM:+0200
TZOFFSETTO:+0100
TZNAME:CET
DTSTART:20191027T010000
END:STANDARD
BEGIN:DAYLIGHT
TZOFFSETFROM:+0100
TZOFFSETTO:+0200
TZNAME:CEST
DTSTART:20200329T010000
END:DAYLIGHT
BEGIN:STANDARD
TZOFFSETFROM:+0200
TZOFFSETTO:+0100
TZNAME:CET
DTSTART:20201025T010000
END:STANDARD
END:VTIMEZONE
BEGIN:VEVENT
DTSTART;VALUE=DATE:20191128
DTEND;VALUE=DATE:20191220
DTSTAMP:20260422T171927
CREATED:20191001T145523Z
LAST-MODIFIED:20191001T145637Z
UID:39276-1574899200-1576799999@www.ville-lunion.fr
SUMMARY:exposition AAPU - « Ombre et lumière »
DESCRIPTION:
URL:https://www.ville-lunion.fr/evenement/exposition-aapu-ombre-et-lumiere/
LOCATION:Bibliothèque de L’Union\, 6 Avenue de Toulouse\, 31240
CATEGORIES:Associations
ATTACH;FMTTYPE=image/jpeg:https://www.ville-lunion.fr/wp-content/uploads/2018/11/aapu.jpg
END:VEVENT
BEGIN:VEVENT
DTSTART;VALUE=DATE:20191206
DTEND;VALUE=DATE:20191208
DTSTAMP:20260422T171927
CREATED:20191119T125358Z
LAST-MODIFIED:20191125T110343Z
UID:39491-1575590400-1575763199@www.ville-lunion.fr
SUMMARY:TELETHON DE L’UNION 2019
DESCRIPTION:PROGRAMME   \nGRANDE HALLE  \nVENDREDI 6 DECEMBRE \n\n17 H 30 Début des festivités\n\nUne TOMBOLA et Vente de Pinces en Linge (GRANDE LESSIVE) durant ces 2 JOURS \n\nStands Associatifs\n\nStand photo par Union Images\nStand des Maquettistes\nStand du Bonsaï\nStand Neptunion 31\nStand des donneurs de sang\nStand Donner pour un sourire\nStand Passiflore (arbre magique création)\nStand Union Social Familiale\nStand Société Artistique des Groupes la Poste et Orange\nStand L’Union par la Terre\nStand Zonta club\nStand de la Pêche de L’Union (Inscription à la course/marche dossards 3€)\nStand du L.A.C (Vente de pinces à linges pour la Grande Lessive 2€)\nStand des A.L.A.E\nStand Animation\nStand TELETHON\n\n\nBric à Brac (vide grenier Téléthon)\n\n  \n\n17H30 Concert de Meldy Melody\n17H55 Discours d’ouverture\n18H00- 18H30 Chorale des enfants de l’Ecole Borde d’Olivier\n18H 35/19H30 Animation Musicale\nTOMBOLA Divers tirages\n20H00 REPAS\n21H Soirée LES ANNEES 80 Entrée 5€\n\n  \nSAMEDI 7 DECEMBRE \n TOMBOLA et Vente de Pinces en Linge (GRANDE LESSIVE)        \n  \n\n9H 00 Ouverture des activités proposées par les associations\nInscription à la course 3€\n10H00 Départ de la course/marche\n10h00 Démonstration de Country par Country Club L’Union\n11H00 Banda\n12H00 Etendage de la GRANDE LESSIVE accompagnée de la Banda\n14H00/15H00 Question pour un Champion animé par Mme CIURANA (foyer de la Halle)\n15h00/16H00 Animation par le quadrille Occitan (scène)\n16H00/17H30 (5€) Marathon de danse Tahitienne (scène) animée par Myriam et Heitiare (Ori Heitiare Tahiti)\n\nSoirée entrée 5€ (scène) \n\n20H00/21H15 Pièce de Théâtre par l’Association le Théâtre de L’Olivier\n21h30/23H00 Chorale de Castelmaurou\n\n  \n  \n  \n  \n  \n  \nINEDIT ! \nCette année\, grande lessive ! Le lâcher de ballon sera remplacé par un nouveau et grand défi « La grande lessive » ! \nNous proposons aux Unionais de venir sous la Grande Halle munis d’une paire de chaussettes qu’ils pourront accrocher à une corde en échange de l’achat d’une pince à linge (2€) .  L’achat de la pince à linge donnera droit également à la participation au tirage de la tombola. \nCette paire de chaussettes de toutes sortes sera  le symbole de la lutte contre les maladies génétiques qui bien souvent privent les enfants de la capacité à marcher. L’Union lancera ainsi le défi inédit en France de la plus grande guirlande de paires de chaussettes !  \n(A l’issue des journées Téléthon\, ces paires de chaussettes seront offertes à des associations\, crèches\, clubs sportifs…) \nVenez nombreux participer à notre grand défi ! \n  \nVenez courir et marcher pour le Téléthon ! \nSamedi 7 décembre \nDépart à 10h de la Grande Halle \nBoucle de 4km\, à\, effectuer autant de fois que vous le voulez ! \nBonne humeur garantie !
URL:https://www.ville-lunion.fr/evenement/telethon-de-lunion-2019/
LOCATION:Grande Halle de l’Union\, Rue du Somport\, L'Union\, 31240\, France
CATEGORIES:Associations
ATTACH;FMTTYPE=image/png:https://www.ville-lunion.fr/wp-content/uploads/2019/11/TELETHON-2019.png
END:VEVENT
BEGIN:VEVENT
DTSTART;TZID=Europe/Paris:20191207T160000
DTEND;TZID=Europe/Paris:20191207T173000
DTSTAMP:20260422T171927
CREATED:20191206T081431Z
LAST-MODIFIED:20191206T081431Z
UID:39592-1575734400-1575739800@www.ville-lunion.fr
SUMMARY:Téléthon - Marathon de danse tahitienne
DESCRIPTION:
URL:https://www.ville-lunion.fr/evenement/telethon-marathon-de-danse-tahitienne/
LOCATION:Grande Halle de l’Union\, Rue du Somport\, L'Union\, 31240\, France
CATEGORIES:Associations
END:VEVENT
END:VCALENDAR